Workbook

Sheet 転送用シート
AQ1: kakuken_2_001 | AR1: kakuken_2_002 | AS1: kakuken_2_003 | AT1: kakuken_2_004 | AU1: kakuken_2_005 | AV1: kakuken_2_006 | AW1: kakuken_2_007 | AX1: kakuken_2_008 | AY1: kakuken_2_009 | AZ1: kakuken_2_010 | BA1: kakuken_2_011 | BB1: kakuken_2_012 | BC1: kakuken_2_013 | BD1: kakuken_2_014 | BE1: kakuken_2_015 | BF1: kakuken_2_016 | BG1: kakuken_2_017 | BH1: kakuken_2_018 | BI1: kakuken_2_019 | BJ1: kakuken_2_020 | BK1: kakuken_2_021 | BL1: kakuken_2_022 | BM1: kakuken_2_023 | BN1: kakuken_2_024 | BO1: kakuken_2_025 | BP1: kakuken_2_026 | BQ1: kakuken_2_027 | BR1: kakuken_2_028 | BS1: kakuken_2_029 | BT1: kakuken_2_030 | BU1: kakuken_2_031 | BV1: kakuken_2_032 | BW1: kakuken_2_033 | BX1: kakuken_2_034 | BY1: kakuken_2_035 | BZ1: kakuken_2_036 | CA1: kakuken_2_037 | CB1: kakuken_2_038 | CC1: kakuken_2_039 | CD1: kakuken_2_040 | CE1: kakuken_2_041 | CF1: kakuken_2_042 | CG1: kakuken_2_043 | CH1: kakuken_2_044 | CI1: kakuken_2_045 | CJ1: kakuken_2_046 | CK1: kakuken_2_047 | CL1: kakuken_2_048 | CM1: kakuken_2_049 | CN1: kakuken_2_050 | CO1: kakuken_2_051 | CP1: kakuken_2_052 | CQ1: kakuken_2_053 | CR1: kakuken_2_054 | CS1: kakuken_2_055 | CT1: kakuken_2_056 | CU1: kakuken_2_057 | CV1: kakuken_2_058 | CW1: kakuken_2_059 | CX1: kakuken_2_060 | CY1: kakuken_2_061 | CZ1: kakuken_2_062 | DA1: kakuken_2_063 | DB1: kakuken_2_064 | DC1: kakuken_2_065 | DD1: kakuken_2_066 | DE1: kakuken_2_067 | DF1: kakuken_2_068 | DG1: kakuken_2_069 | DH1: kakuken_2_070 | DI1: kakuken_2_071 | DJ1: kakuken_2_072 | DK1: kakuken_2_073 | DL1: kakuken_2_074 | DM1: kakuken_2_075 | DN1: kakuken_2_076 | DO1: kakuken_2_077 | DP1: kakuken_2_078 | DQ1: kakuken_2_079 | DR1: kakuken_2_080 | DS1: kakuken_2_081 | DT1: kakuken_2_082 | DU1: kakuken_2_083 | DV1: kakuken_2_084 | DW1: kakuken_2_085 | DX1: kakuken_2_086 | DY1: kakuken_2_087 | DZ1: kakuken_2_088 | EA1: kakuken_2_089 | EB1: kakuken_2_090 | EC1: kakuken_2_091 | ED1: kakuken_2_092 | EE1: kakuken_2_093 | EF1: kakuken_2_094 | EG1: kakuken_2_095 | EH1: kakuken_2_096 | EI1: kakuken_2_097 | EJ1: kakuken_2_098 | EK1: kakuken_2_099 | EL1: kakuken_2_100 | EM1: kakuken_2_101 | EN1: kakuken_2_102 | EO1: kakuken_3_001 | EP1: kakuken_3_002 | EQ1: kakuken_3_003 | ER1: kakuken_3_004 | ES1: kakuken_3_005 | ET1: kakuken_3_006 | EU1: kakuken_3_007 | EV1: kakuken_3_008 | EW1: kakuken_3_009 | EX1: kakuken_3_010 | EY1: kakuken_3_011 | EZ1: kakuken_3_012 | FA1: kakuken_3_013 | FB1: kakuken_3_014 | FC1: kakuken_3_015 | FD1: kakuken_3_016 | FE1: kakuken_3_017 | FF1: kakuken_3_018 | FG1: kakuken_3_019 | FH1: kakuken_3_020 | FI1: kakuken_3_021 | FJ1: kakuken_3_022 | FK1: kakuken_3_023 | FL1: kakuken_3_024 | FM1: kakuken_3_025 | FN1: kakuken_3_026 | FO1: kakuken_3_027 | FP1: kakuken_3_028 | FQ1: kakuken_3_029 | FR1: kakuken_3_030 | FS1: kakuken_3_031 | FT1: kakuken_3_032 | FU1: kakuken_3_033 | FV1: kakuken_3_034 | FW1: kakuken_3_035 | FX1: kakuken_3_036 | FY1: kakuken_3_037 | FZ1: kakuken_3_038 | GA1: kakuken_3_039 | GB1: kakuken_3_040 | GC1: kakuken_3_041 | GD1: kakuken_3_042 | GE1: kakuken_3_043 | GF1: kakuken_3_044 | GG1: kakuken_3_045 | GH1: kakuken_3_046 | GI1: kakuken_3_047 | GJ1: kakuken_3_048 | GK1: kakuken_3_049 | GL1: kakuken_3_117 | GM1: kakuken_3_118 | GN1: kakuken_3_119 | GO1: kakuken_3_050 | GP1: kakuken_3_051 | GQ1: kakuken_3_052 | GR1: kakuken_3_053 | GS1: kakuken_3_054 | GT1: kakuken_3_055 | GU1: kakuken_3_056 | GV1: kakuken_3_057 | GW1: kakuken_3_058 | GX1: kakuken_3_059 | GY1: kakuken_3_060 | GZ1: kakuken_3_061 | HA1: kakuken_3_062 | HB1: kakuken_3_120 | HC1: kakuken_3_121 | HD1: kakuken_3_122 | HE1: kakuken_3_063 | HF1: kakuken_3_064 | HG1: kakuken_3_065 | HH1: kakuken_3_066 | HI1: kakuken_3_067 | HJ1: kakuken_3_068 | HK1: kakuken_3_069 | HL1: kakuken_3_070 | HM1: kakuken_3_071 | HN1: kakuken_3_072 | HO1: kakuken_3_073 | HP1: kakuken_3_074 | HQ1: kakuken_3_075 | HR1: kakuken_3_076 | HS1: kakuken_3_077 | HT1: kakuken_3_078 | HU1: kakuken_3_079 | HV1: kakuken_3_080 | HW1: kakuken_3_123 | HX1: kakuken_3_124 | HY1: kakuken_3_125 | HZ1: kakuken_3_081 | IA1: kakuken_3_082 | IB1: kakuken_3_083 | IC1: kakuken_3_084 | ID1: kakuken_3_085 | IE1: kakuken_3_086 | IF1: kakuken_3_087 | IG1: kakuken_3_088 | IH1: kakuken_3_089 | II1: kakuken_3_090 | IJ1: kakuken_3_091 | IK1: kakuken_3_092 | IL1: kakuken_3_093 | IM1: kakuken_3_094 | IN1: kakuken_3_095 | IO1: kakuken_3_096 | IP1: kakuken_3_097 | IQ1: kakuken_3_098 | IR1: kakuken_3_099 | IS1: kakuken_3_100 | IT1: kakuken_3_101 | IU1: kakuken_3_102 | IV1: kakuken_3_103 | IW1: kakuken_3_104 | IX1: kakuken_3_105 | IY1: kakuken_3_106 | IZ1: kakuken_3_107 | JA1: kakuken_3_108 | JB1: kakuken_3_109 | JC1: kakuken_3_110 | JD1: kakuken_3_111 | JE1: kakuken_3_112 | JF1: kakuken_3_113 | JG1: kakuken_3_114 | JH1: kakuken_3_115 | JI1: kakuken_3_116 | JJ1: kakuken_4_001 | JK1: kakuken_4_002 | JL1: kakuken_4_003 | JM1: kakuken_4_004 | JN1: kakuken_4_005 | JO1: kakuken_4_006 | JP1: kakuken_4_007 | JQ1: kakuken_4_008 | JR1: kakuken_4_009 | JS1: kakuken_4_010 | JT1: kakuken_4_011 | JU1: kakuken_4_012 | JV1: kakuken_4_013 | JW1: kakuken_4_014 | JX1: kakuken_4_015 | JY1: kakuken_4_016 | JZ1: kakuken_4_017 | KA1: kakuken_4_018 | KB1: kakuken_4_019 | KC1: kakuken_4_020 | KD1: kakuken_4_021 | KE1: kakuken_4_022 | KF1: kakuken_4_023 | KG1: kakuken_4_024 | KH1: kakuken_4_025 | KI1: kakuken_4_026 | KJ1: kakuken_4_027 | KK1: kakuken_4_028 | KL1: kakuken_4_029 | KM1: kakuken_4_030 | KN1: kakuken_4_031 | KO1: kakuken_4_032 | KP1: kakuken_4_033 | KQ1: kakuken_4_034 | KR1: kakuken_4_035 | KS1: kakuken_4_036 | KT1: kakuken_4_037 | KU1: kakuken_4_038 | KV1: kakuken_4_039 | KW1: kakuken_4_040 | KX1: kakuken_4_041 | KY1: kakuken_4_042 | KZ1: kakuken_4_043 | LA1: kakuken_4_044 | LB1: kakuken_4_045 | LC1: kakuken_4_046 | LD1: kakuken_4_047 | LE1: kakuken_4_048 | LF1: kakuken_4_049 | LG1: kakuken_4_050 | LH1: kakuken_4_051 | LI1: kakuken_4_052 | LJ1: kakuken_4_053 | LK1: kakuken_4_054 | LL1: kakuken_4_055 | LM1: kakuken_4_056 | LN1: kakuken_4_057 | LO1: kakuken_4_058 | LP1: kakuken_4_059 | LQ1: kakuken_4_060 | LR1: kakuken_4_061 | LS1: kakuken_4_062 | LT1: kakuken_4_063 | LU1: kakuken_4_064 | LV1: kakuken_4_065 | LW1: kakuken_4_066 | LX1: kakuken_4_067 | LY1: kakuken_4_068 | LZ1: kakuken_4_069 | MA1: kakuken_4_070 | MB1: kakuken_4_071 | MC1: kakuken_4_072 | MD1: kakuken_4_073 | ME1: kakuken_4_074 | MF1: kakuken_4_075 | MG1: kakuken_4_076 | MH1: kakuken_4_077 | MI1: kakuken_4_078 | MJ1: kakuken_4_079 | MK1: kakuken_4_080 | ML1: kakuken_4_081 | MM1: kakuken_4_082 | MN1: kakuken_4_083 | MO1: kakuken_4_084 | MP1: kakuken_4_085 | MQ1: kakuken_4_086 | MR1: kakuken_4_087 | MS1: kakuken_4_088 | MT1: kakuken_4_089 | MU1: kakuken_5_001 | MV1: kakuken_5_002 | MW1: kakuken_5_003 | MX1: kakuken_5_004 | MY1: kakuken_5_005 | MZ1: kakuken_5_006 | NA1: kakuken_5_007 | NB1: kakuken_5_008 | NC1: kakuken_5_009 | ND1: kakuken_5_010 | NE1: kakuken_5_011 | NF1: kakuken_5_012 | NG1: kakuken_5_013 | NH1: kakuken_5_014 | NI1: kakuken_5_015 | NJ1: kakuken_5_016 | NK1: kakuken_5_017 | NL1: kakuken_5_018 | NM1: kakuken_5_019 | NN1: kakuken_5_020 | NO1: kakuken_5_021 | NP1: kakuken_5_022 | NQ1: kakuken_5_023 | NR1: kakuken_5_024 | NS1: kakuken_5_025 | NT1: kakuken_5_026 | NU1: kakuken_5_027 | NV1: kakuken_6_001 | NW1: kakuken_6_002 | NX1: kakuken_6_003 | NY1: kakuken_6_004 | NZ1: kakuken_6_005 | OA1: kakuken_6_006 | OB1: kakuken_6_007 | OC1: kakuken_6_008 | OD1: kakuken_6_009 | OE1: kakuken_6_010 | OF1: kakuken_6_011 | OG1: kakuken_6_012 | OH1: kakuken_6_013 | OI1: kakuken_6_014 | OJ1: kakuken_6_015 | OK1: entry_ken121 | OL1: entry_ken123
B2: 手続種別 | C2: 手続主体 | D2: 区分 | E2: 申請内容 | F2: 申請対象 | G2: 手数料支払方法 | H2: データ登録会社名 | I2: 手続き担当者 | J2: 連絡先電話番号 | K2: 連絡先E-Mail | L2: 物件所在地エリア | M2: 物件所在地市町村 | N2: 建築主氏名 | O2: 地名地番 | P2: 主要用途 | Q2: 延べ面積 | R2: 申請先 | S2: 申請方法 | T2: 状態 | U2: 申請ID | V2: データ登録年月日 | W2: 受付番号 | X2: 受理（申請）年月日 | Y2: 処分番号 | Z2: 処分年月日 | AA2: 処分通知 | AB2: 副本返却年月日 | AC2: 報告者 | AD2: 報告番号 | AE2: 審査・検査の結果 | AF2: 確認検査員氏名 | AG2: 確認証等番号 | AH2: 確認証等交付日 | AI2: 構造計算判定結果 | AJ2: 構造計算通知番号 | AK2: 構造計算通知交付日 | AL2: 構造計算通知交付者 | AM2: 検査引受日 | AN2: 特記事項 | AO2: 建築計画概要書第三面ファイル名 | AP2: 紐付け申請の確認済証等の番号（処分番号） | AQ2: 第2面:建築主／イ．氏名のフリガナ | AR2: 第2面:建築主／ロ．氏名 | AS2: 第2面:建築主／ハ．郵便番号 | AT2: 第2面:建築主／ニ．住所 | AU2: 第2面:建築主／ホ．電話番号 | AV2: 第2面:代理者／イ．資格（種別） | AW2: 第2面:代理者／イ．資格（登録先） | AX2: 第2面:代理者／イ．資格（番号） | AY2: 第2面:代理者／ロ．氏名 | AZ2: 第2面:代理者／ハ．建築士事務所名（種別） | BA2: 第2面:代理者／ハ．建築士事務所名（登録） | BB2: 第2面:代理者／ハ．建築士事務所名（番号） | BC2: 第2面:代理者／ハ．建築士事務所名（名称） | BD2: 第2面:代理者／ニ．郵便番号 | BE2: 第2面:代理者／ホ．所在地 | BF2: 第2面:代理者／ヘ．電話番号 | BG2: 第2面:設計者（代表となる設計者）／イ．資格（種別） | BH2: 第2面:設計者（代表となる設計者）／イ．資格（登録先） | BI2: 第2面:設計者（代表となる設計者）／イ．資格（番号） | BJ2: 第2面:設計者（代表となる設計者）／ロ．氏名 | BK2: 第2面:設計者（代表となる設計者）／ハ．建築士事務所名（種別） | BL2: 第2面:設計者（代表となる設計者）／ハ．建築士事務所名（登録） | BM2: 第2面:設計者（代表となる設計者）／ハ．建築士事務所名（番号） | BN2: 第2面:設計者（代表となる設計者）／ハ．建築士事務所名（名称） | BO2: 第2面:設計者（代表となる設計者）／ニ．郵便番号 | BP2: 第2面:設計者（代表となる設計者）／ホ．所在地 | BQ2: 第2面:設計者（代表となる設計者）／ヘ．電話番号 | BR2: 第2面:設計者（代表となる設計者）／ト．作成又は確認した設計図書 | BS2: 第2面:設計者（その他の設計者）／イ．資格（種別） | BT2: 第2面:設計者（その他の設計者）／イ．資格（登録先） | BU2: 第2面:設計者（その他の設計者）／イ．資格（番号） | BV2: 第2面:設計者（その他の設計者）／ロ．氏名 | BW2: 第2面:設計者（その他の設計者）／ハ．建築士事務所名（種別） | BX2: 第2面:設計者（その他の設計者）／ハ．建築士事務所名（登録） | BY2: 第2面:設計者（その他の設計者）／ハ．建築士事務所名（番号） | BZ2: 第2面:設計者（その他の設計者）／ハ．建築士事務所名（名称） | CA2: 第2面:設計者（その他の設計者）／ニ．郵便番号 | CB2: 第2面:設計者（その他の設計者）／ホ．所在地 | CC2: 第2面:設計者（その他の設計者）／ヘ．電話番号 | CD2: 第2面:設計者（その他の設計者）／ト．作成又は確認した設計図書 | CE2: 第2面:設計者（構造設計一級建築士又は設備設計一級建築士である旨の表示をした者）／建築士法第20条の2第1項の表示をした者（有無） | CF2: 第2面:設計者（構造設計一級建築士又は設備設計一級建築士である旨の表示をした者）／建築士法第20条の2第1項の表示をした者（イ．氏名） | CG2: 第2面:設計者（構造設計一級建築士又は設備設計一級建築士である旨の表示をした者）／建築士法第20条の2第1項の表示をした者（ロ．資格） | CH2: 第2面:設計者（構造設計一級建築士又は設備設計一級建築士である旨の表示をした者）／建築士法第20条の2第3項の表示をした者（有無） | CI2: 第2面:設計者（構造設計一級建築士又は設備設計一級建築士である旨の表示をした者）／建築士法第20条の2第3項の表示をした者（イ．氏名） | CJ2: 第2面:設計者（構造設計一級建築士又は設備設計一級建築士である旨の表示をした者）／建築士法第20条の2第3項の表示をした者（ロ．資格） | CK2: 第2面:設計者（構造設計一級建築士又は設備設計一級建築士である旨の表示をした者）／建築士法第20条の3第1項の表示をした者（有無） | CL2: 第2面:設計者（構造設計一級建築士又は設備設計一級建築士である旨の表示をした者）／建築士法第20条の3第1項の表示をした者（イ．氏名） | CM2: 第2面:設計者（構造設計一級建築士又は設備設計一級建築士である旨の表示をした者）／建築士法第20条の3第1項の表示をした者（ロ．資格） | CN2: 第2面:設計者（構造設計一級建築士又は設備設計一級建築士である旨の表示をした者）／建築士法第20条の3第3項の表示をした者（有無） | CO2: 第2面:設計者（構造設計一級建築士又は設備設計一級建築士である旨の表示をした者）／建築士法第20条の3第3項の表示をした者（イ．氏名） | CP2: 第2面:設計者（構造設計一級建築士又は設備設計一級建築士である旨の表示をした者）／建築士法第20条の3第3項の表示をした者（ロ．資格） | CQ2: 第2面:建築設備の設計に関し意見を聴いた者（代表となる建築設備の設計に関し意見を聴いた者）／イ．氏名 | CR2: 第2面:建築設備の設計に関し意見を聴いた者（代表となる建築設備の設計に関し意見を聴いた者）／ロ．勤務先 | CS2: 第2面:建築設備の設計に関し意見を聴いた者（代表となる建築設備の設計に関し意見を聴いた者）／ハ．郵便番号 | CT2: 第2面:建築設備の設計に関し意見を聴いた者（代表となる建築設備の設計に関し意見を聴いた者）／ニ．所在地 | CU2: 第2面:建築設備の設計に関し意見を聴いた者（代表となる建築設備の設計に関し意見を聴いた者）／ホ．電話番号 | CV2: 第2面:建築設備の設計に関し意見を聴いた者（代表となる建築設備の設計に関し意見を聴いた者）／ヘ．登録番号 | CW2: 第2面:建築設備の設計に関し意見を聴いた者（代表となる建築設備の設計に関し意見を聴いた者）／ト．意見を聴いた設計図書 | CX2: 第2面:建築設備の設計に関し意見を聴いた者（その他の建築設備の設計に関し意見を聴いた者）／イ．氏名 | CY2: 第2面:建築設備の設計に関し意見を聴いた者（その他の建築設備の設計に関し意見を聴いた者）／ロ．勤務先 | CZ2: 第2面:建築設備の設計に関し意見を聴いた者（その他の建築設備の設計に関し意見を聴いた者）／ハ．郵便番号 | DA2: 第2面:建築設備の設計に関し意見を聴いた者（その他の建築設備の設計に関し意見を聴いた者）／ニ．所在地 | DB2: 第2面:建築設備の設計に関し意見を聴いた者（その他の建築設備の設計に関し意見を聴いた者）／ホ．電話番号 | DC2: 第2面:建築設備の設計に関し意見を聴いた者（その他の建築設備の設計に関し意見を聴いた者）／ヘ．登録番号 | DD2: 第2面:建築設備の設計に関し意見を聴いた者（その他の建築設備の設計に関し意見を聴いた者）／ト．意見を聴いた設計図書 | DE2: 第2面:工事監理者（代表となる工事監理者）／イ．資格（種別） | DF2: 第2面:工事監理者（代表となる工事監理者）／イ．資格（登録先） | DG2: 第2面:工事監理者（代表となる工事監理者）／イ．資格（番号） | DH2: 第2面:工事監理者（代表となる工事監理者）／ロ．氏名 | DI2: 第2面:工事監理者（代表となる工事監理者）／ハ．建築士事務所名（種別） | DJ2: 第2面:工事監理者（代表となる工事監理者）／ハ．建築士事務所名（登録） | DK2: 第2面:工事監理者（代表となる工事監理者）／ハ．建築士事務所名（番号） | DL2: 第2面:工事監理者（代表となる工事監理者）／ハ．建築士事務所名（名称） | DM2: 第2面:工事監理者（代表となる工事監理者）／ニ．郵便番号 | DN2: 第2面:工事監理者（代表となる工事監理者）／ホ．所在地 | DO2: 第2面:工事監理者（代表となる工事監理者）／ヘ．電話番号 | DP2: 第2面:工事監理者（代表となる工事監理者）／ト．工事と照合する設計図書 | DQ2: 第2面:工事監理者（その他の工事監理者）／イ．資格（種別） | DR2: 第2面:工事監理者（その他の工事監理者）／イ．資格（登録先） | DS2: 第2面:工事監理者（その他の工事監理者）／イ．資格（番号） | DT2: 第2面:工事監理者（その他の工事監理者）／ロ．氏名 | DU2: 第2面:工事監理者（その他の工事監理者）／ハ．建築士事務所名（種別） | DV2: 第2面:工事監理者（その他の工事監理者）／ハ．建築士事務所名（登録） | DW2: 第2面:工事監理者（その他の工事監理者）／ハ．建築士事務所名（番号） | DX2: 第2面:工事監理者（その他の工事監理者）／ハ．建築士事務所名（名称） | DY2: 第2面:工事監理者（その他の工事監理者）／ニ．郵便番号 | DZ2: 第2面:工事監理者（その他の工事監理者）／ホ．所在地 | EA2: 第2面:工事監理者（その他の工事監理者）／ヘ．電話番号 | EB2: 第2面:工事監理者（その他の工事監理者）／ト．工事と照合する設計図書 | EC2: 第2面:工事施工者／イ．氏名 | ED2: 第2面:工事施工者／ロ．営業所名（登録） | EE2: 第2面:工事施工者／ロ．営業所名（番号） | EF2: 第2面:工事施工者／ロ．営業所名（名称） | EG2: 第2面:工事施工者／ハ．郵便番号 | EH2: 第2面:工事施工者／ニ．所在地 | EI2: 第2面:工事施工者／ホ．電話番号 | EJ2: 第2面:構造計算適合性判定の申請／申請状況 | EK2: 第2面:構造計算適合性判定の申請／申請先 | EL2: 第2面:建築物エネルギー消費性能確保計画の提出／提出状況 | EM2: 第2面:建築物エネルギー消費性能確保計画の提出／提出先若しくは提出不要の理由 | EN2: 第2面:備考／備考 | EO2: 第3面:地名地番／地名地番 | EP2: 第3面:住居表示／住居表示 | EQ2: 第3面:都市計画区域及び準都市計画区域の内外の別等／都市計画区域内 | ER2: 第3面:都市計画区域及び準都市計画区域の内外の別等／市街化区域 | ES2: 第3面:都市計画区域及び準都市計画区域の内外の別等／市街化調整区域 | ET2: 第3面:都市計画区域及び準都市計画区域の内外の別等／区域区分非設定 | EU2: 第3面:都市計画区域及び準都市計画区域の内外の別等／準都市計画区域内 | EV2: 第3面:都市計画区域及び準都市計画区域の内外の別等／都市計画区域及び準都市計画区域外 | EW2: 第3面:防火地域／ | EX2: 第3面:その他の区域、地域、地区又は街区／指定内容 | EY2: 第3面:道路／イ．幅員 | EZ2: 第3面:道路／ロ．敷地と接している部分の長さ | FA2: 第3面:敷地面積／イ．敷地面積（1）1 | FB2: 第3面:敷地面積／イ．敷地面積（1）2 | FC2: 第3面:敷地面積／イ．敷地面積（1）3 | FD2: 第3面:敷地面積／イ．敷地面積（1）4 | FE2: 第3面:敷地面積／イ．敷地面積（2）1 | FF2: 第3面:敷地面積／イ．敷地面積（2）2 | FG2: 第3面:敷地面積／イ．敷地面積（2）3 | FH2: 第3面:敷地面積／イ．敷地面積（2）4 | FI2: 第3面:敷地面積／ロ．用途地域等1 | FJ2: 第3面:敷地面積／ロ．用途地域等2 | FK2: 第3面:敷地面積／ロ．用途地域等3 | FL2: 第3面:敷地面積／ロ．用途地域等4 | FM2: 第3面:敷地面積／ハ．建築基準法第52条第1項及び第2項の規定による建築物の容積率1 | FN2: 第3面:敷地面積／ハ．建築基準法第52条第1項及び第2項の規定による建築物の容積率2 | FO2: 第3面:敷地面積／ハ．建築基準法第52条第1項及び第2項の規定による建築物の容積率3 | FP2: 第3面:敷地面積／ハ．建築基準法第52条第1項及び第2項の規定による建築物の容積率4 | FQ2: 第3面:敷地面積／ニ．建築基準法第53条第1項の規定による建築物の建蔽率1 | FR2: 第3面:敷地面積／ニ．建築基準法第53条第1項の規定による建築物の建蔽率2 | FS2: 第3面:敷地面積／ニ．建築基準法第53条第1項の規定による建築物の建蔽率3 | FT2: 第3面:敷地面積／ニ．建築基準法第53条第1項の規定による建築物の建蔽率4 | FU2: 第3面:敷地面積／ホ．敷地面積の合計（1） | FV2: 第3面:敷地面積／ホ．敷地面積の合計（2） | FW2: 第3面:敷地面積／ヘ．敷地に建築可能な延べ面積を敷地面積で除した数値 | FX2: 第3面:敷地面積／ト．敷地に建築可能な建築面積を敷地面積で除した数値 | FY2: 第3面:敷地面積／チ．備考 | FZ2: 第3面:主要用途／区分 | GA2: 第3面:主要用途／内容 | GB2: 第3面:工事種別／新築 | GC2: 第3面:工事種別／増築 | GD2: 第3面:工事種別／改築 | GE2: 第3面:工事種別／移転 | GF2: 第3面:工事種別／用途変更 | GG2: 第3面:工事種別／大規模の修繕 | GH2: 第3面:工事種別／大規模の模様替 | GI2: 第3面:建築面積／イ．建築面積（申請部分） | GJ2: 第3面:建築面積／イ．建築面積（申請以外の部分） | GK2: 第3面:建築面積／イ．建築面積（合計） | GL2: 第3面:建築面積／ロ．建蔽率の算定の基礎となる建築面積(申請部分) | GM2: 第3面:建築面積／ロ．建蔽率の算定の基礎となる建築面積(申請以外の部分) | GN2: 第3面:建築面積／ロ．建蔽率の算定の基礎となる建築面積(合計) | GO2: 第3面:建築面積／ハ．建蔽率 | GP2: 第3面:延べ面積／イ．建築物全体（申請部分） | GQ2: 第3面:延べ面積／イ．建築物全体（申請以外の部分） | GR2: 第3面:延べ面積／イ．建築物全体（合計） | GS2: 第3面:延べ面積／ロ．地階の住宅又は老人ホーム等の部分（申請部分） | GT2: 第3面:延べ面積／ロ．地階の住宅又は老人ホーム等の部分（申請以外の部分） | GU2: 第3面:延べ面積／ロ．地階の住宅又は老人ホーム等の部分（合計） | GV2: 第3面:延べ面積／ハ．エレベーターの昇降路の部分（申請部分） | GW2: 第3面:延べ面積／ハ．エレベーターの昇降路の部分（申請以外の部分） | GX2: 第3面:延べ面積／ハ．エレベーターの昇降路の部分（合計） | GY2: 第3面:延べ面積／ニ．共同住宅又は老人ホーム等の共用の廊下等の部分（申請部分） | GZ2: 第3面:延べ面積／ニ．共同住宅又は老人ホーム等の共用の廊下等の部分（申請以外の部分） | HA2: 第3面:延べ面積／ニ．共同住宅又は老人ホーム等の共用の廊下等の部分（合計） | HB2: 第3面:延べ面積／ホ．認定機械室等の部分（申請部分） | HC2: 第3面:延べ面積／ホ．認定機械室等の部分（申請以外の部分） | HD2: 第3面:延べ面積／ホ．認定機械室等の部分（合計） | HE2: 第3面:延べ面積／ヘ．自動車車庫等の部分（申請部分） | HF2: 第3面:延べ面積／ホ．自動車車庫等の部分（申請以外の部分） | HG2: 第3面:延べ面積／ホ．自動車車庫等の部分（合計） | HH2: 第3面:延べ面積／ヘ．備蓄倉庫の部分（申請部分） | HI2: 第3面:延べ面積／ヘ．備蓄倉庫の部分（申請以外の部分） | HJ2: 第3面:延べ面積／ヘ．備蓄倉庫の部分（合計） | HK2: 第3面:延べ面積／ト．蓄電池の設置部分（申請部分） | HL2: 第3面:延べ面積／ト．蓄電池の設置部分（申請以外の部分） | HM2: 第3面:延べ面積／ト．蓄電池の設置部分（合計） | HN2: 第3面:延べ面積／チ．自家発電設備の設置部分（申請部分） | HO2: 第3面:延べ面積／チ．自家発電設備の設置部分（申請以外の部分） | HP2: 第3面:延べ面積／チ．自家発電設備の設置部分（合計） | HQ2: 第3面:延べ面積／リ.貯水槽の設置部分（申請部分） | HR2: 第3面:延べ面積／リ.貯水槽の設置部分（申請以外の部分） | HS2: 第3面:延べ面積／リ.貯水槽の設置部分（合計） | HT2: 第3面:延べ面積／ヌ.宅配ボックスの設置部分（申請部分） | HU2: 第3面:延べ面積／ヌ.宅配ボックスの設置部分（申請以外の部分） | HV2: 第3面:延べ面積／ヌ.宅配ボックスの設置部分（合計） | HW2: 第3面:延べ面積／ヲ．その他の不算入部分（申請部分） | HX2: 第3面:延べ面積／ヲ．その他の不算入部分（申請以外の部分） | HY2: 第3面:延べ面積／ヲ．その他の不算入部分（合計） | HZ2: 第3面:延べ面積／ル.住宅の部分（申請部分） | IA2: 第3面:延べ面積／ル.住宅の部分（申請以外の部分） | IB2: 第3面:延べ面積／ル.住宅の部分（合計） | IC2: 第3面:延べ面積／ヲ.老人ホーム等の部分（申請部分） | ID2: 第3面:延べ面積／ヲ.老人ホーム等の部分（申請以外の部分） | IE2: 第3面:延べ面積／ヲ.老人ホーム等の部分（合計） | IF2: 第3面:延べ面積／ワ.延べ面積 | IG2: 第3面:延べ面積／カ.容積率 | IH2: 第3面:建築物の数／イ.申請に係る建築物の数 | II2: 第3面:建築物の数／ロ.同一敷地内の他の建築物の数 | IJ2: 第3面:建築物の高さ等／イ.最高の高さ（申請に係る建築物） | IK2: 第3面:建築物の高さ等／イ.最高の高さ（他の建築物） | IL2: 第3面:建築物の高さ等／ロ.階数地上（申請に係る建築物） | IM2: 第3面:建築物の高さ等／ロ.階数地上（他の建築物） | IN2: 第3面:建築物の高さ等／ロ.階数地下（申請に係る建築物） | IO2: 第3面:建築物の高さ等／ロ.階数地下（他の建築物） | IP2: 第3面:建築物の高さ等／ハ.構造（主たる部分） | IQ2: 第3面:建築物の高さ等／ハ.構造（従たる部分） | IR2: 第3面:建築物の高さ等／ニ.建築基準法第56条第7項の規定による特例の適用の有無 | IS2: 第3面:建築物の高さ等／ホ.特例の区分（通路高さ制限不適用） | IT2: 第3面:建築物の高さ等／ホ.特例の区分（隣地高さ制限不適用） | IU2: 第3面:建築物の高さ等／ホ.特例の区分（北側高さ制限不適用） | IV2: 第3面:許可・認定等／ | IW2: 第3面:工事着手予定年月日／年月日 | IX2: 第3面:工事完了予定年月日／年月日 | IY2: 第3面:特定工程工事終了予定年月日（1）／回数 | IZ2: 第3面:特定工程工事終了予定年月日（1）／年月日 | JA2: 第3面:特定工程工事終了予定年月日（1）／特定工程（内容） | JB2: 第3面:特定工程工事終了予定年月日（2）／回数 | JC2: 第3面:特定工程工事終了予定年月日（2）／年月日 | JD2: 第3面:特定工程工事終了予定年月日（2）／特定工程（内容） | JE2: 第3面:特定工程工事終了予定年月日（3）／回数 | JF2: 第3面:特定工程工事終了予定年月日（3）／年月日 | JG2: 第3面:特定工程工事終了予定年月日（3）／特定工程（内容） | JH2: 第3面:その他必要な事項／ | JI2: 第3面:備考／ | JJ2: 第4面:番号／ | JK2: 第4面:用途1／区分 | JL2: 第4面:用途1／内容 | JM2: 第4面:用途2／区分 | JN2: 第4面:用途2／内容 | JO2: 第4面:用途3／区分 | JP2: 第4面:用途3／内容 | JQ2: 第4面:用途4／区分 | JR2: 第4面:用途4／内容 | JS2: 第4面:工事種別／新築 | JT2: 第4面:工事種別／増築 | JU2: 第4面:工事種別／改築 | JV2: 第4面:工事種別／移転 | JW2: 第4面:工事種別／用途変更 | JX2: 第4面:工事種別／大規模の修繕 | JY2: 第4面:工事種別／大規模の模様替 | JZ2: 第4面:構造／主たる部分 | KA2: 第4面:構造／従たる部分 | KB2: 第4面:主要構造部／ | KC2: 第4面:建築基準法第21条及び第27条の規定の適用／ | KD2: 第4面:建築基準法第61条の規定の適用／ | KE2: 第4面:階数／イ.地階を除く階数 | KF2: 第4面:階数／ロ.地階の階数 | KG2: 第4面:階数／ハ.昇降機塔等の階の数 | KH2: 第4面:階数／ニ.地階の倉庫等の階の数 | KI2: 第4面:高さ／イ.最高の高さ | KJ2: 第4面:高さ／ロ.最高の軒の高さ | KK2: 第4面:建築設備の種類／ | KL2: 第4面:確認の特例／イ.建築基準法第6条の3第1項ただし書又は法第18条第4項ただし書の規定による審査の特例の適用の有無 | KM2: 第4面:確認の特例／ロ.建築基準法第6条の4第1項の規定による確認の特例の適用の有無 | KN2: 第4面:確認の特例／ハ.建築基準法施行令第10条各号に掲げる建築物の区分 | KO2: 第4面:確認の特例／ニ.認定型式の認定番号 | KP2: 第4面:確認の特例／ホ.適合する一連の規定の区分（建築基準法施行令第136条の2の11第1号イ） | KQ2: 第4面:確認の特例／ホ.適合する一連の規定の区分（建築基準法施行令第136条の2の11第1号ロ） | KR2: 第4面:確認の特例／ヘ.認証型式部材等の認定番号 | KS2: 第4面:床面積1／イ.階別（階） | KT2: 第4面:床面積1／イ.階別（申請部分） | KU2: 第4面:床面積1／イ.階別（申請以外の部分） | KV2: 第4面:床面積1／イ.階別（合計） | KW2: 第4面:床面積2／イ.階別（階） | KX2: 第4面:床面積2／イ.階別（申請部分） | KY2: 第4面:床面積2／イ.階別（申請以外の部分） | KZ2: 第4面:床面積2／イ.階別（合計） | LA2: 第4面:床面積3／イ.階別（階） | LB2: 第4面:床面積3／イ.階別（申請部分） | LC2: 第4面:床面積3／イ.階別（申請以外の部分） | LD2: 第4面:床面積3／イ.階別（合計） | LE2: 第4面:床面積4／イ.階別（階） | LF2: 第4面:床面積4／イ.階別（申請部分） | LG2: 第4面:床面積4／イ.階別（申請以外の部分） | LH2: 第4面:床面積4／イ.階別（合計） | LI2: 第4面:床面積5／イ.階別（階） | LJ2: 第4面:床面積5／イ.階別（申請部分） | LK2: 第4面:床面積5／イ.階別（申請以外の部分） | LL2: 第4面:床面積5／イ.階別（合計） | LM2: 第4面:床面積6／イ.階別（階） | LN2: 第4面:床面積6／イ.階別（申請部分） | LO2: 第4面:床面積6／イ.階別（申請以外の部分） | LP2: 第4面:床面積6／イ.階別（合計） | LQ2: 第4面:床面積7／イ.階別（階） | LR2: 第4面:床面積7／イ.階別（申請部分） | LS2: 第4面:床面積7／イ.階別（申請以外の部分） | LT2: 第4面:床面積7／イ.階別（合計） | LU2: 第4面:床面積8／イ.階別（階） | LV2: 第4面:床面積8／イ.階別（申請部分） | LW2: 第4面:床面積8／イ.階別（申請以外の部分） | LX2: 第4面:床面積8／イ.階別（合計） | LY2: 第4面:床面積9／イ.階別（階） | LZ2: 第4面:床面積9／イ.階別（申請部分） | MA2: 第4面:床面積9／イ.階別（申請以外の部分） | MB2: 第4面:床面積9／イ.階別（合計） | MC2: 第4面:床面積10／イ.階別（階） | MD2: 第4面:床面積10／イ.階別（申請部分） | ME2: 第4面:床面積10／イ.階別（申請以外の部分） | MF2: 第4面:床面積10／イ.階別（合計） | MG2: 第4面:床面積11／イ.階別（階） | MH2: 第4面:床面積11／イ.階別（申請部分） | MI2: 第4面:床面積11／イ.階別（申請以外の部分） | MJ2: 第4面:床面積11／イ.階別（合計） | MK2: 第4面:床面積（合計）／ロ.合計（申請部分面積） | ML2: 第4面:床面積（合計）／ロ.合計（申請以外の部分面積） | MM2: 第4面:床面積（合計）／ロ.合計（合計面積） | MN2: 第4面:屋根／ | MO2: 第4面:外壁／ | MP2: 第4面:軒裏／ | MQ2: 第4面:居室の床の高さ／ | MR2: 第4面:便所の種類／ | MS2: 第4面:その他必要な事項／ | MT2: 第4面:備考／ | MU2: 第5面:番号／ | MV2: 第5面:階／ | MW2: 第5面:柱の小径／ | MX2: 第5面:横架材間の垂直距離／ | MY2: 第5面:階の高さ／ | MZ2: 第5面:天井／イ.居室の天井の高さ | NA2: 第5面:天井／ロ.建築基準法施行令第39条第3項に規定する特定天井 | NB2: 第5面:用途別床面積／イ.用途の区分 | NC2: 第5面:用途別床面積／イ.具体的な用途の名称 | ND2: 第5面:用途別床面積／イ.床面積 | NE2: 第5面:用途別床面積／ロ.用途の区分 | NF2: 第5面:用途別床面積／ロ.具体的な用途の名称 | NG2: 第5面:用途別床面積／ロ.床面積 | NH2: 第5面:用途別床面積／ハ.用途の区分 | NI2: 第5面:用途別床面積／ハ.具体的な用途の名称 | NJ2: 第5面:用途別床面積／ハ.床面積 | NK2: 第5面:用途別床面積／二.用途の区分 | NL2: 第5面:用途別床面積／二.具体的な用途の名称 | NM2: 第5面:用途別床面積／二.床面積 | NN2: 第5面:用途別床面積／ホ.用途の区分 | NO2: 第5面:用途別床面積／ホ.具体的な用途の名称 | NP2: 第5面:用途別床面積／ホ.床面積 | NQ2: 第5面:用途別床面積／へ.用途の区分 | NR2: 第5面:用途別床面積／へ.具体的な用途の名称 | NS2: 第5面:用途別床面積／へ.床面積 | NT2: 第5面:その他必要な事項／ | NU2: 第5面:備考／ | NV2: 第6面:番号／ | NW2: 第6面:延べ面積／ | NX2: 第6面:建築物の高さ等／イ.最高の高さ | NY2: 第6面:建築物の高さ等／ロ.最高の軒の高さ | NZ2: 第6面:建築物の高さ等／ハ.階数（地上） | OA2: 第6面:建築物の高さ等／ハ.階数（地下） | OB2: 第6面:建築物の高さ等／ニ.構造（主たる部分） | OC2: 第6面:建築物の高さ等／ニ.構造（従たる部分） | OD2: 第6面:特定構造計算基準又は特定増改築構造計算基準の別／ | OE2: 第6面:構造計算の区分／ | OF2: 第6面:構造計算に用いたプログラム／イ.名称 | OG2: 第6面:構造計算に用いたプログラム／ロ.区分 | OH2: 第6面:構造計算に用いたプログラム／大臣認定番号 | OI2: 第6面:建築基準法施行令第137条の2各号に定める基準の区分／ | OJ2: 第6面:備考／ | OK2: 建築計画概要書（第二面）:18.建築基準法第12条第１項の規定による調査の要否 | OL2: 建築計画概要書（第二面）:19.建築基準法第12条第3項の規定による検査を要する防火設備の有無
A3: v2.1 | AQ3: =第二面!G4&"" -> 2_1 | AR3: =第二面!G5&"" -> 2_2 | AS3: =第二面!G6&"" -> 2_3 | AT3: =第二面!G7&"" -> 2_4 | AU3: =第二面!G8&"" -> 2_5 | AV3: =第二面!E10&"" -> 2_6 | AW3: =第二面!M10&"" -> 2_7 | AX3: =第二面!T10&"" -> 2_8 | AY3: =第二面!E11&"" -> 2_9 | AZ3: =第二面!H12&"" -> 2_10 | BA3: =第二面!N12&"" -> 2_11 | BB3: =第二面!U12&"" -> 2_12 | BC3: =第二面!E13&"" -> 2_13 | BD3: =第二面!F14&"" -> 2_14 | BE3: =第二面!F15&"" -> 2_15 | BF3: =第二面!F17&"" -> 2_16 | BG3: =第二面!E20&"" -> 2_17 | BH3: =第二面!M20&"" -> 2_18 | BI3: =第二面!T20&"" -> 2_19 | BJ3: =第二面!E21&"" -> 2_20 | BK3: =第二面!H22&"" -> 2_21 | BL3: =第二面!N22&"" -> 2_22 | BM3: =第二面!U22&"" -> 2_23 | BN3: =第二面!E23&"" -> 2_24 | BO3: =第二面!F24&"" -> 2_25 | BP3: =第二面!F25&"" -> 2_26 | BQ3: =第二面!F27&"" -> 2_27 | BR3: =第二面!J28&"" -> 2_28 | BS3: =第二面!E30&"" -> 2_29 | BT3: =第二面!M30&"" -> 2_30 | BU3: =第二面!T30&"" -> 2_31 | BV3: =第二面!E31&"" -> 2_32 | BW3: =第二面!H32&"" -> 2_33 | BX3: =第二面!N32&"" -> 2_34 | BY3: =第二面!U32&"" -> 2_35 | BZ3: =第二面!E33&"" -> 2_36 | CA3: =第二面!F34&"" -> 2_37 | CB3: =第二面!F35&"" -> 2_38 | CC3: =第二面!F37&"" -> 2_39 | CD3: =第二面!J38&"" -> 2_40 | CE3: =IF(第二面!A61="☑","有り","無し")&"" -> 有り | CF3: =第二面!K62&"" -> 2_65 | CG3: =第二面!K63&"" -> 2_66 | CH3: =IF(第二面!A64="☑","有り","無し")&"" -> 有り | CI3: =第二面!K65&"" -> 2_67 | CJ3: =第二面!K66&"" -> 2_68 | CK3: =IF(第二面!A67="☑","有り","無し")&"" -> 有り | CL3: =第二面!K68&"" -> 2_69 | CM3: =第二面!K69&"" -> 2_70 | CN3: =IF(第二面!A74="☑","有り","無し")&"" -> 有り | CO3: =第二面!K75&"" -> 2_75 | CP3: =第二面!K76&"" -> 2_76 | CQ3: =第二面!E85&"" -> 2_81 | CR3: =第二面!E86&"" -> 2_82 | CS3: =第二面!F87&"" -> 2_83 | CT3: =第二面!E88&"" -> 2_84 | CU3: =第二面!E89&"" -> 2_85 | CV3: =第二面!E90&"" -> 2_86 | CW3: =第二面!H91&"" -> 2_87 | CX3: =第二面!E93&"" -> 2_88 | CY3: =第二面!E94&"" -> 2_89 | CZ3: =第二面!F95&"" -> 2_90 | DA3: =第二面!E96&"" -> 2_91 | DB3: =第二面!E97&"" -> 2_92 | DC3: =第二面!E98&"" -> 2_93 | DD3: =第二面!H99&"" -> 2_94 | DE3: =第二面!E119&"" -> 2_109 | DF3: =第二面!M119&"" -> 2_110 | DG3: =第二面!T119&"" -> 2_111 | DH3: =第二面!E120&"" -> 2_112 | DI3: =第二面!H121&"" -> 2_113 | DJ3: =第二面!N121&"" -> 2_114 | DK3: =第二面!U121&"" -> 2_115 | DL3: =第二面!E122&"" -> 2_116 | DM3: =第二面!F123&"" -> 2_117 | DN3: =第二面!F124&"" -> 2_118 | DO3: =第二面!F126&"" -> 2_119 | DP3: =第二面!J127&"" -> 2_120 | DQ3: =第二面!E129&"" -> 2_121 | DR3: =第二面!M129&"" -> 2_122 | DS3: =第二面!T129&"" -> 2_123 | DT3: =第二面!E130&"" -> 2_124 | DU3: =第二面!H131&"" -> 2_125 | DV3: =第二面!N131&"" -> 2_126 | DW3: =第二面!U131&"" -> 2_127 | DX3: =第二面!E132&"" -> 2_128 | DY3: =第二面!F133&"" -> 2_129 | DZ3: =第二面!F134&"" -> 2_130 | EA3: =第二面!F136&"" -> 2_131 | EB3: =第二面!J137&"" -> 2_132 | EC3: =第二面!E161&"" -> 2_157 | ED3: =第二面!I162&"" -> 2_158 | EE3: =第二面!P162&"" -> 2_159 | EF3: =第二面!E163&"" -> 2_160 | EG3: =第二面!F164&"" -> 2_161 | EH3: =第二面!F165&"" -> 2_162 | EI3: =第二面!F167&"" -> 2_163 | EJ3: =IF(第二面!A171="☑","申請済",IF(第二面!A172="☑","未申請",IF(第二面!A173="☑","申請不要","")))&"" -> 申請済 | EK3: =IF(第二面!A171="☑",第二面!E171,IF(第二面!A172="☑",第二面!E172,""))&"" -> 2_164 | EL3: =IF(第二面!A178="☑","提出済",IF(第二面!A179="☑","未提出",IF(第二面!A180="☑","提出不要","")))&"" -> 提出済 | EM3: =IF(第二面!A178="☑",第二面!E178,IF(第二面!A179="☑",第二面!E179,IF(第二面!A180="☑",第二面!E180,"")))&"" -> 2_166 | EN3: =第二面!B184&"" -> 2_169 | EO3: =第三面!E3&"" -> 3_1 | EP3: =第三面!E4&"" -> 3_2 | EQ3: =IF(第三面!C6="☑","ON","")&"" -> ON | ER3: =IF(第三面!I6="☑","ON","")&"" -> ON | ES3: =IF(第三面!N6="☑","ON","")&"" -> ON | ET3: =IF(第三面!T6="☑","ON","")&"" -> ON | EU3: =IF(第三面!C7="☑","ON","")&"" -> ON | EV3: =IF(第三面!K7="☑","ON","")&"" -> ON | EW3: =IF(第三面!G8="☑","防火地域",IF(第三面!L8="☑","準防火地域",IF(第三面!Q8="☑","指定なし","")))&"" -> 防火地域 | EX3: =第三面!K9&"" -> 3_3 | EY3: =第三面!E11&"" -> 3_4 | EZ3: =第三面!K12&"" -> 3_5 | FA3: =第三面!F14&"" -> 306 | FB3: =第三面!K14&"" -> 307 | FC3: =第三面!P14&"" -> 308 | FD3: =第三面!U14&"" -> 309 | FE3: =第三面!F15&"" -> 310 | FF3: =第三面!K15&"" -> 311 | FG3: =第三面!P15&"" -> 312 | FH3: =第三面!U15&"" -> 313 | FI3: =第三面!F16&"" -> 3_14 | FJ3: =第三面!K16&"" -> 3_15 | FK3: =第三面!P16&"" -> 3_16 | FL3: =第三面!U16&"" -> 3_17 | FM3: =第三面!F18&"" -> 318 | FN3: =第三面!K18&"" -> 319 | FO3: =第三面!P18&"" -> 320 | FP3: =第三面!U18&"" -> 321 | FQ3: =第三面!F20&"" -> 322 | FR3: =第三面!K20&"" -> 323 | FS3: =第三面!P20&"" -> 324 | FT3: =第三面!U20&"" -> 325 | FU3: =第三面!H21&"" -> 1230 | FV3: =第三面!H22&"" -> 1246 | FW3: =第三面!P23&"" -> 3_26 | FX3: =第三面!P24&"" -> 3_27 | FY3: =第三面!D25&"" -> 3_28 | FZ3: =第三面!G26&"" -> 3_29 | GA3: =第三面!L26&"" -> 3_30 | GB3: =IF(第三面!A28="☑","ON","")&"" -> ON | GC3: =IF(第三面!D28="☑","ON","")&"" -> ON | GD3: =IF(第三面!G28="☑","ON","")&"" -> ON | GE3: =IF(第三面!J28="☑","ON","")&"" -> ON | GF3: =IF(第三面!M28="☑","ON","")&"" -> ON | GG3: =IF(第三面!Q28="☑","ON","")&"" -> ON | GH3: =IF(第三面!U28="☑","ON","")&"" -> ON | GI3: =第三面!G30&"" -> 331 | GJ3: =第三面!M30&"" -> 332 | GK3: =第三面!T30&"" -> 663 | GL3: =第三面!G32&"" -> 333 | GM3: =第三面!M32&"" -> 334 | GN3: =第三面!T32&"" -> 667 | GO3: =第三面!E33&"" -> 335 | GP3: =第三面!H35&"" -> 336 | GQ3: =第三面!N35&"" -> 337 | GR3: =第三面!T35&"" -> 673 | GS3: =第三面!H37&"" -> 338 | GT3: =第三面!N37&"" -> 339 | GU3: =第三面!T37&"" -> 677 | GV3: =第三面!H39&"" -> 340 | GW3: =第三面!N39&"" -> 341 | GX3: =第三面!T39&"" -> 681 | GY3: =第三面!H41&"" -> 342 | GZ3: =第三面!N41&"" -> 343 | HA3: =第三面!T41&"" -> 685 | HB3: =第三面!H42&"" -> 344 | HC3: =第三面!N42&"" -> 345 | HD3: =第三面!T42&"" -> 689 | HE3: =第三面!H43&"" -> 346 | HF3: =第三面!N43&"" -> 347 | HG3: =第三面!T43&"" -> 693 | HH3: =第三面!H44&"" -> 348 | HI3: =第三面!N44&"" -> 349 | HJ3: =第三面!T44&"" -> 697 | HK3: =第三面!H45&"" -> 350 | HL3: =第三面!N45&"" -> 351 | HM3: =第三面!T45&"" -> 701 | HN3: =第三面!H47&"" -> 352 | HO3: =第三面!N47&"" -> 353 | HP3: =第三面!T47&"" -> 705 | HQ3: =第三面!H48&"" -> 354 | HR3: =第三面!N48&"" -> 355 | HS3: =第三面!T48&"" -> 709 | HT3: =第三面!H50&"" -> 356 | HU3: =第三面!N50&"" -> 357 | HV3: =第三面!T50&"" -> 713 | HW3: =第三面!H51&"" -> 358 | HX3: =第三面!N51&"" -> 359 | HY3: =第三面!T51&"" -> 717 | HZ3: =第三面!H52&"" -> 360 | IA3: =第三面!N52&"" -> 361 | IB3: =第三面!T52&"" -> 721 | IC3: =第三面!H54&"" -> 362 | ID3: =第三面!N54&"" -> 363 | IE3: =第三面!T54&"" -> 725 | IF3: =第三面!H55&"" -> 364 | IG3: =第三面!H56&"" -> 365 | IH3: =第三面!J61&"" -> 3_66 | II3: =第三面!J62&"" -> 3_67 | IJ3: =第三面!H64&"" -> 3_68 | IK3: =第三面!N64&"" -> 3_69 | IL3: =第三面!H65&"" -> 3_70 | IM3: =第三面!N65&"" -> 3_71 | IN3: =第三面!H66&"" -> 3_72 | IO3: =第三面!N66&"" -> 3_73 | IP3: =第三面!D67&"" -> 3_74 | IQ3: =第三面!L67&"" -> 3_75 | IR3: =IF(第三面!R68="☑","有り",IF(第三面!U68="☑","無し",""))&"" -> 有り | IS3: =IF(第三面!B70="☑","ON","")&"" -> ON | IT3: =IF(第三面!I70="☑","ON","")&"" -> ON | IU3: =IF(第三面!P70="☑","ON","")&"" -> ON | IV3: =第三面!B73&"" -> 3_76 | IW3: =IF(ISERROR(IW4),"",IW4) -> 45598 | IX3: =IF(ISERROR(IX4),"",IX4) -> 45599 | IY3: =第三面!C77&"" -> 77 | IZ3: =IF(ISERROR(IZ4),"",IZ4) -> 45600 | JA3: =第三面!O77&"" -> 3_78 | JB3: =第三面!C78&"" -> 79 | JC3: =IF(ISERROR(JC4),"",JC4) -> 45601 | JD3: =第三面!O78&"" -> 3_80 | JE3: =第三面!C79&"" -> 81 | JF3: =IF(ISERROR(JF4),"",JF4) -> 45602 | JG3: =第三面!O79&"" -> 3_82 | JH3: =第三面!B82&"" -> 3_83 | JI3: =第三面!B85&"" -> 3_84 | JJ3: =第四面!F3&"" -> 4_1 | JK3: =第四面!F4&"" -> 4_2 | JL3: =第四面!K4&"" -> 4_3 | JM3: =第四面!F5&"" -> 4_4 | JN3: =第四面!K5&"" -> 4_5 | JO3: =第四面!F6&"" -> 4_6 | JP3: =第四面!K6&"" -> 4_7 | JQ3: =第四面!F7&"" -> 4_8 | JR3: =第四面!K7&"" -> 4_9 | JS3: =IF(第四面!A9="☑","ON","")&"" -> ON | JT3: =IF(第四面!D9="☑","ON","")&"" -> ON | JU3: =IF(第四面!G9="☑","ON","")&"" -> ON | JV3: =IF(第四面!J9="☑","ON","")&"" -> ON | JW3: =IF(第四面!M9="☑","ON","")&"" -> ON | JX3: =IF(第四面!Q9="☑","ON","")&"" -> ON | JY3: =IF(第四面!U9="☑","ON","")&"" -> ON | JZ3: =第四面!D10&"" -> 4_10 | KA3: =第四面!L10&"" -> 4_11 | KB3: =IF(第四面!B12="☑","耐火構造",IF(第四面!B13="☑","建築基準法施行令第108条の3第1項第1号イ及びロに掲げる基準に適合する構造",IF(第四面!B14="☑","準耐火構造",IF(第四面!B15="☑","準耐火構造と同等の準耐火性能を有する構造（ロ-1）",IF(第四面!B16="☑","準耐火構造と同等の準耐火性能を有する構造（ロ-2）",IF(第四面!B17="☑","その他",""))))))&"" -> 耐火構造 | KC3: =IF(第四面!B19="☑","建築基準法施行令第109条の5第1号に掲げる基準に適合する構造",IF(第四面!B20="☑","建築基準法第21条第1項ただし書きに該当する建築物",IF(第四面!B21="☑","建築基準法施行令第110条第1号に掲げる基準に適合する構造",IF(第四面!B22="☑","その他",IF(第四面!B23="☑","建築基準法第21条又は第27条の規定の適用を受けない","")))))&"" -> 建築基準法施行令第109条の5第1号に掲げる基準に適合する構造 | KD3: =IF(第四面!B25="☑","耐火建築物",IF(第四面!B26="☑","延焼防止建築物",IF(第四面!B27="☑","準耐火建築物",IF(第四面!B28="☑","準延焼防止建築物",IF(第四面!B29="☑","その他",IF(第四面!B30="☑","建築基準法第61条の規定の適用を受けない",""))))))&"" -> 耐火建築物 | KE3: =第四面!H32&"" -> 4_12 | KF3: =第四面!H33&"" -> 4_13 | KG3: =第四面!H34&"" -> 4_14 | KH3: =第四面!H35&"" -> 4_15 | KI3: =第四面!H37&"" -> 4_16 | KJ3: =第四面!H38&"" -> 4_17 | KK3: =第四面!G39&"" -> 4_18 | KL3: =IF(第四面!C42="☑","有り",IF(第四面!F42="☑","無し",""))&"" -> 有り | KM3: =IF(第四面!S43="☑","有り",IF(第四面!V43="☑","無し",""))&"" -> 有り | KN3: =第四面!M45&"" -> 4_19 | KO3: =第四面!M46&"" -> 4_20 | KP3: =IF(第四面!B48="☑","ON","")&"" -> ON | KQ3: =IF(第四面!B49="☑","ON","")&"" -> ON | KR3: =第四面!C51&"" -> 4_21 | KS3: =第四面!E53&"" -> 22 | KT3: =第四面!H53&"" -> 423 | KU3: =第四面!N53&"" -> 424 | KV3: =第四面!T53&"" -> 847 | KW3: =第四面!E54&"" -> 25 | KX3: =第四面!H54&"" -> 426 | KY3: =第四面!N54&"" -> 427 | KZ3: =第四面!T54&"" -> 853 | LA3: =第四面!E55&"" -> 28 | LB3: =第四面!H55&"" -> 429 | LC3: =第四面!N55&"" -> 430 | LD3: =第四面!T55&"" -> 859 | LE3: =第四面!E56&"" -> 31 | LF3: =第四面!H56&"" -> 432 | LG3: =第四面!N56&"" -> 433 | LH3: =第四面!T56&"" -> 865 | LI3: =第四面!E57&"" -> 34 | LJ3: =第四面!H57&"" -> 435 | LK3: =第四面!N57&"" -> 436 | LL3: =第四面!T57&"" -> 871 | LM3: =第四面!E58&"" -> 37 | LN3: =第四面!H58&"" -> 438 | LO3: =第四面!N58&"" -> 439 | LP3: =第四面!T58&"" -> 877 | LQ3: =第四面!E59&"" -> 40 | LR3: =第四面!H59&"" -> 441 | LS3: =第四面!N59&"" -> 442 | LT3: =第四面!T59&"" -> 883 | LU3: =第四面!E60&"" -> 43 | LV3: =第四面!H60&"" -> 444 | LW3: =第四面!N60&"" -> 445 | LX3: =第四面!T60&"" -> 889 | LY3: =第四面!E61&"" -> 46 | LZ3: =第四面!H61&"" -> 447 | MA3: =第四面!N61&"" -> 448 | MB3: =第四面!T61&"" -> 895 | MC3: =第四面!E62&"" -> 49 | MD3: =第四面!H62&"" -> 450 | ME3: =第四面!N62&"" -> 451 | MF3: =第四面!T62&"" -> 901 | MG3: =第四面!E63&"" -> 52 | MH3: =第四面!H63&"" -> 453 | MI3: =第四面!N63&"" -> 454 | MJ3: =第四面!T63&"" -> 907 | MK3: =第四面!H64&"" -> 4818 | ML3: =第四面!N64&"" -> 4829 | MM3: =第四面!T64&"" -> 9647 | MN3: =第四面!H65&"" -> 4_55 | MO3: =第四面!H66&"" -> 4_56 | MP3: =第四面!H67&"" -> 4_57 | MQ3: =第四面!H68&"" -> 4_58 | MR3: =第四面!H69&"" -> 4_59 | MS3: =第四面!H70&"" -> 4_60 | MT3: =第四面!B73&"" -> 4_61 | MU3: =第五面!F3&"" -> 5_1 | MV3: =第五面!F4&"" -> 5_2 | MW3: =第五面!F5&"" -> 5_3 | MX3: =第五面!H6&"" -> 5_4 | MY3: =第五面!H7&"" -> 5_5 | MZ3: =第五面!H9&"" -> 5_6 | NA3: =IF(第五面!P10="☑","有り",IF(第五面!S10="☑","無し",""))&"" -> 有り | NB3: =第五面!E14&"" -> 5_7 | NC3: =第五面!L14&"" -> 5_8 | ND3: =第五面!S14&"" -> 509 | NE3: =第五面!E15&"" -> 5_10 | NF3: =第五面!L15&"" -> 5_11 | NG3: =第五面!S15&"" -> 512 | NH3: =第五面!E16&"" -> 5_13 | NI3: =第五面!L16&"" -> 5_14 | NJ3: =第五面!S16&"" -> 515 | NK3: =第五面!E17&"" -> 5_16 | NL3: =第五面!L17&"" -> 5_17 | NM3: =第五面!S17&"" -> 518 | NN3: =第五面!E18&"" -> 5_19 | NO3: =第五面!L18&"" -> 5_20 | NP3: =第五面!S18&"" -> 521 | NQ3: =第五面!E19&"" -> 5_22 | NR3: =第五面!L19&"" -> 5_23 | NS3: =第五面!S19&"" -> 524 | NT3: =第五面!H20&"" -> 5_25 | NU3: =第五面!B23&"" -> 5_26 | NV3: =第六面!F3&"" -> 6_1 | NW3: =第六面!F4&"" -> 602 | NX3: =第六面!G6&"" -> 6_3 | NY3: =第六面!G7&"" -> 6_4 | NZ3: =第六面!H8&"" -> 6_5 | OA3: =第六面!P8&"" -> 6_6 | OB3: =第六面!D9&"" -> 6_7 | OC3: =第六面!L9&"" -> 6_8 | OD3: =IF(第六面!B11="☑","特定構造計算基準",IF(第六面!B12="☑","特定増改築構造計算基準",""))&"" -> 特定構造計算基準 | OE3: =IF(第六面!B14="☑","建築基準法施行令第81条第1項各号に掲げる基準に従つた構造計算",IF(第六面!B15="☑","建築基準法施行令第81条第2項第1号イに掲げる構造計算",IF(第六面!B16="☑","建築基準法施行令第81条第2項第1号ロに掲げる構造計算",IF(第六面!B17="☑","建築基準法施行令第81条第2項第2号イに掲げる構造計算",IF(第六面!B18="☑","建築基準法施行令第81条第3項に掲げる構造計算","")))))&"" -> 建築基準法施行令第81条第1項各号に掲げる基準に従つた構造計算 | OF3: =第六面!D20&"" -> 6_9 | OG3: =IF(第六面!B22="☑","建築基準法第20条第1項第2号イ又は第3号イの認定を受けたプログラム",IF(第六面!B24="☑","その他のプログラム",""))&"" -> 建築基準法第20条第1項第2号イ又は第3号イの認定を受けたプログラム | OH3: =第六面!F23&"" -> 6_10 | OI3: =第六面!C26&"" -> 6_11 | OJ3: =第六面!B29&"" -> 6_12 | OK3: =IF('建築計画概要書（第二面）'!B82="☑","1",IF('建築計画概要書（第二面）'!E82="☑","2",""))&"" -> 1 | OL3: =IF('建築計画概要書（第二面）'!B85="☑","1",IF('建築計画概要書（第二面）'!E85="☑","2",""))&"" -> 1
AQ4: ='第二面 (建築主追加)'!G4&"" -> 2;1 | AR4: ='第二面 (建築主追加)'!G5&"" -> 2;2 | AS4: ='第二面 (建築主追加)'!G6&"" -> 2;3 | AT4: ='第二面 (建築主追加)'!G7&"" -> 2;4 | AU4: ='第二面 (建築主追加)'!G8&"" -> 2;5 | BS4: =第二面!E40&"" -> 2_41 | BT4: =第二面!M40&"" -> 2_42 | BU4: =第二面!T40&"" -> 2_43 | BV4: =第二面!E41&"" -> 2_44 | BW4: =第二面!H42&"" -> 2_45 | BX4: =第二面!N42&"" -> 2_46 | BY4: =第二面!U42&"" -> 2_47 | BZ4: =第二面!E43&"" -> 2_48 | CA4: =第二面!F44&"" -> 2_49 | CB4: =第二面!F45&"" -> 2_50 | CC4: =第二面!F47&"" -> 2_51 | CD4: =第二面!J48&"" -> 2_52 | CF4: ='第二面 (構造、設備一級の表示者追加)'!K7&"" -> 2;65 | CG4: ='第二面 (構造、設備一級の表示者追加)'!K8&"" -> 2;66 | CI4: ='第二面 (構造、設備一級の表示者追加)'!K26&"" -> 2;67 | CJ4: ='第二面 (構造、設備一級の表示者追加)'!K27&"" -> 2;68 | CL4: =第二面!K70&"" -> 2_71 | CM4: =第二面!K71&"" -> 2_72 | CO4: =第二面!K77&"" -> 2_77 | CP4: =第二面!K78&"" -> 2_78 | CX4: =第二面!E101&"" -> 2_95 | CY4: =第二面!E102&"" -> 2_96 | CZ4: =第二面!F103&"" -> 2_97 | DA4: =第二面!E104&"" -> 2_98 | DB4: =第二面!E105&"" -> 2_99 | DC4: =第二面!E106&"" -> 2_100 | DD4: =第二面!H107&"" -> 2_101 | DQ4: =第二面!E139&"" -> 2_133 | DR4: =第二面!M139&"" -> 2_134 | DS4: =第二面!T139&"" -> 2_135 | DT4: =第二面!E140&"" -> 2_136 | DU4: =第二面!H141&"" -> 2_137 | DV4: =第二面!N141&"" -> 2_138 | DW4: =第二面!U141&"" -> 2_139 | DX4: =第二面!E142&"" -> 2_140 | DY4: =第二面!F143&"" -> 2_141 | DZ4: =第二面!F144&"" -> 2_142 | EA4: =第二面!F146&"" -> 2_143 | EB4: =第二面!J147&"" -> 2_144 | EC4: ='第二面 (工事施工者追加)'!E4&"" -> 2;157 | ED4: ='第二面 (工事施工者追加)'!I5&"" -> 2;158 | EE4: ='第二面 (工事施工者追加)'!P5&"" -> 2;159 | EF4: ='第二面 (工事施工者追加)'!E6&"" -> 2;160 | EG4: ='第二面 (工事施工者追加)'!F7&"" -> 2;161 | EH4: ='第二面 (工事施工者追加)'!F8&"" -> 2;162 | EI4: ='第二面 (工事施工者追加)'!F10&"" -> 2;163 | EJ4: =第二面!A171&"" -> ☑ | EK4: =第二面!E171&"" -> 2_164 | EL4: =第二面!A178&"" -> ☑ | EM4: =第二面!E178&"" -> 2_166 | EQ4: =第三面!C6&"" -> ☑ | ER4: =第三面!I6&"" -> ☑ | ES4: =第三面!N6&"" -> ☑ | ET4: =第三面!T6&"" -> ☑ | EU4: =第三面!C7&"" -> ☑ | EV4: =第三面!K7&"" -> ☑ | EW4: =第三面!G8&"" -> ☑ | GB4: =第三面!A28&"" -> ☑ | GC4: =第三面!D28&"" -> ☑ | GD4: =第三面!G28&"" -> ☑ | GE4: =第三面!J28&"" -> ☑ | GF4: =第三面!M28&"" -> ☑ | GG4: =第三面!Q28&"" -> ☑ | GH4: =第三面!U28&"" -> ☑ | IR4: =第三面!R68&"" -> ☑ | IS4: =第三面!B70&"" -> ☑ | IT4: =第三面!I70&"" -> ☑ | IU4: =第三面!P70&"" -> ☑ | IW4: =DATE(第三面!H74,第三面!M74,第三面!P74) -> 45598 | IX4: =DATE(第三面!H75,第三面!M75,第三面!P75) -> 45599 | IZ4: =DATE(第三面!F77,第三面!J77,第三面!L77) -> 45600 | JC4: =DATE(第三面!F78,第三面!J78,第三面!L78) -> 45601 | JF4: =DATE(第三面!F79,第三面!J79,第三面!L79) -> 45602 | JJ4: ='第四面 (2)'!F3&"" | JK4: ='第四面 (2)'!F4&"" | JL4: ='第四面 (2)'!K4&"" | JM4: ='第四面 (2)'!F5&"" | JN4: ='第四面 (2)'!K5&"" | JO4: ='第四面 (2)'!F6&"" | JP4: ='第四面 (2)'!K6&"" | JQ4: ='第四面 (2)'!F7&"" | JR4: ='第四面 (2)'!K7&"" | JS4: =IF('第四面 (2)'!A9="☑","ON","")&"" | JT4: =IF('第四面 (2)'!D9="☑","ON","")&"" | JU4: =IF('第四面 (2)'!G9="☑","ON","")&"" | JV4: =IF('第四面 (2)'!J9="☑","ON","")&"" | JW4: =IF('第四面 (2)'!M9="☑","ON","")&"" | JX4: =IF('第四面 (2)'!Q9="☑","ON","")&"" | JY4: =IF('第四面 (2)'!U9="☑","ON","")&"" | JZ4: ='第四面 (2)'!D10&"" | KA4: ='第四面 (2)'!L10&"" | KB4: =IF('第四面 (2)'!B12="☑","耐火構造",IF('第四面 (2)'!B13="☑","建築基準法施行令第108条の3第1項第1号イ及びロに掲げる基準に適合する構造",IF('第四面 (2)'!B14="☑","準耐火構造",IF('第四面 (2)'!B15="☑","準耐火構造と同等の準耐火性能を有する構造（ロ-1）",IF('第四面 (2)'!B16="☑","準耐火構造と同等の準耐火性能を有する構造（ロ-2）",IF('第四面 (2)'!B17="☑","その他",""))))))&"" | KC4: =IF('第四面 (2)'!B19="☑","建築基準法施行令第109条の5第1号に掲げる基準に適合する構造",IF('第四面 (2)'!B20="☑","建築基準法第21条第1項ただし書きに該当する建築物",IF('第四面 (2)'!B21="☑","建築基準法施行令第110条第1号に掲げる基準に適合する構造",IF('第四面 (2)'!B22="☑","その他",IF('第四面 (2)'!B23="☑","建築基準法第21条又は第27条の規定の適用を受けない","")))))&"" | KD4: =IF('第四面 (2)'!B25="☑","耐火建築物",IF('第四面 (2)'!B26="☑","延焼防止建築物",IF('第四面 (2)'!B27="☑","準耐火建築物",IF('第四面 (2)'!B28="☑","準延焼防止建築物",IF('第四面 (2)'!B29="☑","その他",IF('第四面 (2)'!B30="☑","建築基準法第61条の規定の適用を受けない",""))))))&"" | KE4: ='第四面 (2)'!H32&"" | KF4: ='第四面 (2)'!H33&"" | KG4: ='第四面 (2)'!H34&"" | KH4: ='第四面 (2)'!H35&"" | KI4: ='第四面 (2)'!H37&"" | KJ4: ='第四面 (2)'!H38&"" | KK4: ='第四面 (2)'!G39&"" | KL4: =IF('第四面 (2)'!C42="☑","有り",IF('第四面 (2)'!F42="☑","無し",""))&"" | KM4: =IF('第四面 (2)'!S43="☑","有り",IF('第四面 (2)'!V43="☑","無し",""))&"" | KN4: ='第四面 (2)'!M45&"" | KO4: ='第四面 (2)'!M46&"" | KP4: =IF('第四面 (2)'!B48="☑","ON","")&"" | KQ4: =IF('第四面 (2)'!B49="☑","ON","")&"" | KR4: ='第四面 (2)'!C51&"" | KS4: ='第四面 (2)'!E53&"" | KT4: ='第四面 (2)'!H53&"" | KU4: ='第四面 (2)'!N53&"" | KV4: ='第四面 (2)'!T53&"" -> 0 | KW4: ='第四面 (2)'!E54&"" | KX4: ='第四面 (2)'!H54&"" | KY4: ='第四面 (2)'!N54&"" | KZ4: ='第四面 (2)'!T54&"" -> 0 | LA4: ='第四面 (2)'!E55&"" | LB4: ='第四面 (2)'!H55&"" | LC4: ='第四面 (2)'!N55&"" | LD4: ='第四面 (2)'!T55&"" -> 0 | LE4: ='第四面 (2)'!E56&"" | LF4: ='第四面 (2)'!H56&"" | LG4: ='第四面 (2)'!N56&"" | LH4: ='第四面 (2)'!T56&"" -> 0 | LI4: ='第四面 (2)'!E57&"" | LJ4: ='第四面 (2)'!H57&"" | LK4: ='第四面 (2)'!N57&"" | LL4: ='第四面 (2)'!T57&"" -> 0 | LM4: ='第四面 (2)'!E58&"" | LN4: ='第四面 (2)'!H58&"" | LO4: ='第四面 (2)'!N58&"" | LP4: ='第四面 (2)'!T58&"" -> 0 | LQ4: ='第四面 (2)'!E59&"" | LR4: ='第四面 (2)'!H59&"" | LS4: ='第四面 (2)'!N59&"" | LT4: ='第四面 (2)'!T59&"" -> 0 | LU4: ='第四面 (2)'!E60&"" | LV4: ='第四面 (2)'!H60&"" | LW4: ='第四面 (2)'!N60&"" | LX4: ='第四面 (2)'!T60&"" -> 0 | LY4: ='第四面 (2)'!E61&"" | LZ4: ='第四面 (2)'!H61&"" | MA4: ='第四面 (2)'!N61&"" | MB4: ='第四面 (2)'!T61&"" -> 0 | MC4: ='第四面 (2)'!E62&"" | MD4: ='第四面 (2)'!H62&"" | ME4: ='第四面 (2)'!N62&"" | MF4: ='第四面 (2)'!T62&"" -> 0 | MG4: ='第四面 (2)'!E63&"" | MH4: ='第四面 (2)'!H63&"" | MI4: ='第四面 (2)'!N63&"" | MJ4: ='第四面 (2)'!T63&"" -> 0 | MK4: ='第四面 (2)'!H64&"" -> 0 | ML4: ='第四面 (2)'!N64&"" -> 0 | MM4: ='第四面 (2)'!T64&"" -> 0 | MN4: ='第四面 (2)'!H65&"" | MO4: ='第四面 (2)'!H66&"" | MP4: ='第四面 (2)'!H67&"" | MQ4: ='第四面 (2)'!H68&"" | MR4: ='第四面 (2)'!H69&"" | MS4: ='第四面 (2)'!H70&"" | MT4: ='第四面 (2)'!B73&"" | MU4: =第五面!F27&"" -> 5_27 | MV4: =第五面!F28&"" -> 5_28 | MW4: =第五面!F29&"" -> 5_29 | MX4: =第五面!H30&"" -> 5_30 | MY4: =第五面!H31&"" -> 5_31 | MZ4: =第五面!H33&"" -> 5_32 | NA4: =IF(第五面!P34="☑","有り",IF(第五面!S34="☑","無し",""))&"" -> 有り | NB4: =第五面!E38&"" -> 5_33 | NC4: =第五面!L38&"" -> 5_34 | ND4: =第五面!S38&"" -> 535 | NE4: =第五面!E39&"" -> 5_36 | NF4: =第五面!L39&"" -> 5_37 | NG4: =第五面!S39&"" -> 538 | NH4: =第五面!E40&"" -> 5_39 | NI4: =第五面!L40&"" -> 5_40 | NJ4: =第五面!S40&"" -> 541 | NK4: =第五面!E41&"" -> 5_42 | NL4: =第五面!L41&"" -> 5_43 | NM4: =第五面!S41&"" -> 544 | NN4: =第五面!E42&"" -> 5_45 | NO4: =第五面!L42&"" -> 5_46 | NP4: =第五面!S42&"" -> 547 | NQ4: =第五面!E43&"" -> 5_48 | NR4: =第五面!L43&"" -> 5_49 | NS4: =第五面!S43&"" -> 550 | NT4: =第五面!H44&"" -> 5_51 | NU4: =第五面!B47&"" -> 5_52 | NV4: =第六面!F32&"" -> 6_13 | NW4: =第六面!F33&"" -> 614 | NX4: =第六面!G35&"" -> 6_15 | NY4: =第六面!G36&"" -> 6_16 | NZ4: =第六面!H37&"" -> 6_17 | OA4: =第六面!P37&"" -> 6_18 | OB4: =第六面!D38&"" -> 6_19 | OC4: =第六面!L38&"" -> 6_20 | OD4: =IF(第六面!B40="☑","特定構造計算基準",IF(第六面!B41="☑","特定増改築構造計算基準",""))&"" -> 特定構造計算基準 | OE4: =IF(第六面!B43="☑","建築基準法施行令第81条第1項各号に掲げる基準に従つた構造計算",IF(第六面!B44="☑","建築基準法施行令第81条第2項第1号イに掲げる構造計算",IF(第六面!B45="☑","建築基準法施行令第81条第2項第1号ロに掲げる構造計算",IF(第六面!B46="☑","建築基準法施行令第81条第2項第2号イに掲げる構造計算",IF(第六面!B47="☑","建築基準法施行令第81条第3項に掲げる構造計算","")))))&"" -> 建築基準法施行令第81条第1項各号に掲げる基準に従つた構造計算 | OF4: =第六面!D49&"" -> 6_21 | OG4: =IF(第六面!B51="☑","建築基準法第20条第1項第2号イ又は第3号イの認定を受けたプログラム",IF(第六面!B53="☑","その他のプログラム",""))&"" -> 建築基準法第20条第1項第2号イ又は第3号イの認定を受けたプログラム | OH4: =第六面!F52&"" -> 6_22 | OI4: =第六面!C55&"" -> 6_23 | OJ4: =第六面!B58&"" -> 6_24 | OK4: ='建築計画概要書（第二面）'!B82&"" -> ☑ | OL4: ='建築計画概要書（第二面）'!B85&"" -> ☑
AQ5: ='第二面 (建築主追加)'!G11&"" -> 2;1 | AR5: ='第二面 (建築主追加)'!G12&"" -> 2;2 | AS5: ='第二面 (建築主追加)'!G13&"" -> 2;3 | AT5: ='第二面 (建築主追加)'!G14&"" -> 2;4 | AU5: ='第二面 (建築主追加)'!G15&"" -> 2;5 | BS5: =第二面!E50&"" -> 2_53 | BT5: =第二面!M50&"" -> 2_54 | BU5: =第二面!T50&"" -> 2_55 | BV5: =第二面!E51&"" -> 2_56 | BW5: =第二面!H52&"" -> 2_57 | BX5: =第二面!N52&"" -> 2_58 | BY5: =第二面!U52&"" -> 2_59 | BZ5: =第二面!E53&"" -> 2_60 | CA5: =第二面!F54&"" -> 2_61 | CB5: =第二面!F55&"" -> 2_62 | CC5: =第二面!F57&"" -> 2_63 | CD5: =第二面!J58&"" -> 2_64 | CF5: ='第二面 (構造、設備一級の表示者追加)'!K9&"" -> 2;65 | CG5: ='第二面 (構造、設備一級の表示者追加)'!K10&"" -> 2;66 | CI5: ='第二面 (構造、設備一級の表示者追加)'!K28&"" -> 2;67 | CJ5: ='第二面 (構造、設備一級の表示者追加)'!K29&"" -> 2;68 | CL5: =第二面!K72&"" -> 2_73 | CM5: =第二面!K73&"" -> 2_74 | CO5: =第二面!K79&"" -> 2_79 | CP5: =第二面!K80&"" -> 2_80 | CX5: =第二面!E109&"" -> 2_102 | CY5: =第二面!E110&"" -> 2_103 | CZ5: =第二面!F111&"" -> 2_104 | DA5: =第二面!E112&"" -> 2_105 | DB5: =第二面!E113&"" -> 2_106 | DC5: =第二面!E114&"" -> 2_107 | DD5: =第二面!H115&"" -> 2_108 | DQ5: =第二面!E149&"" -> 2_145 | DR5: =第二面!M149&"" -> 2_146 | DS5: =第二面!T149&"" -> 2_147 | DT5: =第二面!E150&"" -> 2_148 | DU5: =第二面!H151&"" -> 2_149 | DV5: =第二面!N151&"" -> 2_150 | DW5: =第二面!U151&"" -> 2_151 | DX5: =第二面!E152&"" -> 2_152 | DY5: =第二面!F153&"" -> 2_153 | DZ5: =第二面!F154&"" -> 2_154 | EA5: =第二面!F156&"" -> 2_155 | EB5: =第二面!J157&"" -> 2_156 | EC5: ='第二面 (工事施工者追加)'!E12&"" -> 2;157 | ED5: ='第二面 (工事施工者追加)'!I13&"" -> 2;158 | EE5: ='第二面 (工事施工者追加)'!P13&"" -> 2;159 | EF5: ='第二面 (工事施工者追加)'!E14&"" -> 2;160 | EG5: ='第二面 (工事施工者追加)'!F15&"" -> 2;161 | EH5: ='第二面 (工事施工者追加)'!F16&"" -> 2;162 | EI5: ='第二面 (工事施工者追加)'!F18&"" -> 2;163 | EJ5: =第二面!A172&"" -> ☑ | EK5: =第二面!E172&"" -> 2_165 | EL5: =第二面!A179&"" -> ☑ | EM5: =第二面!E179&"" -> 2_167 | EW5: =第三面!L8&"" -> ☑ | IR5: =第三面!U68&"" -> ☑ | JJ5: ='第四面 (3)'!F3&"" | JK5: ='第四面 (3)'!F4&"" | JL5: ='第四面 (3)'!K4&"" | JM5: ='第四面 (3)'!F5&"" | JN5: ='第四面 (3)'!K5&"" | JO5: ='第四面 (3)'!F6&"" | JP5: ='第四面 (3)'!K6&"" | JQ5: ='第四面 (3)'!F7&"" | JR5: ='第四面 (3)'!K7&"" | JS5: =IF('第四面 (3)'!A9="☑","ON","")&"" | JT5: =IF('第四面 (3)'!D9="☑","ON","")&"" | JU5: =IF('第四面 (3)'!G9="☑","ON","")&"" | JV5: =IF('第四面 (3)'!J9="☑","ON","")&"" | JW5: =IF('第四面 (3)'!M9="☑","ON","")&"" | JX5: =IF('第四面 (3)'!Q9="☑","ON","")&"" | JY5: =IF('第四面 (3)'!U9="☑","ON","")&"" | JZ5: ='第四面 (3)'!D10&"" | KA5: ='第四面 (3)'!L10&"" | KB5: =IF('第四面 (3)'!B12="☑","耐火構造",IF('第四面 (3)'!B13="☑","建築基準法施行令第108条の3第1項第1号イ及びロに掲げる基準に適合する構造",IF('第四面 (3)'!B14="☑","準耐火構造",IF('第四面 (3)'!B15="☑","準耐火構造と同等の準耐火性能を有する構造（ロ-1）",IF('第四面 (3)'!B16="☑","準耐火構造と同等の準耐火性能を有する構造（ロ-2）",IF('第四面 (3)'!B17="☑","その他",""))))))&"" | KC5: =IF('第四面 (3)'!B19="☑","建築基準法施行令第109条の5第1号に掲げる基準に適合する構造",IF('第四面 (3)'!B20="☑","建築基準法第21条第1項ただし書きに該当する建築物",IF('第四面 (3)'!B21="☑","建築基準法施行令第110条第1号に掲げる基準に適合する構造",IF('第四面 (3)'!B22="☑","その他",IF('第四面 (3)'!B23="☑","建築基準法第21条又は第27条の規定の適用を受けない","")))))&"" | KD5: =IF('第四面 (3)'!B25="☑","耐火建築物",IF('第四面 (3)'!B26="☑","延焼防止建築物",IF('第四面 (3)'!B27="☑","準耐火建築物",IF('第四面 (3)'!B28="☑","準延焼防止建築物",IF('第四面 (3)'!B29="☑","その他",IF('第四面 (3)'!B30="☑","建築基準法第61条の規定の適用を受けない",""))))))&"" | KE5: ='第四面 (3)'!H32&"" | KF5: ='第四面 (3)'!H33&"" | KG5: ='第四面 (3)'!H34&"" | KH5: ='第四面 (3)'!H35&"" | KI5: ='第四面 (3)'!H37&"" | KJ5: ='第四面 (3)'!H38&"" | KK5: ='第四面 (3)'!G39&"" | KL5: =IF('第四面 (3)'!C42="☑","有り",IF('第四面 (3)'!F42="☑","無し",""))&"" | KM5: =IF('第四面 (3)'!S43="☑","有り",IF('第四面 (3)'!V43="☑","無し",""))&"" | KN5: ='第四面 (3)'!M45&"" | KO5: ='第四面 (3)'!M46&"" | KP5: =IF('第四面 (3)'!B48="☑","ON","")&"" | KQ5: =IF('第四面 (3)'!B49="☑","ON","")&"" | KR5: ='第四面 (3)'!C51&"" | KS5: ='第四面 (3)'!E53&"" | KT5: ='第四面 (3)'!H53&"" | KU5: ='第四面 (3)'!N53&"" | KV5: ='第四面 (3)'!T53&"" -> 0 | KW5: ='第四面 (3)'!E54&"" | KX5: ='第四面 (3)'!H54&"" | KY5: ='第四面 (3)'!N54&"" | KZ5: ='第四面 (3)'!T54&"" -> 0 | LA5: ='第四面 (3)'!E55&"" | LB5: ='第四面 (3)'!H55&"" | LC5: ='第四面 (3)'!N55&"" | LD5: ='第四面 (3)'!T55&"" -> 0 | LE5: ='第四面 (3)'!E56&"" | LF5: ='第四面 (3)'!H56&"" | LG5: ='第四面 (3)'!N56&"" | LH5: ='第四面 (3)'!T56&"" -> 0 | LI5: ='第四面 (3)'!E57&"" | LJ5: ='第四面 (3)'!H57&"" | LK5: ='第四面 (3)'!N57&"" | LL5: ='第四面 (3)'!T57&"" -> 0 | LM5: ='第四面 (3)'!E58&"" | LN5: ='第四面 (3)'!H58&"" | LO5: ='第四面 (3)'!N58&"" | LP5: ='第四面 (3)'!T58&"" -> 0 | LQ5: ='第四面 (3)'!E59&"" | LR5: ='第四面 (3)'!H59&"" | LS5: ='第四面 (3)'!N59&"" | LT5: ='第四面 (3)'!T59&"" -> 0 | LU5: ='第四面 (3)'!E60&"" | LV5: ='第四面 (3)'!H60&"" | LW5: ='第四面 (3)'!N60&"" | LX5: ='第四面 (3)'!T60&"" -> 0 | LY5: ='第四面 (3)'!E61&"" | LZ5: ='第四面 (3)'!H61&"" | MA5: ='第四面 (3)'!N61&"" | MB5: ='第四面 (3)'!T61&"" -> 0 | MC5: ='第四面 (3)'!E62&"" | MD5: ='第四面 (3)'!H62&"" | ME5: ='第四面 (3)'!N62&"" | MF5: ='第四面 (3)'!T62&"" -> 0 | MG5: ='第四面 (3)'!E63&"" | MH5: ='第四面 (3)'!H63&"" | MI5: ='第四面 (3)'!N63&"" | MJ5: ='第四面 (3)'!T63&"" -> 0 | MK5: ='第四面 (3)'!H64&"" -> 0 | ML5: ='第四面 (3)'!N64&"" -> 0 | MM5: ='第四面 (3)'!T64&"" -> 0 | MN5: ='第四面 (3)'!H65&"" | MO5: ='第四面 (3)'!H66&"" | MP5: ='第四面 (3)'!H67&"" | MQ5: ='第四面 (3)'!H68&"" | MR5: ='第四面 (3)'!H69&"" | MS5: ='第四面 (3)'!H70&"" | MT5: ='第四面 (3)'!B73&"" | MU5: ='第五面 (2)'!F3&"" | MV5: ='第五面 (2)'!F4&"" | MW5: ='第五面 (2)'!F5&"" | MX5: ='第五面 (2)'!H6&"" | MY5: ='第五面 (2)'!H7&"" | MZ5: ='第五面 (2)'!H9&"" | NA5: =IF('第五面 (2)'!P10="☑","有り",IF('第五面 (2)'!S10="☑","無し",""))&"" | NB5: ='第五面 (2)'!E14&"" | NC5: ='第五面 (2)'!L14&"" | ND5: ='第五面 (2)'!S14&"" | NE5: ='第五面 (2)'!E15&"" | NF5: ='第五面 (2)'!L15&"" | NG5: ='第五面 (2)'!S15&"" | NH5: ='第五面 (2)'!E16&"" | NI5: ='第五面 (2)'!L16&"" | NJ5: ='第五面 (2)'!S16&"" | NK5: ='第五面 (2)'!E17&"" | NL5: ='第五面 (2)'!L17&"" | NM5: ='第五面 (2)'!S17&"" | NN5: ='第五面 (2)'!E18&"" | NO5: ='第五面 (2)'!L18&"" | NP5: ='第五面 (2)'!S18&"" | NQ5: ='第五面 (2)'!E19&"" | NR5: ='第五面 (2)'!L19&"" | NS5: ='第五面 (2)'!S19&"" | NT5: ='第五面 (2)'!H20&"" | NU5: ='第五面 (2)'!B23&"" | NV5: ='第六面 (2)'!F3&"" | NW5: ='第六面 (2)'!F4&"" | NX5: ='第六面 (2)'!G6&"" | NY5: ='第六面 (2)'!G7&"" | NZ5: ='第六面 (2)'!H8&"" | OA5: ='第六面 (2)'!P8&"" | OB5: ='第六面 (2)'!D9&"" | OC5: ='第六面 (2)'!L9&"" | OD5: =IF('第六面 (2)'!B11="☑","特定構造計算基準",IF('第六面 (2)'!B12="☑","特定増改築構造計算基準",""))&"" | OE5: =IF('第六面 (2)'!B14="☑","建築基準法施行令第81条第1項各号に掲げる基準に従つた構造計算",IF('第六面 (2)'!B15="☑","建築基準法施行令第81条第2項第1号イに掲げる構造計算",IF('第六面 (2)'!B16="☑","建築基準法施行令第81条第2項第1号ロに掲げる構造計算",IF('第六面 (2)'!B17="☑","建築基準法施行令第81条第2項第2号イに掲げる構造計算",IF('第六面 (2)'!B18="☑","建築基準法施行令第81条第3項に掲げる構造計算","")))))&"" | OF5: ='第六面 (2)'!D20&"" | OG5: =IF('第六面 (2)'!B22="☑","建築基準法第20条第1項第2号イ又は第3号イの認定を受けたプログラム",IF('第六面 (2)'!B24="☑","その他のプログラム",""))&"" | OH5: ='第六面 (2)'!F23&"" | OI5: ='第六面 (2)'!C26&"" | OJ5: ='第六面 (2)'!B29&"" | OK5: ='建築計画概要書（第二面）'!E82&"" -> ☑ | OL5: ='建築計画概要書（第二面）'!E85&"" -> ☑
AQ6: ='第二面 (建築主追加)'!G18&"" -> 2;1 | AR6: ='第二面 (建築主追加)'!G19&"" -> 2;2 | AS6: ='第二面 (建築主追加)'!G20&"" -> 2;3 | AT6: ='第二面 (建築主追加)'!G21&"" -> 2;4 | AU6: ='第二面 (建築主追加)'!G22&"" -> 2;5 | BS6: ='第二面 (その他設計者追加)'!E5&"" -> 2;29 | BT6: ='第二面 (その他設計者追加)'!M5&"" -> 2;30 | BU6: ='第二面 (その他設計者追加)'!T5&"" -> 2;31 | BV6: ='第二面 (その他設計者追加)'!E6&"" -> 2;32 | BW6: ='第二面 (その他設計者追加)'!H7&"" -> 2;33 | BX6: ='第二面 (その他設計者追加)'!N7&"" -> 2;34 | BY6: ='第二面 (その他設計者追加)'!U7&"" -> 2;35 | BZ6: ='第二面 (その他設計者追加)'!E8&"" -> 2;36 | CA6: ='第二面 (その他設計者追加)'!F9&"" -> 2;37 | CB6: ='第二面 (その他設計者追加)'!F10&"" -> 2;38 | CC6: ='第二面 (その他設計者追加)'!F12&"" -> 2;39 | CD6: ='第二面 (その他設計者追加)'!J13&"" -> 2;40 | CF6: ='第二面 (構造、設備一級の表示者追加)'!K11&"" -> 2;65 | CG6: ='第二面 (構造、設備一級の表示者追加)'!K12&"" -> 2;66 | CI6: ='第二面 (構造、設備一級の表示者追加)'!K30&"" -> 2;67 | CJ6: ='第二面 (構造、設備一級の表示者追加)'!K31&"" -> 2;68 | CL6: ='第二面 (構造、設備一級の表示者追加)'!K45&"" -> 2;69 | CM6: ='第二面 (構造、設備一級の表示者追加)'!K46&"" -> 2;70 | CO6: ='第二面 (構造、設備一級の表示者追加)'!K61&"" -> 2;75 | CP6: ='第二面 (構造、設備一級の表示者追加)'!K62&"" -> 2;76 | CX6: ='第二面 (設備の意見を聴いた者追加)'!E4&"" -> 2;88 | CY6: ='第二面 (設備の意見を聴いた者追加)'!E5&"" -> 2;89 | CZ6: ='第二面 (設備の意見を聴いた者追加)'!F6&"" -> 2;90 | DA6: ='第二面 (設備の意見を聴いた者追加)'!E7&"" -> 2;91 | DB6: ='第二面 (設備の意見を聴いた者追加)'!E8&"" -> 2;92 | DC6: ='第二面 (設備の意見を聴いた者追加)'!E9&"" -> 2;93 | DD6: ='第二面 (設備の意見を聴いた者追加)'!H10&"" -> 22;94 | DQ6: ='第二面 (工事監理者追加)'!E3&"" -> 2;121 | DR6: ='第二面 (工事監理者追加)'!M3&"" -> 2;122 | DS6: ='第二面 (工事監理者追加)'!T3&"" -> 2;123 | DT6: ='第二面 (工事監理者追加)'!E4&"" -> 2;124 | DU6: ='第二面 (工事監理者追加)'!H5&"" -> 2;125 | DV6: ='第二面 (工事監理者追加)'!N5&"" -> 2;126 | DW6: ='第二面 (工事監理者追加)'!U5&"" -> 2;127 | DX6: ='第二面 (工事監理者追加)'!E6&"" -> 2;128 | DY6: ='第二面 (工事監理者追加)'!F7&"" -> 2;129 | DZ6: ='第二面 (工事監理者追加)'!F8&"" -> 2;130 | EA6: ='第二面 (工事監理者追加)'!F10&"" -> 2;131 | EB6: ='第二面 (工事監理者追加)'!J11&"" -> 2;132 | EC6: ='第二面 (工事施工者追加)'!E20&"" -> 2;157 | ED6: ='第二面 (工事施工者追加)'!I21&"" -> 2;158 | EE6: ='第二面 (工事施工者追加)'!P21&"" -> 2;159 | EF6: ='第二面 (工事施工者追加)'!E22&"" -> 2;160 | EG6: ='第二面 (工事施工者追加)'!F23&"" -> 2;161 | EH6: ='第二面 (工事施工者追加)'!F24&"" -> 2;162 | EI6: ='第二面 (工事施工者追加)'!F26&"" -> 2;163 | EJ6: =第二面!A173&"" -> ☑ | EL6: =第二面!A180&"" -> ☑ | EM6: =第二面!E180&"" -> 2_168 | EW6: =第三面!Q8&"" -> ☑ | JJ6: ='第四面 (4)'!F3&"" | JK6: ='第四面 (4)'!F4&"" | JL6: ='第四面 (4)'!K4&"" | JM6: ='第四面 (4)'!F5&"" | JN6: ='第四面 (4)'!K5&"" | JO6: ='第四面 (4)'!F6&"" | JP6: ='第四面 (4)'!K6&"" | JQ6: ='第四面 (4)'!F7&"" | JR6: ='第四面 (4)'!K7&"" | JS6: =IF('第四面 (4)'!A9="☑","ON","")&"" | JT6: =IF('第四面 (4)'!D9="☑","ON","")&"" | JU6: =IF('第四面 (4)'!G9="☑","ON","")&"" | JV6: =IF('第四面 (4)'!J9="☑","ON","")&"" | JW6: =IF('第四面 (4)'!M9="☑","ON","")&"" | JX6: =IF('第四面 (4)'!Q9="☑","ON","")&"" | JY6: =IF('第四面 (4)'!U9="☑","ON","")&"" | JZ6: ='第四面 (4)'!D10&"" | KA6: ='第四面 (4)'!L10&"" | KB6: =IF('第四面 (4)'!B12="☑","耐火構造",IF('第四面 (4)'!B13="☑","建築基準法施行令第108条の3第1項第1号イ及びロに掲げる基準に適合する構造",IF('第四面 (4)'!B14="☑","準耐火構造",IF('第四面 (4)'!B15="☑","準耐火構造と同等の準耐火性能を有する構造（ロ-1）",IF('第四面 (4)'!B16="☑","準耐火構造と同等の準耐火性能を有する構造（ロ-2）",IF('第四面 (4)'!B17="☑","その他",""))))))&"" | KC6: =IF('第四面 (4)'!B19="☑","建築基準法施行令第109条の5第1号に掲げる基準に適合する構造",IF('第四面 (4)'!B20="☑","建築基準法第21条第1項ただし書きに該当する建築物",IF('第四面 (4)'!B21="☑","建築基準法施行令第110条第1号に掲げる基準に適合する構造",IF('第四面 (4)'!B22="☑","その他",IF('第四面 (4)'!B23="☑","建築基準法第21条又は第27条の規定の適用を受けない","")))))&"" | KD6: =IF('第四面 (4)'!B25="☑","耐火建築物",IF('第四面 (4)'!B26="☑","延焼防止建築物",IF('第四面 (4)'!B27="☑","準耐火建築物",IF('第四面 (4)'!B28="☑","準延焼防止建築物",IF('第四面 (4)'!B29="☑","その他",IF('第四面 (4)'!B30="☑","建築基準法第61条の規定の適用を受けない",""))))))&"" | KE6: ='第四面 (4)'!H32&"" | KF6: ='第四面 (4)'!H33&"" | KG6: ='第四面 (4)'!H34&"" | KH6: ='第四面 (4)'!H35&"" | KI6: ='第四面 (4)'!H37&"" | KJ6: ='第四面 (4)'!H38&"" | KK6: ='第四面 (4)'!G39&"" | KL6: =IF('第四面 (4)'!C42="☑","有り",IF('第四面 (4)'!F42="☑","無し",""))&"" | KM6: =IF('第四面 (4)'!S43="☑","有り",IF('第四面 (4)'!V43="☑","無し",""))&"" | KN6: ='第四面 (4)'!M45&"" | KO6: ='第四面 (4)'!M46&"" | KP6: =IF('第四面 (4)'!B48="☑","ON","")&"" | KQ6: =IF('第四面 (4)'!B49="☑","ON","")&"" | KR6: ='第四面 (4)'!C51&"" | KS6: ='第四面 (4)'!E53&"" | KT6: ='第四面 (4)'!H53&"" | KU6: ='第四面 (4)'!N53&"" | KV6: ='第四面 (4)'!T53&"" -> 0 | KW6: ='第四面 (4)'!E54&"" | KX6: ='第四面 (4)'!H54&"" | KY6: ='第四面 (4)'!N54&"" | KZ6: ='第四面 (4)'!T54&"" -> 0 | LA6: ='第四面 (4)'!E55&"" | LB6: ='第四面 (4)'!H55&"" | LC6: ='第四面 (4)'!N55&"" | LD6: ='第四面 (4)'!T55&"" -> 0 | LE6: ='第四面 (4)'!E56&"" | LF6: ='第四面 (4)'!H56&"" | LG6: ='第四面 (4)'!N56&"" | LH6: ='第四面 (4)'!T56&"" -> 0 | LI6: ='第四面 (4)'!E57&"" | LJ6: ='第四面 (4)'!H57&"" | LK6: ='第四面 (4)'!N57&"" | LL6: ='第四面 (4)'!T57&"" -> 0 | LM6: ='第四面 (4)'!E58&"" | LN6: ='第四面 (4)'!H58&"" | LO6: ='第四面 (4)'!N58&"" | LP6: ='第四面 (4)'!T58&"" -> 0 | LQ6: ='第四面 (4)'!E59&"" | LR6: ='第四面 (4)'!H59&"" | LS6: ='第四面 (4)'!N59&"" | LT6: ='第四面 (4)'!T59&"" -> 0 | LU6: ='第四面 (4)'!E60&"" | LV6: ='第四面 (4)'!H60&"" | LW6: ='第四面 (4)'!N60&"" | LX6: ='第四面 (4)'!T60&"" -> 0 | LY6: ='第四面 (4)'!E61&"" | LZ6: ='第四面 (4)'!H61&"" | MA6: ='第四面 (4)'!N61&"" | MB6: ='第四面 (4)'!T61&"" -> 0 | MC6: ='第四面 (4)'!E62&"" | MD6: ='第四面 (4)'!H62&"" | ME6: ='第四面 (4)'!N62&"" | MF6: ='第四面 (4)'!T62&"" -> 0 | MG6: ='第四面 (4)'!E63&"" | MH6: ='第四面 (4)'!H63&"" | MI6: ='第四面 (4)'!N63&"" | MJ6: ='第四面 (4)'!T63&"" -> 0 | MK6: ='第四面 (4)'!H64&"" -> 0 | ML6: ='第四面 (4)'!N64&"" -> 0 | MM6: ='第四面 (4)'!T64&"" -> 0 | MN6: ='第四面 (4)'!H65&"" | MO6: ='第四面 (4)'!H66&"" | MP6: ='第四面 (4)'!H67&"" | MQ6: ='第四面 (4)'!H68&"" | MR6: ='第四面 (4)'!H69&"" | MS6: ='第四面 (4)'!H70&"" | MT6: ='第四面 (4)'!B73&"" | MU6: ='第五面 (2)'!F27&"" | MV6: ='第五面 (2)'!F28&"" | MW6: ='第五面 (2)'!F29&"" | MX6: ='第五面 (2)'!H30&"" | MY6: ='第五面 (2)'!H31&"" | MZ6: ='第五面 (2)'!H33&"" | NA6: =IF('第五面 (2)'!P34="☑","有り",IF('第五面 (2)'!S34="☑","無し",""))&"" | NB6: ='第五面 (2)'!E38&"" | NC6: ='第五面 (2)'!L38&"" | ND6: ='第五面 (2)'!S38&"" | NE6: ='第五面 (2)'!E39&"" | NF6: ='第五面 (2)'!L39&"" | NG6: ='第五面 (2)'!S39&"" | NH6: ='第五面 (2)'!E40&"" | NI6: ='第五面 (2)'!L40&"" | NJ6: ='第五面 (2)'!S40&"" | NK6: ='第五面 (2)'!E41&"" | NL6: ='第五面 (2)'!L41&"" | NM6: ='第五面 (2)'!S41&"" | NN6: ='第五面 (2)'!E42&"" | NO6: ='第五面 (2)'!L42&"" | NP6: ='第五面 (2)'!S42&"" | NQ6: ='第五面 (2)'!E43&"" | NR6: ='第五面 (2)'!L43&"" | NS6: ='第五面 (2)'!S43&"" | NT6: ='第五面 (2)'!H44&"" | NU6: ='第五面 (2)'!B47&"" | NV6: ='第六面 (2)'!F32&"" | NW6: ='第六面 (2)'!F33&"" | NX6: ='第六面 (2)'!G35&"" | NY6: ='第六面 (2)'!G36&"" | NZ6: ='第六面 (2)'!H37&"" | OA6: ='第六面 (2)'!P37&"" | OB6: ='第六面 (2)'!D38&"" | OC6: ='第六面 (2)'!L38&"" | OD6: =IF('第六面 (2)'!B40="☑","特定構造計算基準",IF('第六面 (2)'!B41="☑","特定増改築構造計算基準",""))&"" | OE6: =IF('第六面 (2)'!B43="☑","建築基準法施行令第81条第1項各号に掲げる基準に従つた構造計算",IF('第六面 (2)'!B44="☑","建築基準法施行令第81条第2項第1号イに掲げる構造計算",IF('第六面 (2)'!B45="☑","建築基準法施行令第81条第2項第1号ロに掲げる構造計算",IF('第六面 (2)'!B46="☑","建築基準法施行令第81条第2項第2号イに掲げる構造計算",IF('第六面 (2)'!B47="☑","建築基準法施行令第81条第3項に掲げる構造計算","")))))&"" | OF6: ='第六面 (2)'!D49&"" | OG6: =IF('第六面 (2)'!B51="☑","建築基準法第20条第1項第2号イ又は第3号イの認定を受けたプログラム",IF('第六面 (2)'!B53="☑","その他のプログラム",""))&"" | OH6: ='第六面 (2)'!F52&"" | OI6: ='第六面 (2)'!C55&"" | OJ6: ='第六面 (2)'!B58&""
AQ7: ='第二面 (建築主追加)'!G25&"" -> 2;1 | AR7: ='第二面 (建築主追加)'!G26&"" -> 2;2 | AS7: ='第二面 (建築主追加)'!G27&"" -> 2;3 | AT7: ='第二面 (建築主追加)'!G28&"" -> 2;4 | AU7: ='第二面 (建築主追加)'!G29&"" -> 2;5 | BS7: ='第二面 (その他設計者追加)'!E15&"" -> 2;41 | BT7: ='第二面 (その他設計者追加)'!M15&"" -> 2;42 | BU7: ='第二面 (その他設計者追加)'!T15&"" -> 2;43 | BV7: ='第二面 (その他設計者追加)'!E16&"" -> 2;44 | BW7: ='第二面 (その他設計者追加)'!H17&"" -> 2;45 | BX7: ='第二面 (その他設計者追加)'!N17&"" -> 2;46 | BY7: ='第二面 (その他設計者追加)'!U17&"" -> 2;47 | BZ7: ='第二面 (その他設計者追加)'!E18&"" -> 2;48 | CA7: ='第二面 (その他設計者追加)'!F19&"" -> 2;49 | CB7: ='第二面 (その他設計者追加)'!F20&"" -> 2;50 | CC7: ='第二面 (その他設計者追加)'!F22&"" -> 2;51 | CD7: ='第二面 (その他設計者追加)'!J23&"" -> 2;52 | CF7: ='第二面 (構造、設備一級の表示者追加)'!K13&"" -> 2;65 | CG7: ='第二面 (構造、設備一級の表示者追加)'!K14&"" -> 2;66 | CI7: ='第二面 (構造、設備一級の表示者追加)'!K32&"" -> 2;67 | CJ7: ='第二面 (構造、設備一級の表示者追加)'!K33&"" -> 2;68 | CL7: ='第二面 (構造、設備一級の表示者追加)'!K47&"" -> 2;69 | CM7: ='第二面 (構造、設備一級の表示者追加)'!K48&"" -> 2;70 | CO7: ='第二面 (構造、設備一級の表示者追加)'!K63&"" -> 2;77 | CP7: ='第二面 (構造、設備一級の表示者追加)'!K64&"" -> 2;78 | CX7: ='第二面 (設備の意見を聴いた者追加)'!E12&"" -> 2;95 | CY7: ='第二面 (設備の意見を聴いた者追加)'!E13&"" -> 2;96 | CZ7: ='第二面 (設備の意見を聴いた者追加)'!F14&"" -> 2;97 | DA7: ='第二面 (設備の意見を聴いた者追加)'!E15&"" -> 2;98 | DB7: ='第二面 (設備の意見を聴いた者追加)'!E16&"" -> 2;99 | DC7: ='第二面 (設備の意見を聴いた者追加)'!E17&"" -> 2;100 | DD7: ='第二面 (設備の意見を聴いた者追加)'!H18&"" -> 2;101 | DQ7: ='第二面 (工事監理者追加)'!E13&"" -> 2;133 | DR7: ='第二面 (工事監理者追加)'!M13&"" -> 2;134 | DS7: ='第二面 (工事監理者追加)'!T13&"" -> 2;135 | DT7: ='第二面 (工事監理者追加)'!E14&"" -> 2;136 | DU7: ='第二面 (工事監理者追加)'!H15&"" -> 2;137 | DV7: ='第二面 (工事監理者追加)'!N15&"" -> 2;138 | DW7: ='第二面 (工事監理者追加)'!U15&"" -> 2;139 | DX7: ='第二面 (工事監理者追加)'!E16&"" -> 2;140 | DY7: ='第二面 (工事監理者追加)'!F17&"" -> 2;141 | DZ7: ='第二面 (工事監理者追加)'!F18&"" -> 2;142 | EA7: ='第二面 (工事監理者追加)'!F20&"" -> 2;143 | EB7: ='第二面 (工事監理者追加)'!J21&"" -> 2;144 | EC7: ='第二面 (工事施工者追加)'!E28&"" -> 2;157 | ED7: ='第二面 (工事施工者追加)'!I29&"" -> 2;158 | EE7: ='第二面 (工事施工者追加)'!P29&"" -> 2;159 | EF7: ='第二面 (工事施工者追加)'!E30&"" -> 2;160 | EG7: ='第二面 (工事施工者追加)'!F31&"" -> 2;161 | EH7: ='第二面 (工事施工者追加)'!F32&"" -> 2;162 | EI7: ='第二面 (工事施工者追加)'!F34&"" -> 2;163 | JJ7: ='第四面 (5)'!F3&"" | JK7: ='第四面 (5)'!F4&"" | JL7: ='第四面 (5)'!K4&"" | JM7: ='第四面 (5)'!F5&"" | JN7: ='第四面 (5)'!K5&"" | JO7: ='第四面 (5)'!F6&"" | JP7: ='第四面 (5)'!K6&"" | JQ7: ='第四面 (5)'!F7&"" | JR7: ='第四面 (5)'!K7&"" | JS7: =IF('第四面 (5)'!A9="☑","ON","")&"" | JT7: =IF('第四面 (5)'!D9="☑","ON","")&"" | JU7: =IF('第四面 (5)'!G9="☑","ON","")&"" | JV7: =IF('第四面 (5)'!J9="☑","ON","")&"" | JW7: =IF('第四面 (5)'!M9="☑","ON","")&"" | JX7: =IF('第四面 (5)'!Q9="☑","ON","")&"" | JY7: =IF('第四面 (5)'!U9="☑","ON","")&"" | JZ7: ='第四面 (5)'!D10&"" | KA7: ='第四面 (5)'!L10&"" | KB7: =IF('第四面 (5)'!B12="☑","耐火構造",IF('第四面 (5)'!B13="☑","建築基準法施行令第108条の3第1項第1号イ及びロに掲げる基準に適合する構造",IF('第四面 (5)'!B14="☑","準耐火構造",IF('第四面 (5)'!B15="☑","準耐火構造と同等の準耐火性能を有する構造（ロ-1）",IF('第四面 (5)'!B16="☑","準耐火構造と同等の準耐火性能を有する構造（ロ-2）",IF('第四面 (5)'!B17="☑","その他",""))))))&"" | KC7: =IF('第四面 (5)'!B19="☑","建築基準法施行令第109条の5第1号に掲げる基準に適合する構造",IF('第四面 (5)'!B20="☑","建築基準法第21条第1項ただし書きに該当する建築物",IF('第四面 (5)'!B21="☑","建築基準法施行令第110条第1号に掲げる基準に適合する構造",IF('第四面 (5)'!B22="☑","その他",IF('第四面 (5)'!B23="☑","建築基準法第21条又は第27条の規定の適用を受けない","")))))&"" | KD7: =IF('第四面 (5)'!B25="☑","耐火建築物",IF('第四面 (5)'!B26="☑","延焼防止建築物",IF('第四面 (5)'!B27="☑","準耐火建築物",IF('第四面 (5)'!B28="☑","準延焼防止建築物",IF('第四面 (5)'!B29="☑","その他",IF('第四面 (5)'!B30="☑","建築基準法第61条の規定の適用を受けない",""))))))&"" | KE7: ='第四面 (5)'!H32&"" | KF7: ='第四面 (5)'!H33&"" | KG7: ='第四面 (5)'!H34&"" | KH7: ='第四面 (5)'!H35&"" | KI7: ='第四面 (5)'!H37&"" | KJ7: ='第四面 (5)'!H38&"" | KK7: ='第四面 (5)'!G39&"" | KL7: =IF('第四面 (5)'!C42="☑","有り",IF('第四面 (5)'!F42="☑","無し",""))&"" | KM7: =IF('第四面 (5)'!S43="☑","有り",IF('第四面 (5)'!V43="☑","無し",""))&"" | KN7: ='第四面 (5)'!M45&"" | KO7: ='第四面 (5)'!M46&"" | KP7: =IF('第四面 (5)'!B48="☑","ON","")&"" | KQ7: =IF('第四面 (5)'!B49="☑","ON","")&"" | KR7: ='第四面 (5)'!C51&"" | KS7: ='第四面 (5)'!E53&"" | KT7: ='第四面 (5)'!H53&"" | KU7: ='第四面 (5)'!N53&"" | KV7: ='第四面 (5)'!T53&"" -> 0 | KW7: ='第四面 (5)'!E54&"" | KX7: ='第四面 (5)'!H54&"" | KY7: ='第四面 (5)'!N54&"" | KZ7: ='第四面 (5)'!T54&"" -> 0 | LA7: ='第四面 (5)'!E55&"" | LB7: ='第四面 (5)'!H55&"" | LC7: ='第四面 (5)'!N55&"" | LD7: ='第四面 (5)'!T55&"" -> 0 | LE7: ='第四面 (5)'!E56&"" | LF7: ='第四面 (5)'!H56&"" | LG7: ='第四面 (5)'!N56&"" | LH7: ='第四面 (5)'!T56&"" -> 0 | LI7: ='第四面 (5)'!E57&"" | LJ7: ='第四面 (5)'!H57&"" | LK7: ='第四面 (5)'!N57&"" | LL7: ='第四面 (5)'!T57&"" -> 0 | LM7: ='第四面 (5)'!E58&"" | LN7: ='第四面 (5)'!H58&"" | LO7: ='第四面 (5)'!N58&"" | LP7: ='第四面 (5)'!T58&"" -> 0 | LQ7: ='第四面 (5)'!E59&"" | LR7: ='第四面 (5)'!H59&"" | LS7: ='第四面 (5)'!N59&"" | LT7: ='第四面 (5)'!T59&"" -> 0 | LU7: ='第四面 (5)'!E60&"" | LV7: ='第四面 (5)'!H60&"" | LW7: ='第四面 (5)'!N60&"" | LX7: ='第四面 (5)'!T60&"" -> 0 | LY7: ='第四面 (5)'!E61&"" | LZ7: ='第四面 (5)'!H61&"" | MA7: ='第四面 (5)'!N61&"" | MB7: ='第四面 (5)'!T61&"" -> 0 | MC7: ='第四面 (5)'!E62&"" | MD7: ='第四面 (5)'!H62&"" | ME7: ='第四面 (5)'!N62&"" | MF7: ='第四面 (5)'!T62&"" -> 0 | MG7: ='第四面 (5)'!E63&"" | MH7: ='第四面 (5)'!H63&"" | MI7: ='第四面 (5)'!N63&"" | MJ7: ='第四面 (5)'!T63&"" -> 0 | MK7: ='第四面 (5)'!H64&"" -> 0 | ML7: ='第四面 (5)'!N64&"" -> 0 | MM7: ='第四面 (5)'!T64&"" -> 0 | MN7: ='第四面 (5)'!H65&"" | MO7: ='第四面 (5)'!H66&"" | MP7: ='第四面 (5)'!H67&"" | MQ7: ='第四面 (5)'!H68&"" | MR7: ='第四面 (5)'!H69&"" | MS7: ='第四面 (5)'!H70&"" | MT7: ='第四面 (5)'!B73&"" | MU7: ='第五面 (3)'!F3&"" | MV7: ='第五面 (3)'!F4&"" | MW7: ='第五面 (3)'!F5&"" | MX7: ='第五面 (3)'!H6&"" | MY7: ='第五面 (3)'!H7&"" | MZ7: ='第五面 (3)'!H9&"" | NA7: =IF('第五面 (3)'!P10="☑","有り",IF('第五面 (3)'!S10="☑","無し",""))&"" | NB7: ='第五面 (3)'!E14&"" | NC7: ='第五面 (3)'!L14&"" | ND7: ='第五面 (3)'!S14&"" | NE7: ='第五面 (3)'!E15&"" | NF7: ='第五面 (3)'!L15&"" | NG7: ='第五面 (3)'!S15&"" | NH7: ='第五面 (3)'!E16&"" | NI7: ='第五面 (3)'!L16&"" | NJ7: ='第五面 (3)'!S16&"" | NK7: ='第五面 (3)'!E17&"" | NL7: ='第五面 (3)'!L17&"" | NM7: ='第五面 (3)'!S17&"" | NN7: ='第五面 (3)'!E18&"" | NO7: ='第五面 (3)'!L18&"" | NP7: ='第五面 (3)'!S18&"" | NQ7: ='第五面 (3)'!E19&"" | NR7: ='第五面 (3)'!L19&"" | NS7: ='第五面 (3)'!S19&"" | NT7: ='第五面 (3)'!H20&"" | NU7: ='第五面 (3)'!B23&"" | NV7: ='第六面 (3)'!F3&"" | NW7: ='第六面 (3)'!F4&"" | NX7: ='第六面 (3)'!G6&"" | NY7: ='第六面 (3)'!G7&"" | NZ7: ='第六面 (3)'!H8&"" | OA7: ='第六面 (3)'!P8&"" | OB7: ='第六面 (3)'!D9&"" | OC7: ='第六面 (3)'!L9&"" | OD7: =IF('第六面 (3)'!B11="☑","特定構造計算基準",IF('第六面 (3)'!B12="☑","特定増改築構造計算基準",""))&"" | OE7: =IF('第六面 (3)'!B14="☑","建築基準法施行令第81条第1項各号に掲げる基準に従つた構造計算",IF('第六面 (3)'!B15="☑","建築基準法施行令第81条第2項第1号イに掲げる構造計算",IF('第六面 (3)'!B16="☑","建築基準法施行令第81条第2項第1号ロに掲げる構造計算",IF('第六面 (3)'!B17="☑","建築基準法施行令第81条第2項第2号イに掲げる構造計算",IF('第六面 (3)'!B18="☑","建築基準法施行令第81条第3項に掲げる構造計算","")))))&"" | OF7: ='第六面 (3)'!D20&"" | OG7: =IF('第六面 (3)'!B22="☑","建築基準法第20条第1項第2号イ又は第3号イの認定を受けたプログラム",IF('第六面 (3)'!B24="☑","その他のプログラム",""))&"" | OH7: ='第六面 (3)'!F23&"" | OI7: ='第六面 (3)'!C26&"" | OJ7: ='第六面 (3)'!B29&""
