Workbook

Sheet 転送用シート
AQ1: kakuken_2_001 | AR1: kakuken_2_002 | AS1: kakuken_2_003 | AT1: kakuken_2_004 | AU1: kakuken_2_005 | AV1: kakuken_2_006 | AW1: kakuken_2_007 | AX1: kakuken_2_008 | AY1: kakuken_2_009 | AZ1: kakuken_2_010 | BA1: kakuken_2_011 | BB1: kakuken_2_012 | BC1: kakuken_2_013 | BD1: kakuken_2_014 | BE1: kakuken_2_015 | BF1: kakuken_2_016 | BG1: kakuken_2_017 | BH1: kakuken_2_018 | BI1: kakuken_2_019 | BJ1: kakuken_2_020 | BK1: kakuken_2_021 | BL1: kakuken_2_022 | BM1: kakuken_2_023 | BN1: kakuken_2_024 | BO1: kakuken_2_025 | BP1: kakuken_2_026 | BQ1: kakuken_2_027 | BR1: kakuken_2_028 | BS1: kakuken_2_029 | BT1: kakuken_2_030 | BU1: kakuken_2_031 | BV1: kakuken_2_032 | BW1: kakuken_2_033 | BX1: kakuken_2_034 | BY1: kakuken_2_035 | BZ1: kakuken_2_036 | CA1: kakuken_2_037 | CB1: kakuken_2_038 | CC1: kakuken_2_039 | CD1: kakuken_2_040 | CE1: kakuken_2_041 | CF1: kakuken_2_042 | CG1: kakuken_2_043 | CH1: kakuken_2_044 | CI1: kakuken_2_045 | CJ1: kakuken_2_046 | CK1: kakuken_2_047 | CL1: kakuken_2_048 | CM1: kakuken_2_049 | CN1: kakuken_2_050 | CO1: kakuken_2_051 | CP1: kakuken_2_052 | CQ1: kakuken_2_053 | CR1: kakuken_2_054 | CS1: kakuken_2_055 | CT1: kakuken_2_056 | CU1: kakuken_2_057 | CV1: kakuken_2_058 | CW1: kakuken_2_059 | CX1: kakuken_2_060 | CY1: kakuken_2_061 | CZ1: kakuken_2_062 | DA1: kakuken_2_063 | DB1: kakuken_2_064 | DC1: kakuken_2_065 | DD1: kakuken_2_066 | DE1: kakuken_2_067 | DF1: kakuken_2_068 | DG1: kakuken_2_069 | DH1: kakuken_2_070 | DI1: kakuken_2_071 | DJ1: kakuken_2_072 | DK1: kakuken_2_073 | DL1: kakuken_2_074 | DM1: kakuken_2_075 | DN1: kakuken_2_076 | DO1: kakuken_2_077 | DP1: kakuken_2_078 | DQ1: kakuken_2_079 | DR1: kakuken_2_080 | DS1: kakuken_2_081 | DT1: kakuken_2_082 | DU1: kakuken_2_083 | DV1: kakuken_2_084 | DW1: kakuken_2_085 | DX1: kakuken_2_086 | DY1: kakuken_2_087 | DZ1: kakuken_2_088 | EA1: kakuken_2_089 | EB1: kakuken_2_090 | EC1: kakuken_2_091 | ED1: kakuken_2_092 | EE1: kakuken_2_093 | EF1: kakuken_2_094 | EG1: kakuken_2_095 | EH1: kakuken_2_096 | EI1: kakuken_2_097 | EJ1: kakuken_2_098 | EK1: kakuken_2_099 | EL1: kakuken_2_100 | EM1: kakuken_2_101 | EN1: kakuken_2_102 | EO1: kakuken_3_001 | EP1: kakuken_3_002 | EQ1: kakuken_3_003 | ER1: kakuken_3_004 | ES1: kakuken_3_005 | ET1: kakuken_3_006 | EU1: kakuken_3_007 | EV1: kakuken_3_008 | EW1: kakuken_3_009 | EX1: kakuken_3_010 | EY1: kakuken_3_011 | EZ1: kakuken_3_012 | FA1: kakuken_3_013 | FB1: kakuken_3_014 | FC1: kakuken_3_015 | FD1: kakuken_3_016 | FE1: kakuken_3_017 | FF1: kakuken_3_018 | FG1: kakuken_3_019 | FH1: kakuken_3_020 | FI1: kakuken_3_021 | FJ1: kakuken_3_022 | FK1: kakuken_3_023 | FL1: kakuken_3_024 | FM1: kakuken_3_025 | FN1: kakuken_3_026 | FO1: kakuken_3_027 | FP1: kakuken_3_028 | FQ1: kakuken_3_029 | FR1: kakuken_3_030 | FS1: kakuken_3_031 | FT1: kakuken_3_032 | FU1: kakuken_3_033 | FV1: kakuken_3_034 | FW1: kakuken_3_035 | FX1: kakuken_3_036 | FY1: kakuken_3_037 | FZ1: kakuken_3_038 | GA1: kakuken_3_039 | GB1: kakuken_3_040 | GC1: kakuken_3_041 | GD1: kakuken_3_042 | GE1: kakuken_3_043 | GF1: kakuken_3_044 | GG1: kakuken_3_045 | GH1: kakuken_3_046 | GI1: kakuken_3_047 | GJ1: kakuken_3_048 | GK1: kakuken_3_049 | GL1: kakuken_3_117 | GM1: kakuken_3_118 | GN1: kakuken_3_119 | GO1: kakuken_3_050 | GP1: kakuken_3_051 | GQ1: kakuken_3_052 | GR1: kakuken_3_053 | GS1: kakuken_3_054 | GT1: kakuken_3_055 | GU1: kakuken_3_056 | GV1: kakuken_3_057 | GW1: kakuken_3_058 | GX1: kakuken_3_059 | GY1: kakuken_3_060 | GZ1: kakuken_3_061 | HA1: kakuken_3_062 | HB1: kakuken_3_120 | HC1: kakuken_3_121 | HD1: kakuken_3_122 | HE1: kakuken_3_063 | HF1: kakuken_3_064 | HG1: kakuken_3_065 | HH1: kakuken_3_066 | HI1: kakuken_3_067 | HJ1: kakuken_3_068 | HK1: kakuken_3_069 | HL1: kakuken_3_070 | HM1: kakuken_3_071 | HN1: kakuken_3_072 | HO1: kakuken_3_073 | HP1: kakuken_3_074 | HQ1: kakuken_3_075 | HR1: kakuken_3_076 | HS1: kakuken_3_077 | HT1: kakuken_3_078 | HU1: kakuken_3_079 | HV1: kakuken_3_080 | HW1: kakuken_3_123 | HX1: kakuken_3_124 | HY1: kakuken_3_125 | HZ1: kakuken_3_081 | IA1: kakuken_3_082 | IB1: kakuken_3_083 | IC1: kakuken_3_084 | ID1: kakuken_3_085 | IE1: kakuken_3_086 | IF1: kakuken_3_087 | IG1: kakuken_3_088 | IH1: kakuken_3_089 | II1: kakuken_3_090 | IJ1: kakuken_3_091 | IK1: kakuken_3_092 | IL1: kakuken_3_093 | IM1: kakuken_3_094 | IN1: kakuken_3_095 | IO1: kakuken_3_096 | IP1: kakuken_3_097 | IQ1: kakuken_3_098 | IR1: kakuken_3_099 | IS1: kakuken_3_100 | IT1: kakuken_3_101 | IU1: kakuken_3_102 | IV1: kakuken_3_103 | IW1: kakuken_3_104 | IX1: kakuken_3_105 | IY1: kakuken_3_106 | IZ1: kakuken_3_107 | JA1: kakuken_3_108 | JB1: kakuken_3_109 | JC1: kakuken_3_110 | JD1: kakuken_3_111 | JE1: kakuken_3_112 | JF1: kakuken_3_113 | JG1: kakuken_3_114 | JH1: kakuken_3_115 | JI1: kakuken_3_116 | JJ1: kakuken_4_001 | JK1: kakuken_4_002 | JL1: kakuken_4_003 | JM1: kakuken_4_004 | JN1: kakuken_4_005 | JO1: kakuken_4_006 | JP1: kakuken_4_007 | JQ1: kakuken_4_008 | JR1: kakuken_4_009 | JS1: kakuken_4_010 | JT1: kakuken_4_011 | JU1: kakuken_4_012 | JV1: kakuken_4_013 | JW1: kakuken_4_014 | JX1: kakuken_4_015 | JY1: kakuken_4_016 | JZ1: kakuken_4_017 | KA1: kakuken_4_018 | KB1: kakuken_4_019 | KC1: kakuken_4_020 | KD1: kakuken_4_021 | KE1: kakuken_4_022 | KF1: kakuken_4_023 | KG1: kakuken_4_024 | KH1: kakuken_4_025 | KI1: kakuken_4_026 | KJ1: kakuken_4_027 | KK1: kakuken_4_028 | KL1: kakuken_4_029 | KM1: kakuken_4_030 | KN1: kakuken_4_031 | KO1: kakuken_4_032 | KP1: kakuken_4_033 | KQ1: kakuken_4_034 | KR1: kakuken_4_035 | KS1: kakuken_4_036 | KT1: kakuken_4_037 | KU1: kakuken_4_038 | KV1: kakuken_4_039 | KW1: kakuken_4_040 | KX1: kakuken_4_041 | KY1: kakuken_4_042 | KZ1: kakuken_4_043 | LA1: kakuken_4_044 | LB1: kakuken_4_045 | LC1: kakuken_4_046 | LD1: kakuken_4_047 | LE1: kakuken_4_048 | LF1: kakuken_4_049 | LG1: kakuken_4_050 | LH1: kakuken_4_051 | LI1: kakuken_4_052 | LJ1: kakuken_4_053 | LK1: kakuken_4_054 | LL1: kakuken_4_055 | LM1: kakuken_4_056 | LN1: kakuken_4_057 | LO1: kakuken_4_058 | LP1: kakuken_4_059 | LQ1: kakuken_4_060 | LR1: kakuken_4_061 | LS1: kakuken_4_062 | LT1: kakuken_4_063 | LU1: kakuken_4_064 | LV1: kakuken_4_065 | LW1: kakuken_4_066 | LX1: kakuken_4_067 | LY1: kakuken_4_068 | LZ1: kakuken_4_069 | MA1: kakuken_4_070 | MB1: kakuken_4_071 | MC1: kakuken_4_072 | MD1: kakuken_4_073 | ME1: kakuken_4_074 | MF1: kakuken_4_075 | MG1: kakuken_4_076 | MH1: kakuken_4_077 | MI1: kakuken_4_078 | MJ1: kakuken_4_079 | MK1: kakuken_4_080 | ML1: kakuken_4_081 | MM1: kakuken_4_082 | MN1: kakuken_4_083 | MO1: kakuken_4_084 | MP1: kakuken_4_085 | MQ1: kakuken_4_086 | MR1: kakuken_4_087 | MS1: kakuken_4_088 | MT1: kakuken_4_089 | MU1: kakuken_5_001 | MV1: kakuken_5_002 | MW1: kakuken_5_003 | MX1: kakuken_5_004 | MY1: kakuken_5_005 | MZ1: kakuken_5_006 | NA1: kakuken_5_007 | NB1: kakuken_5_008 | NC1: kakuken_5_009 | ND1: kakuken_5_010 | NE1: kakuken_5_011 | NF1: kakuken_5_012 | NG1: kakuken_5_013 | NH1: kakuken_5_014 | NI1: kakuken_5_015 | NJ1: kakuken_5_016 | NK1: kakuken_5_017 | NL1: kakuken_5_018 | NM1: kakuken_5_019 | NN1: kakuken_5_020 | NO1: kakuken_5_021 | NP1: kakuken_5_022 | NQ1: kakuken_5_023 | NR1: kakuken_5_024 | NS1: kakuken_5_025 | NT1: kakuken_5_026 | NU1: kakuken_5_027 | NV1: kakuken_6_001 | NW1: kakuken_6_002 | NX1: kakuken_6_003 | NY1: kakuken_6_004 | NZ1: kakuken_6_005 | OA1: kakuken_6_006 | OB1: kakuken_6_007 | OC1: kakuken_6_008 | OD1: kakuken_6_009 | OE1: kakuken_6_010 | OF1: kakuken_6_011 | OG1: kakuken_6_012 | OH1: kakuken_6_013 | OI1: kakuken_6_014 | OJ1: kakuken_6_015 | OK1: entry_ken121 | OL1: entry_ken123
B2: 手続種別 | C2: 手続主体 | D2: 区分 | E2: 申請内容 | F2: 申請対象 | G2: 手数料支払方法 | H2: データ登録会社名 | I2: 手続き担当者 | J2: 連絡先電話番号 | K2: 連絡先E-Mail | L2: 物件所在地エリア | M2: 物件所在地市町村 | N2: 建築主氏名 | O2: 地名地番 | P2: 主要用途 | Q2: 延べ面積 | R2: 申請先 | S2: 申請方法 | T2: 状態 | U2: 申請ID | V2: データ登録年月日 | W2: 受付番号 | X2: 受理（申請）年月日 | Y2: 処分番号 | Z2: 処分年月日 | AA2: 処分通知 | AB2: 副本返却年月日 | AC2: 報告者 | AD2: 報告番号 | AE2: 審査・検査の結果 | AF2: 確認検査員氏名 | AG2: 確認証等番号 | AH2: 確認証等交付日 | AI2: 構造計算判定結果 | AJ2: 構造計算通知番号 | AK2: 構造計算通知交付日 | AL2: 構造計算通知交付者 | AM2: 検査引受日 | AN2: 特記事項 | AO2: 建築計画概要書第三面ファイル名 | AP2: 紐付け申請の確認済証等の番号（処分番号） | AQ2: 第2面:建築主／イ．氏名のフリガナ | AR2: 第2面:建築主／ロ．氏名 | AS2: 第2面:建築主／ハ．郵便番号 | AT2: 第2面:建築主／ニ．住所 | AU2: 第2面:建築主／ホ．電話番号 | AV2: 第2面:代理者／イ．資格（種別） | AW2: 第2面:代理者／イ．資格（登録先） | AX2: 第2面:代理者／イ．資格（番号） | AY2: 第2面:代理者／ロ．氏名 | AZ2: 第2面:代理者／ハ．建築士事務所名（種別） | BA2: 第2面:代理者／ハ．建築士事務所名（登録） | BB2: 第2面:代理者／ハ．建築士事務所名（番号） | BC2: 第2面:代理者／ハ．建築士事務所名（名称） | BD2: 第2面:代理者／ニ．郵便番号 | BE2: 第2面:代理者／ホ．所在地 | BF2: 第2面:代理者／ヘ．電話番号 | BG2: 第2面:設計者（代表となる設計者）／イ．資格（種別） | BH2: 第2面:設計者（代表となる設計者）／イ．資格（登録先） | BI2: 第2面:設計者（代表となる設計者）／イ．資格（番号） | BJ2: 第2面:設計者（代表となる設計者）／ロ．氏名 | BK2: 第2面:設計者（代表となる設計者）／ハ．建築士事務所名（種別） | BL2: 第2面:設計者（代表となる設計者）／ハ．建築士事務所名（登録） | BM2: 第2面:設計者（代表となる設計者）／ハ．建築士事務所名（番号） | BN2: 第2面:設計者（代表となる設計者）／ハ．建築士事務所名（名称） | BO2: 第2面:設計者（代表となる設計者）／ニ．郵便番号 | BP2: 第2面:設計者（代表となる設計者）／ホ．所在地 | BQ2: 第2面:設計者（代表となる設計者）／ヘ．電話番号 | BR2: 第2面:設計者（代表となる設計者）／ト．作成又は確認した設計図書 | BS2: 第2面:設計者（その他の設計者）／イ．資格（種別） | BT2: 第2面:設計者（その他の設計者）／イ．資格（登録先） | BU2: 第2面:設計者（その他の設計者）／イ．資格（番号） | BV2: 第2面:設計者（その他の設計者）／ロ．氏名 | BW2: 第2面:設計者（その他の設計者）／ハ．建築士事務所名（種別） | BX2: 第2面:設計者（その他の設計者）／ハ．建築士事務所名（登録） | BY2: 第2面:設計者（その他の設計者）／ハ．建築士事務所名（番号） | BZ2: 第2面:設計者（その他の設計者）／ハ．建築士事務所名（名称） | CA2: 第2面:設計者（その他の設計者）／ニ．郵便番号 | CB2: 第2面:設計者（その他の設計者）／ホ．所在地 | CC2: 第2面:設計者（その他の設計者）／ヘ．電話番号 | CD2: 第2面:設計者（その他の設計者）／ト．作成又は確認した設計図書 | CE2: 第2面:設計者（構造設計一級建築士又は設備設計一級建築士である旨の表示をした者）／建築士法第20条の2第1項の表示をした者（有無） | CF2: 第2面:設計者（構造設計一級建築士又は設備設計一級建築士である旨の表示をした者）／建築士法第20条の2第1項の表示をした者（イ．氏名） | CG2: 第2面:設計者（構造設計一級建築士又は設備設計一級建築士である旨の表示をした者）／建築士法第20条の2第1項の表示をした者（ロ．資格） | CH2: 第2面:設計者（構造設計一級建築士又は設備設計一級建築士である旨の表示をした者）／建築士法第20条の2第3項の表示をした者（有無） | CI2: 第2面:設計者（構造設計一級建築士又は設備設計一級建築士である旨の表示をした者）／建築士法第20条の2第3項の表示をした者（イ．氏名） | CJ2: 第2面:設計者（構造設計一級建築士又は設備設計一級建築士である旨の表示をした者）／建築士法第20条の2第3項の表示をした者（ロ．資格） | CK2: 第2面:設計者（構造設計一級建築士又は設備設計一級建築士である旨の表示をした者）／建築士法第20条の3第1項の表示をした者（有無） | CL2: 第2面:設計者（構造設計一級建築士又は設備設計一級建築士である旨の表示をした者）／建築士法第20条の3第1項の表示をした者（イ．氏名） | CM2: 第2面:設計者（構造設計一級建築士又は設備設計一級建築士である旨の表示をした者）／建築士法第20条の3第1項の表示をした者（ロ．資格） | CN2: 第2面:設計者（構造設計一級建築士又は設備設計一級建築士である旨の表示をした者）／建築士法第20条の3第3項の表示をした者（有無） | CO2: 第2面:設計者（構造設計一級建築士又は設備設計一級建築士である旨の表示をした者）／建築士法第20条の3第3項の表示をした者（イ．氏名） | CP2: 第2面:設計者（構造設計一級建築士又は設備設計一級建築士である旨の表示をした者）／建築士法第20条の3第3項の表示をした者（ロ．資格） | CQ2: 第2面:建築設備の設計に関し意見を聴いた者（代表となる建築設備の設計に関し意見を聴いた者）／イ．氏名 | CR2: 第2面:建築設備の設計に関し意見を聴いた者（代表となる建築設備の設計に関し意見を聴いた者）／ロ．勤務先 | CS2: 第2面:建築設備の設計に関し意見を聴いた者（代表となる建築設備の設計に関し意見を聴いた者）／ハ．郵便番号 | CT2: 第2面:建築設備の設計に関し意見を聴いた者（代表となる建築設備の設計に関し意見を聴いた者）／ニ．所在地 | CU2: 第2面:建築設備の設計に関し意見を聴いた者（代表となる建築設備の設計に関し意見を聴いた者）／ホ．電話番号 | CV2: 第2面:建築設備の設計に関し意見を聴いた者（代表となる建築設備の設計に関し意見を聴いた者）／ヘ．登録番号 | CW2: 第2面:建築設備の設計に関し意見を聴いた者（代表となる建築設備の設計に関し意見を聴いた者）／ト．意見を聴いた設計図書 | CX2: 第2面:建築設備の設計に関し意見を聴いた者（その他の建築設備の設計に関し意見を聴いた者）／イ．氏名 | CY2: 第2面:建築設備の設計に関し意見を聴いた者（その他の建築設備の設計に関し意見を聴いた者）／ロ．勤務先 | CZ2: 第2面:建築設備の設計に関し意見を聴いた者（その他の建築設備の設計に関し意見を聴いた者）／ハ．郵便番号 | DA2: 第2面:建築設備の設計に関し意見を聴いた者（その他の建築設備の設計に関し意見を聴いた者）／ニ．所在地 | DB2: 第2面:建築設備の設計に関し意見を聴いた者（その他の建築設備の設計に関し意見を聴いた者）／ホ．電話番号 | DC2: 第2面:建築設備の設計に関し意見を聴いた者（その他の建築設備の設計に関し意見を聴いた者）／ヘ．登録番号 | DD2: 第2面:建築設備の設計に関し意見を聴いた者（その他の建築設備の設計に関し意見を聴いた者）／ト．意見を聴いた設計図書 | DE2: 第2面:工事監理者（代表となる工事監理者）／イ．資格（種別） | DF2: 第2面:工事監理者（代表となる工事監理者）／イ．資格（登録先） | DG2: 第2面:工事監理者（代表となる工事監理者）／イ．資格（番号） | DH2: 第2面:工事監理者（代表となる工事監理者）／ロ．氏名 | DI2: 第2面:工事監理者（代表となる工事監理者）／ハ．建築士事務所名（種別） | DJ2: 第2面:工事監理者（代表となる工事監理者）／ハ．建築士事務所名（登録） | DK2: 第2面:工事監理者（代表となる工事監理者）／ハ．建築士事務所名（番号） | DL2: 第2面:工事監理者（代表となる工事監理者）／ハ．建築士事務所名（名称） | DM2: 第2面:工事監理者（代表となる工事監理者）／ニ．郵便番号 | DN2: 第2面:工事監理者（代表となる工事監理者）／ホ．所在地 | DO2: 第2面:工事監理者（代表となる工事監理者）／ヘ．電話番号 | DP2: 第2面:工事監理者（代表となる工事監理者）／ト．工事と照合する設計図書 | DQ2: 第2面:工事監理者（その他の工事監理者）／イ．資格（種別） | DR2: 第2面:工事監理者（その他の工事監理者）／イ．資格（登録先） | DS2: 第2面:工事監理者（その他の工事監理者）／イ．資格（番号） | DT2: 第2面:工事監理者（その他の工事監理者）／ロ．氏名 | DU2: 第2面:工事監理者（その他の工事監理者）／ハ．建築士事務所名（種別） | DV2: 第2面:工事監理者（その他の工事監理者）／ハ．建築士事務所名（登録） | DW2: 第2面:工事監理者（その他の工事監理者）／ハ．建築士事務所名（番号） | DX2: 第2面:工事監理者（その他の工事監理者）／ハ．建築士事務所名（名称） | DY2: 第2面:工事監理者（その他の工事監理者）／ニ．郵便番号 | DZ2: 第2面:工事監理者（その他の工事監理者）／ホ．所在地 | EA2: 第2面:工事監理者（その他の工事監理者）／ヘ．電話番号 | EB2: 第2面:工事監理者（その他の工事監理者）／ト．工事と照合する設計図書 | EC2: 第2面:工事施工者／イ．氏名 | ED2: 第2面:工事施工者／ロ．営業所名（登録） | EE2: 第2面:工事施工者／ロ．営業所名（番号） | EF2: 第2面:工事施工者／ロ．営業所名（名称） | EG2: 第2面:工事施工者／ハ．郵便番号 | EH2: 第2面:工事施工者／ニ．所在地 | EI2: 第2面:工事施工者／ホ．電話番号 | EJ2: 第2面:構造計算適合性判定の申請／申請状況 | EK2: 第2面:構造計算適合性判定の申請／申請先 | EL2: 第2面:建築物エネルギー消費性能確保計画の提出／提出状況 | EM2: 第2面:建築物エネルギー消費性能確保計画の提出／提出先若しくは提出不要の理由 | EN2: 第2面:備考／備考 | EO2: 第3面:地名地番／地名地番 | EP2: 第3面:住居表示／住居表示 | EQ2: 第3面:都市計画区域及び準都市計画区域の内外の別等／都市計画区域内 | ER2: 第3面:都市計画区域及び準都市計画区域の内外の別等／市街化区域 | ES2: 第3面:都市計画区域及び準都市計画区域の内外の別等／市街化調整区域 | ET2: 第3面:都市計画区域及び準都市計画区域の内外の別等／区域区分非設定 | EU2: 第3面:都市計画区域及び準都市計画区域の内外の別等／準都市計画区域内 | EV2: 第3面:都市計画区域及び準都市計画区域の内外の別等／都市計画区域及び準都市計画区域外 | EW2: 第3面:防火地域／ | EX2: 第3面:その他の区域、地域、地区又は街区／指定内容 | EY2: 第3面:道路／イ．幅員 | EZ2: 第3面:道路／ロ．敷地と接している部分の長さ | FA2: 第3面:敷地面積／イ．敷地面積（1）1 | FB2: 第3面:敷地面積／イ．敷地面積（1）2 | FC2: 第3面:敷地面積／イ．敷地面積（1）3 | FD2: 第3面:敷地面積／イ．敷地面積（1）4 | FE2: 第3面:敷地面積／イ．敷地面積（2）1 | FF2: 第3面:敷地面積／イ．敷地面積（2）2 | FG2: 第3面:敷地面積／イ．敷地面積（2）3 | FH2: 第3面:敷地面積／イ．敷地面積（2）4 | FI2: 第3面:敷地面積／ロ．用途地域等1 | FJ2: 第3面:敷地面積／ロ．用途地域等2 | FK2: 第3面:敷地面積／ロ．用途地域等3 | FL2: 第3面:敷地面積／ロ．用途地域等4 | FM2: 第3面:敷地面積／ハ．建築基準法第52条第1項及び第2項の規定による建築物の容積率1 | FN2: 第3面:敷地面積／ハ．建築基準法第52条第1項及び第2項の規定による建築物の容積率2 | FO2: 第3面:敷地面積／ハ．建築基準法第52条第1項及び第2項の規定による建築物の容積率3 | FP2: 第3面:敷地面積／ハ．建築基準法第52条第1項及び第2項の規定による建築物の容積率4 | FQ2: 第3面:敷地面積／ニ．建築基準法第53条第1項の規定による建築物の建蔽率1 | FR2: 第3面:敷地面積／ニ．建築基準法第53条第1項の規定による建築物の建蔽率2 | FS2: 第3面:敷地面積／ニ．建築基準法第53条第1項の規定による建築物の建蔽率3 | FT2: 第3面:敷地面積／ニ．建築基準法第53条第1項の規定による建築物の建蔽率4 | FU2: 第3面:敷地面積／ホ．敷地面積の合計（1） | FV2: 第3面:敷地面積／ホ．敷地面積の合計（2） | FW2: 第3面:敷地面積／ヘ．敷地に建築可能な延べ面積を敷地面積で除した数値 | FX2: 第3面:敷地面積／ト．敷地に建築可能な建築面積を敷地面積で除した数値 | FY2: 第3面:敷地面積／チ．備考 | FZ2: 第3面:主要用途／区分 | GA2: 第3面:主要用途／内容 | GB2: 第3面:工事種別／新築 | GC2: 第3面:工事種別／増築 | GD2: 第3面:工事種別／改築 | GE2: 第3面:工事種別／移転 | GF2: 第3面:工事種別／用途変更 | GG2: 第3面:工事種別／大規模の修繕 | GH2: 第3面:工事種別／大規模の模様替 | GI2: 第3面:建築面積／イ．建築面積（申請部分） | GJ2: 第3面:建築面積／イ．建築面積（申請以外の部分） | GK2: 第3面:建築面積／イ．建築面積（合計） | GL2: 第3面:建築面積／ロ．建蔽率の算定の基礎となる建築面積(申請部分) | GM2: 第3面:建築面積／ロ．建蔽率の算定の基礎となる建築面積(申請以外の部分) | GN2: 第3面:建築面積／ロ．建蔽率の算定の基礎となる建築面積(合計) | GO2: 第3面:建築面積／ハ．建蔽率 | GP2: 第3面:延べ面積／イ．建築物全体（申請部分） | GQ2: 第3面:延べ面積／イ．建築物全体（申請以外の部分） | GR2: 第3面:延べ面積／イ．建築物全体（合計） | GS2: 第3面:延べ面積／ロ．地階の住宅又は老人ホーム等の部分（申請部分） | GT2: 第3面:延べ面積／ロ．地階の住宅又は老人ホーム等の部分（申請以外の部分） | GU2: 第3面:延べ面積／ロ．地階の住宅又は老人ホーム等の部分（合計） | GV2: 第3面:延べ面積／ハ．エレベーターの昇降路の部分（申請部分） | GW2: 第3面:延べ面積／ハ．エレベーターの昇降路の部分（申請以外の部分） | GX2: 第3面:延べ面積／ハ．エレベーターの昇降路の部分（合計） | GY2: 第3面:延べ面積／ニ．共同住宅又は老人ホーム等の共用の廊下等の部分（申請部分） | GZ2: 第3面:延べ面積／ニ．共同住宅又は老人ホーム等の共用の廊下等の部分（申請以外の部分） | HA2: 第3面:延べ面積／ニ．共同住宅又は老人ホーム等の共用の廊下等の部分（合計） | HB2: 第3面:延べ面積／ホ．認定機械室等の部分（申請部分） | HC2: 第3面:延べ面積／ホ．認定機械室等の部分（申請以外の部分） | HD2: 第3面:延べ面積／ホ．認定機械室等の部分（合計） | HE2: 第3面:延べ面積／ヘ．自動車車庫等の部分（申請部分） | HF2: 第3面:延べ面積／ホ．自動車車庫等の部分（申請以外の部分） | HG2: 第3面:延べ面積／ホ．自動車車庫等の部分（合計） | HH2: 第3面:延べ面積／ヘ．備蓄倉庫の部分（申請部分） | HI2: 第3面:延べ面積／ヘ．備蓄倉庫の部分（申請以外の部分） | HJ2: 第3面:延べ面積／ヘ．備蓄倉庫の部分（合計） | HK2: 第3面:延べ面積／ト．蓄電池の設置部分（申請部分） | HL2: 第3面:延べ面積／ト．蓄電池の設置部分（申請以外の部分） | HM2: 第3面:延べ面積／ト．蓄電池の設置部分（合計） | HN2: 第3面:延べ面積／チ．自家発電設備の設置部分（申請部分） | HO2: 第3面:延べ面積／チ．自家発電設備の設置部分（申請以外の部分） | HP2: 第3面:延べ面積／チ．自家発電設備の設置部分（合計） | HQ2: 第3面:延べ面積／リ.貯水槽の設置部分（申請部分） | HR2: 第3面:延べ面積／リ.貯水槽の設置部分（申請以外の部分） | HS2: 第3面:延べ面積／リ.貯水槽の設置部分（合計） | HT2: 第3面:延べ面積／ヌ.宅配ボックスの設置部分（申請部分） | HU2: 第3面:延べ面積／ヌ.宅配ボックスの設置部分（申請以外の部分） | HV2: 第3面:延べ面積／ヌ.宅配ボックスの設置部分（合計） | HW2: 第3面:延べ面積／ヲ．その他の不算入部分（申請部分） | HX2: 第3面:延べ面積／ヲ．その他の不算入部分（申請以外の部分） | HY2: 第3面:延べ面積／ヲ．その他の不算入部分（合計） | HZ2: 第3面:延べ面積／ル.住宅の部分（申請部分） | IA2: 第3面:延べ面積／ル.住宅の部分（申請以外の部分） | IB2: 第3面:延べ面積／ル.住宅の部分（合計） | IC2: 第3面:延べ面積／ヲ.老人ホーム等の部分（申請部分） | ID2: 第3面:延べ面積／ヲ.老人ホーム等の部分（申請以外の部分） | IE2: 第3面:延べ面積／ヲ.老人ホーム等の部分（合計） | IF2: 第3面:延べ面積／ワ.延べ面積 | IG2: 第3面:延べ面積／カ.容積率 | IH2: 第3面:建築物の数／イ.申請に係る建築物の数 | II2: 第3面:建築物の数／ロ.同一敷地内の他の建築物の数 | IJ2: 第3面:建築物の高さ等／イ.最高の高さ（申請に係る建築物） | IK2: 第3面:建築物の高さ等／イ.最高の高さ（他の建築物） | IL2: 第3面:建築物の高さ等／ロ.階数地上（申請に係る建築物） | IM2: 第3面:建築物の高さ等／ロ.階数地上（他の建築物） | IN2: 第3面:建築物の高さ等／ロ.階数地下（申請に係る建築物） | IO2: 第3面:建築物の高さ等／ロ.階数地下（他の建築物） | IP2: 第3面:建築物の高さ等／ハ.構造（主たる部分） | IQ2: 第3面:建築物の高さ等／ハ.構造（従たる部分） | IR2: 第3面:建築物の高さ等／ニ.建築基準法第56条第7項の規定による特例の適用の有無 | IS2: 第3面:建築物の高さ等／ホ.特例の区分（通路高さ制限不適用） | IT2: 第3面:建築物の高さ等／ホ.特例の区分（隣地高さ制限不適用） | IU2: 第3面:建築物の高さ等／ホ.特例の区分（北側高さ制限不適用） | IV2: 第3面:許可・認定等／ | IW2: 第3面:工事着手予定年月日／年月日 | IX2: 第3面:工事完了予定年月日／年月日 | IY2: 第3面:特定工程工事終了予定年月日（1）／回数 | IZ2: 第3面:特定工程工事終了予定年月日（1）／年月日 | JA2: 第3面:特定工程工事終了予定年月日（1）／特定工程（内容） | JB2: 第3面:特定工程工事終了予定年月日（2）／回数 | JC2: 第3面:特定工程工事終了予定年月日（2）／年月日 | JD2: 第3面:特定工程工事終了予定年月日（2）／特定工程（内容） | JE2: 第3面:特定工程工事終了予定年月日（3）／回数 | JF2: 第3面:特定工程工事終了予定年月日（3）／年月日 | JG2: 第3面:特定工程工事終了予定年月日（3）／特定工程（内容） | JH2: 第3面:その他必要な事項／ | JI2: 第3面:備考／ | JJ2: 第4面:番号／ | JK2: 第4面:用途1／区分 | JL2: 第4面:用途1／内容 | JM2: 第4面:用途2／区分 | JN2: 第4面:用途2／内容 | JO2: 第4面:用途3／区分 | JP2: 第4面:用途3／内容 | JQ2: 第4面:用途4／区分 | JR2: 第4面:用途4／内容 | JS2: 第4面:工事種別／新築 | JT2: 第4面:工事種別／増築 | JU2: 第4面:工事種別／改築 | JV2: 第4面:工事種別／移転 | JW2: 第4面:工事種別／用途変更 | JX2: 第4面:工事種別／大規模の修繕 | JY2: 第4面:工事種別／大規模の模様替 | JZ2: 第4面:構造／主たる部分 | KA2: 第4面:構造／従たる部分 | KB2: 第4面:主要構造部／ | KC2: 第4面:建築基準法第21条及び第27条の規定の適用／ | KD2: 第4面:建築基準法第61条の規定の適用／ | KE2: 第4面:階数／イ.地階を除く階数 | KF2: 第4面:階数／ロ.地階の階数 | KG2: 第4面:階数／ハ.昇降機塔等の階の数 | KH2: 第4面:階数／ニ.地階の倉庫等の階の数 | KI2: 第4面:高さ／イ.最高の高さ | KJ2: 第4面:高さ／ロ.最高の軒の高さ | KK2: 第4面:建築設備の種類／ | KL2: 第4面:確認の特例／イ.建築基準法第6条の3第1項ただし書又は法第18条第4項ただし書の規定による審査の特例の適用の有無 | KM2: 第4面:確認の特例／ロ.建築基準法第6条の4第1項の規定による確認の特例の適用の有無 | KN2: 第4面:確認の特例／ハ.建築基準法施行令第10条各号に掲げる建築物の区分 | KO2: 第4面:確認の特例／ニ.認定型式の認定番号 | KP2: 第4面:確認の特例／ホ.適合する一連の規定の区分（建築基準法施行令第136条の2の11第1号イ） | KQ2: 第4面:確認の特例／ホ.適合する一連の規定の区分（建築基準法施行令第136条の2の11第1号ロ） | KR2: 第4面:確認の特例／ヘ.認証型式部材等の認定番号 | KS2: 第4面:床面積1／イ.階別（階） | KT2: 第4面:床面積1／イ.階別（申請部分） | KU2: 第4面:床面積1／イ.階別（申請以外の部分） | KV2: 第4面:床面積1／イ.階別（合計） | KW2: 第4面:床面積2／イ.階別（階） | KX2: 第4面:床面積2／イ.階別（申請部分） | KY2: 第4面:床面積2／イ.階別（申請以外の部分） | KZ2: 第4面:床面積2／イ.階別（合計） | LA2: 第4面:床面積3／イ.階別（階） | LB2: 第4面:床面積3／イ.階別（申請部分） | LC2: 第4面:床面積3／イ.階別（申請以外の部分） | LD2: 第4面:床面積3／イ.階別（合計） | LE2: 第4面:床面積4／イ.階別（階） | LF2: 第4面:床面積4／イ.階別（申請部分） | LG2: 第4面:床面積4／イ.階別（申請以外の部分） | LH2: 第4面:床面積4／イ.階別（合計） | LI2: 第4面:床面積5／イ.階別（階） | LJ2: 第4面:床面積5／イ.階別（申請部分） | LK2: 第4面:床面積5／イ.階別（申請以外の部分） | LL2: 第4面:床面積5／イ.階別（合計） | LM2: 第4面:床面積6／イ.階別（階） | LN2: 第4面:床面積6／イ.階別（申請部分） | LO2: 第4面:床面積6／イ.階別（申請以外の部分） | LP2: 第4面:床面積6／イ.階別（合計） | LQ2: 第4面:床面積7／イ.階別（階） | LR2: 第4面:床面積7／イ.階別（申請部分） | LS2: 第4面:床面積7／イ.階別（申請以外の部分） | LT2: 第4面:床面積7／イ.階別（合計） | LU2: 第4面:床面積8／イ.階別（階） | LV2: 第4面:床面積8／イ.階別（申請部分） | LW2: 第4面:床面積8／イ.階別（申請以外の部分） | LX2: 第4面:床面積8／イ.階別（合計） | LY2: 第4面:床面積9／イ.階別（階） | LZ2: 第4面:床面積9／イ.階別（申請部分） | MA2: 第4面:床面積9／イ.階別（申請以外の部分） | MB2: 第4面:床面積9／イ.階別（合計） | MC2: 第4面:床面積10／イ.階別（階） | MD2: 第4面:床面積10／イ.階別（申請部分） | ME2: 第4面:床面積10／イ.階別（申請以外の部分） | MF2: 第4面:床面積10／イ.階別（合計） | MG2: 第4面:床面積11／イ.階別（階） | MH2: 第4面:床面積11／イ.階別（申請部分） | MI2: 第4面:床面積11／イ.階別（申請以外の部分） | MJ2: 第4面:床面積11／イ.階別（合計） | MK2: 第4面:床面積（合計）／ロ.合計（申請部分面積） | ML2: 第4面:床面積（合計）／ロ.合計（申請以外の部分面積） | MM2: 第4面:床面積（合計）／ロ.合計（合計面積） | MN2: 第4面:屋根／ | MO2: 第4面:外壁／ | MP2: 第4面:軒裏／ | MQ2: 第4面:居室の床の高さ／ | MR2: 第4面:便所の種類／ | MS2: 第4面:その他必要な事項／ | MT2: 第4面:備考／ | MU2: 第5面:番号／ | MV2: 第5面:階／ | MW2: 第5面:柱の小径／ | MX2: 第5面:横架材間の垂直距離／ | MY2: 第5面:階の高さ／ | MZ2: 第5面:天井／イ.居室の天井の高さ | NA2: 第5面:天井／ロ.建築基準法施行令第39条第3項に規定する特定天井 | NB2: 第5面:用途別床面積／イ.用途の区分 | NC2: 第5面:用途別床面積／イ.具体的な用途の名称 | ND2: 第5面:用途別床面積／イ.床面積 | NE2: 第5面:用途別床面積／ロ.用途の区分 | NF2: 第5面:用途別床面積／ロ.具体的な用途の名称 | NG2: 第5面:用途別床面積／ロ.床面積 | NH2: 第5面:用途別床面積／ハ.用途の区分 | NI2: 第5面:用途別床面積／ハ.具体的な用途の名称 | NJ2: 第5面:用途別床面積／ハ.床面積 | NK2: 第5面:用途別床面積／二.用途の区分 | NL2: 第5面:用途別床面積／二.具体的な用途の名称 | NM2: 第5面:用途別床面積／二.床面積 | NN2: 第5面:用途別床面積／ホ.用途の区分 | NO2: 第5面:用途別床面積／ホ.具体的な用途の名称 | NP2: 第5面:用途別床面積／ホ.床面積 | NQ2: 第5面:用途別床面積／へ.用途の区分 | NR2: 第5面:用途別床面積／へ.具体的な用途の名称 | NS2: 第5面:用途別床面積／へ.床面積 | NT2: 第5面:その他必要な事項／ | NU2: 第5面:備考／ | NV2: 第6面:番号／ | NW2: 第6面:延べ面積／ | NX2: 第6面:建築物の高さ等／イ.最高の高さ | NY2: 第6面:建築物の高さ等／ロ.最高の軒の高さ | NZ2: 第6面:建築物の高さ等／ハ.階数（地上） | OA2: 第6面:建築物の高さ等／ハ.階数（地下） | OB2: 第6面:建築物の高さ等／ニ.構造（主たる部分） | OC2: 第6面:建築物の高さ等／ニ.構造（従たる部分） | OD2: 第6面:特定構造計算基準又は特定増改築構造計算基準の別／ | OE2: 第6面:構造計算の区分／ | OF2: 第6面:構造計算に用いたプログラム／イ.名称 | OG2: 第6面:構造計算に用いたプログラム／ロ.区分 | OH2: 第6面:構造計算に用いたプログラム／大臣認定番号 | OI2: 第6面:建築基準法施行令第137条の2各号に定める基準の区分／ | OJ2: 第6面:備考／ | OK2: 建築計画概要書（第二面）:18.建築基準法第12条第１項の規定による調査の要否 | OL2: 建築計画概要書（第二面）:19.建築基準法第12条第3項の規定による検査を要する防火設備の有無
A3: v2.1 | AQ3: =第二面!G4&"" -> 2_1 | AR3: =第二面!G5&"" -> 2_2 | AS3: =第二面!G6&"" -> 2_3 | AT3: =第二面!G7&"" -> 2_4 | AU3: =第二面!G8&"" -> 2_5 | AV3: =第二面!E10&"" -> 2_6 | AW3: =第二面!M10&"" -> 2_7 | AX3: =第二面!T10&"" -> 2_8 | AY3: =第二面!E11&"" -> 2_9 | AZ3: =第二面!H12&"" -> 2_10 | BA3: =第二面!N12&"" -> 2_11 | BB3: =第二面!U12&"" -> 2_12 | BC3: =第二面!E13&"" -> 2_13 | BD3: =第二面!F14&"" -> 2_14 | BE3: =第二面!F15&"" -> 2_15 | BF3: =第二面!F17&"" -> 2_16 | BG3: =第二面!E20&"" -> 2_17 | BH3: =第二面!M20&"" -> 2_18 | BI3: =第二面!T20&"" -> 2_19 | BJ3: =第二面!E21&"" -> 2_20 | BK3: =第二面!H22&"" -> 2_21 | BL3: =第二面!N22&"" -> 2_22 | BM3: =第二面!U22&"" -> 2_23 | BN3: =第二面!E23&"" -> 2_24 | BO3: =第二面!F24&"" -> 2_25 | BP3: =第二面!F25&"" -> 2_26 | BQ3: =第二面!F27&"" -> 2_27 | BR3: =第二面!J28&"" -> 2_28 | BS3: =第二面!E30&"" -> 2_29 | BT3: =第二面!M30&"" -> 2_30 | BU3: =第二面!T30&"" -> 2_31 | BV3: =第二面!E31&"" -> 2_32 | BW3: =第二面!H32&"" -> 2_33 | BX3: =第二面!N32&"" -> 2_34 | BY3: =第二面!U32&"" -> 2_35 | BZ3: =第二面!E33&"" -> 2_36 | CA3: =第二面!F34&"" -> 2_37 | CB3: =第二面!F35&"" -> 2_38 | CC3: =第二面!F37&"" -> 2_39 | CD3: =第二面!J38&"" -> 2_40 | CE3: =IF(第二面!A61="☑","有り","無し")&"" -> 有り | CF3: =第二面!K62&"" -> 2_65 | CG3: =第二面!K63&"" -> 2_66 | CH3: =IF(第二面!A64="☑","有り","無し")&"" -> 有り | CI3: =第二面!K65&"" -> 2_67 | CJ3: =第二面!K66&"" -> 2_68 | CK3: =IF(第二面!A67="☑","有り","無し")&"" -> 有り | CL3: =第二面!K68&"" -> 2_69 | CM3: =第二面!K69&"" -> 2_70 | CN3: =IF(第二面!A74="☑","有り","無し")&"" -> 有り | CO3: =第二面!K75&"" -> 2_75 | CP3: =第二面!K76&"" -> 2_76 | CQ3: =第二面!E85&"" -> 2_81 | CR3: =第二面!E86&"" -> 2_82 | CS3: =第二面!F87&"" -> 2_83 | CT3: =第二面!E88&"" -> 2_84 | CU3: =第二面!E89&"" -> 2_85 | CV3: =第二面!E90&"" -> 2_86 | CW3: =第二面!H91&"" -> 2_87 | CX3: =第二面!E93&"" -> 2_88 | CY3: =第二面!E94&"" -> 2_89 | CZ3: =第二面!F95&"" -> 2_90 | DA3: =第二面!E96&"" -> 2_91 | DB3: =第二面!E97&"" -> 2_92 | DC3: =第二面!E98&"" -> 2_93 | DD3: =第二面!H99&"" -> 2_94 | DE3: =第二面!E119&"" -> 2_109 | DF3: =第二面!M119&"" -> 2_110 | DG3: =第二面!T119&"" -> 2_111 | DH3: =第二面!E120&"" -> 2_112 | DI3: =第二面!H121&"" -> 2_113 | DJ3: =第二面!N121&"" -> 2_114 | DK3: =第二面!U121&"" -> 2_115 | DL3: =第二面!E122&"" -> 2_116 | DM3: =第二面!F123&"" -> 2_117 | DN3: =第二面!F124&"" -> 2_118 | DO3: =第二面!F126&"" -> 2_119 | DP3: =第二面!J127&"" -> 2_120 | DQ3: =第二面!E129&"" -> 2_121 | DR3: =第二面!M129&"" -> 2_122 | DS3: =第二面!T129&"" -> 2_123 | DT3: =第二面!E130&"" -> 2_124 | DU3: =第二面!H131&"" -> 2_125 | DV3: =第二面!N131&"" -> 2_126 | DW3: =第二面!U131&"" -> 2_127 | DX3: =第二面!E132&"" -> 2_128 | DY3: =第二面!F133&"" -> 2_129 | DZ3: =第二面!F134&"" -> 2_130 | EA3: =第二面!F136&"" -> 2_131 | EB3: =第二面!J137&"" -> 2_132 | EC3: =第二面!E161&"" -> 2_157 | ED3: =第二面!I162&"" -> 2_158 | EE3: =第二面!P162&"" -> 2_159 | EF3: =第二面!E163&"" -> 2_160 | EG3: =第二面!F164&"" -> 2_161 | EH3: =第二面!F165&"" -> 2_162 | EI3: =第二面!F167&"" -> 2_163 | EJ3: =IF(第二面!A171="☑","申請済",IF(第二面!A172="☑","未申請",IF(第二面!A173="☑","申請不要","")))&"" -> 申請済 | EK3: =IF(第二面!A171="☑",第二面!E171,IF(第二面!A172="☑",第二面!E172,""))&"" -> 2_164 | EL3: =IF(第二面!A178="☑","提出済",IF(第二面!A179="☑","未提出",IF(第二面!A180="☑","提出不要","")))&"" -> 提出済 | EM3: =IF(第二面!A178="☑",第二面!E178,IF(第二面!A179="☑",第二面!E179,IF(第二面!A180="☑",第二面!E180,"")))&"" -> 2_166 | EN3: =第二面!B184&"" -> 2_169 | EO3: =第三面!E3&"" -> 3_1 | EP3: =第三面!E4&"" -> 3_2 | EQ3: =IF(第三面!C6="☑","ON","")&"" -> ON | ER3: =IF(第三面!I6="☑","ON","")&"" -> ON | ES3: =IF(第三面!N6="☑","ON","")&"" -> ON | ET3: =IF(第三面!T6="☑","ON","")&"" -> ON | EU3: =IF(第三面!C7="☑","ON","")&"" -> ON | EV3: =IF(第三面!K7="☑","ON","")&"" -> ON | EW3: =IF(第三面!G8="☑","防火地域",IF(第三面!L8="☑","準防火地域",IF(第三面!Q8="☑","指定なし","")))&"" -> 防火地域 | EX3: =第三面!K9&"" -> 3_3 | EY3: =第三面!E11&"" -> 3_4 | EZ3: =第三面!K12&"" -> 3_5 | FA3: =第三面!F14&"" -> 306 | FB3: =第三面!K14&"" -> 307 | FC3: =第三面!P14&"" -> 308 | FD3: =第三面!U14&"" -> 309 | FE3: =第三面!F15&"" -> 310 | FF3: =第三面!K15&"" -> 311 | FG3: =第三面!P15&"" -> 312 | FH3: =第三面!U15&"" -> 313 | FI3: =第三面!F16&"" -> 3_14 | FJ3: =第三面!K16&"" -> 3_15 | FK3: =第三面!P16&"" -> 3_16 | FL3: =第三面!U16&"" -> 3_17 | FM3: =第三面!F18&"" -> 318 | FN3: =第三面!K18&"" -> 319 | FO3: =第三面!P18&"" -> 320 | FP3: =第三面!U18&"" -> 321 | FQ3: =第三面!F20&"" -> 322 | FR3: =第三面!K20&"" -> 323 | FS3: =第三面!P20&"" -> 324 | FT3: =第三面!U20&"" -> 325 | FU3: =第三面!H21&"" -> 1230 | FV3: =第三面!H22&"" -> 1246 | FW3: =第三面!P23&"" -> 3_26 | FX3: =第三面!P24&"" -> 3_27 | FY3: =第三面!D25&"" -> 3_28 | FZ3: =第三面!G26&"" -> 3_29 | GA3: =第三面!L26&"" -> 3_30 | GB3: =IF(第三面!A28="☑","ON","")&"" -> ON | GC3: =IF(第三面!D28="☑","ON","")&"" -> ON | GD3: =IF(第三面!G28="☑","ON","")&"" -> ON | GE3: =IF(第三面!J28="☑","ON","")&"" -> ON | GF3: =IF(第三面!M28="☑","ON","")&"" -> ON | GG3: =IF(第三面!Q28="☑","ON","")&"" -> ON | GH3: =IF(第三面!U28="☑","ON","")&"" -> ON | GI3: =第三面!G30&"" -> 331 | GJ3: =第三面!M30&"" -> 332 | GK3: =第三面!T30&"" -> 663 | GL3: =第三面!G32&"" -> 333 | GM3: =第三面!M32&"" -> 334 | GN3: =第三面!T32&"" -> 667 | GO3: =第三面!E33&"" -> 335 | GP3: =第三面!H35&"" -> 336 | GQ3: =第三面!N35&"" -> 337 | GR3: =第三面!T35&"" -> 673 | GS3: =第三面!H37&"" -> 338 | GT3: =第三面!N37&"" -> 339 | GU3: =第三面!T37&"" -> 677 | GV3: =第三面!H39&"" -> 340 | GW3: =第三面!N39&"" -> 341 | GX3: =第三面!T39&"" -> 681 | GY3: =第三面!H41&"" -> 342 | GZ3: =第三面!N41&"" -> 343 | HA3: =第三面!T41&"" -> 685 | HB3: =第三面!H42&"" -> 344 | HC3: =第三面!N42&"" -> 345 | HD3: =第三面!T42&"" -> 689 | HE3: =第三面!H43&"" -> 346 | HF3: =第三面!N43&"" -> 347 | HG3: =第三面!T43&"" -> 693 | HH3: =第三面!H44&"" -> 348 | HI3: =第三面!N44&"" -> 349 | HJ3: =第三面!T44&"" -> 697 | HK3: =第三面!H45&"" -> 350 | HL3: =第三面!N45&"" -> 351 | HM3: =第三面!T45&"" -> 701 | HN3: =第三面!H47&"" -> 352 | HO3: =第三面!N47&"" -> 353 | HP3: =第三面!T47&"" -> 705 | HQ3: =第三面!H48&"" -> 354 | HR3: =第三面!N48&"" -> 355 | HS3: =第三面!T48&"" -> 709 | HT3: =第三面!H50&"" -> 356 | HU3: =第三面!N50&"" -> 357 | HV3: =第三面!T50&"" -> 713 | HW3: =第三面!H51&"" -> 358 | HX3: =第三面!N51&"" -> 359 | HY3: =第三面!T51&"" -> 717 | HZ3: =第三面!H52&"" -> 360 | IA3: =第三面!N52&"" -> 361 | IB3: =第三面!T52&"" -> 721 | IC3: =第三面!H54&"" -> 362 | ID3: =第三面!N54&"" -> 363 | IE3: =第三面!T54&"" -> 725 | IF3: =第三面!H55&"" -> 364 | IG3: =第三面!H56&"" -> 365 | IH3: =第三面!J61&"" -> 3_66 | II3: =第三面!J62&"" -> 3_67 | IJ3: =第三面!H64&"" -> 3_68 | IK3: =第三面!N64&"" -> 3_69 | IL3: =第三面!H65&"" -> 3_70 | IM3: =第三面!N65&"" -> 3_71 | IN3: =第三面!H66&"" -> 3_72 | IO3: =第三面!N66&"" -> 3_73 | IP3: =第三面!D67&"" -> 3_74 | IQ3: =第三面!L67&"" -> 3_75 | IR3: =IF(第三面!R68="☑","有り",IF(第三面!U68="☑","無し",""))&"" -> 有り | IS3: =IF(第三面!B70="☑","ON","")&"" -> ON | IT3: =IF(第三面!I70="☑","ON","")&"" -> ON | IU3: =IF(第三面!P70="☑","ON","")&"" -> ON | IV3: =第三面!B73&"" -> 3_76 | IW3: =IF(ISERROR(IW4),"",IW4) -> 45598 | IX3: =IF(ISERROR(IX4),"",IX4) -> 45599 | IY3: =第三面!C77&"" -> 77 | IZ3: =IF(ISERROR(IZ4),"",IZ4) -> 45600 | JA3: =第三面!O77&"" -> 3_78 | JB3: =第三面!C78&"" -> 79 | JC3: =IF(ISERROR(JC4),"",JC4) -> 45601 | JD3: =第三面!O78&"" -> 3_80 | JE3: =第三面!C79&"" -> 81 | JF3: =IF(ISERROR(JF4),"",JF4) -> 45602 | JG3: =第三面!O79&"" -> 3_82 | JH3: =第三面!B82&"" -> 3_83 | JI3: =第三面!B85&"" -> 3_84 | JJ3: =第四面!F3&"" -> 4_1 | JK3: =第四面!F4&"" -> 4_2 | JL3: =第四面!K4&"" -> 4_3 | JM3: =第四面!F5&"" -> 4_4 | JN3: =第四面!K5&"" -> 4_5 | JO3: =第四面!F6&"" -> 4_6 | JP3: =第四面!K6&"" -> 4_7 | JQ3: =第四面!F7&"" -> 4_8 | JR3: =第四面!K7&"" -> 4_9 | JS3: =IF(第四面!A9="☑","ON","")&"" -> ON | JT3: =IF(第四面!D9="☑","ON","")&"" -> ON | JU3: =IF(第四面!G9="☑","ON","")&"" -> ON | JV3: =IF(第四面!J9="☑","ON","")&"" -> ON | JW3: =IF(第四面!M9="☑","ON","")&"" -> ON | JX3: =IF(第四面!Q9="☑","ON","")&"" -> ON | JY3: =IF(第四面!U9="☑","ON","")&"" -> ON | JZ3: =第四面!D10&"" -> 4_10 | KA3: =第四面!L10&"" -> 4_11 | KB3: =IF(第四面!B12="☑","耐火構造",IF(第四面!B13="☑","建築基準法施行令第108条の3第1項第1号イ及びロに掲げる基準に適合する構造",IF(第四面!B14="☑","準耐火構造",IF(第四面!B15="☑","準耐火構造と同等の準耐火性能を有する構造（ロ-1）",IF(第四面!B16="☑","準耐火構造と同等の準耐火性能を有する構造（ロ-2）",IF(第四面!B17="☑","その他",""))))))&"" -> 耐火構造 | KC3: =IF(第四面!B19="☑","建築基準法施行令第109条の5第1号に掲げる基準に適合する構造",IF(第四面!B20="☑","建築基準法第21条第1項ただし書きに該当する建築物",IF(第四面!B21="☑","建築基準法施行令第110条第1号に掲げる基準に適合する構造",IF(第四面!B22="☑","その他",IF(第四面!B23="☑","建築基準法第21条又は第27条の規定の適用を受けない","")))))&"" -> 建築基準法施行令第109条の5第1号に掲げる基準に適合する構造 | KD3: =IF(第四面!B25="☑","耐火建築物",IF(第四面!B26="☑","延焼防止建築物",IF(第四面!B27="☑","準耐火建築物",IF(第四面!B28="☑","準延焼防止建築物",IF(第四面!B29="☑","その他",IF(第四面!B30="☑","建築基準法第61条の規定の適用を受けない",""))))))&"" -> 耐火建築物 | KE3: =第四面!H32&"" -> 4_12 | KF3: =第四面!H33&"" -> 4_13 | KG3: =第四面!H34&"" -> 4_14 | KH3: =第四面!H35&"" -> 4_15 | KI3: =第四面!H37&"" -> 4_16 | KJ3: =第四面!H38&"" -> 4_17 | KK3: =第四面!G39&"" -> 4_18 | KL3: =IF(第四面!C42="☑","有り",IF(第四面!F42="☑","無し",""))&"" -> 有り | KM3: =IF(第四面!S43="☑","有り",IF(第四面!V43="☑","無し",""))&"" -> 有り | KN3: =第四面!M45&"" -> 4_19 | KO3: =第四面!M46&"" -> 4_20 | KP3: =IF(第四面!B48="☑","ON","")&"" -> ON | KQ3: =IF(第四面!B49="☑","ON","")&"" -> ON | KR3: =第四面!C51&"" -> 4_21 | KS3: =第四面!E53&"" -> 22 | KT3: =第四面!H53&"" -> 423 | KU3: =第四面!N53&"" -> 424 | KV3: =第四面!T53&"" -> 847 | KW3: =第四面!E54&"" -> 25 | KX3: =第四面!H54&"" -> 426 | KY3: =第四面!N54&"" -> 427 | KZ3: =第四面!T54&"" -> 853 | LA3: =第四面!E55&"" -> 28 | LB3: =第四面!H55&"" -> 429 | LC3: =第四面!N55&"" -> 430 | LD3: =第四面!T55&"" -> 859 | LE3: =第四面!E56&"" -> 31 | LF3: =第四面!H56&"" -> 432 | LG3: =第四面!N56&"" -> 433 | LH3: =第四面!T56&"" -> 865 | LI3: =第四面!E57&"" -> 34 | LJ3: =第四面!H57&"" -> 435 | LK3: =第四面!N57&"" -> 436 | LL3: =第四面!T57&"" -> 871 | LM3: =第四面!E58&"" -> 37 | LN3: =第四面!H58&"" -> 438 | LO3: =第四面!N58&"" -> 439 | LP3: =第四面!T58&"" -> 877 | LQ3: =第四面!E59&"" -> 40 | LR3: =第四面!H59&"" -> 441 | LS3: =第四面!N59&"" -> 442 | LT3: =第四面!T59&"" -> 883 | LU3: =第四面!E60&"" -> 43 | LV3: =第四面!H60&"" -> 444 | LW3: =第四面!N60&"" -> 445 | LX3: =第四面!T60&"" -> 889 | LY3: =第四面!E61&"" -> 46 | LZ3: =第四面!H61&"" -> 447 | MA3: =第四面!N61&"" -> 448 | MB3: =第四面!T61&"" -> 895 | MC3: =第四面!E62&"" -> 49 | MD3: =第四面!H62&"" -> 450 | ME3: =第四面!N62&"" -> 451 | MF3: =第四面!T62&"" -> 901 | MG3: =第四面!E63&"" -> 52 | MH3: =第四面!H63&"" -> 453 | MI3: =第四面!N63&"" -> 454 | MJ3: =第四面!T63&"" -> 907 | MK3: =第四面!H64&"" -> 4818 | ML3: =第四面!N64&"" -> 4829 | MM3: =第四面!T64&"" -> 9647 | MN3: =第四面!H65&"" -> 4_55 | MO3: =第四面!H66&"" -> 4_56 | MP3: =第四面!H67&"" -> 4_57 | MQ3: =第四面!H68&"" -> 4_58 | MR3: =第四面!H69&"" -> 4_59 | MS3: =第四面!H70&"" -> 4_60 | MT3: =第四面!B73&"" -> 4_61 | MU3: =第五面!F3&"" -> 5_1 | MV3: =第五面!F4&"" -> 5_2 | MW3: =第五面!F5&"" -> 5_3 | MX3: =第五面!H6&"" -> 5_4 | MY3: =第五面!H7&"" -> 5_5 | MZ3: =第五面!H9&"" -> 5_6 | NA3: =IF(第五面!P10="☑","有り",IF(第五面!S10="☑","無し",""))&"" -> 有り | NB3: =第五面!E14&"" -> 5_7 | NC3: =第五面!L14&"" -> 5_8 | ND3: =第五面!S14&"" -> 509 | NE3: =第五面!E15&"" -> 5_10 | NF3: =第五面!L15&"" -> 5_11 | NG3: =第五面!S15&"" -> 512 | NH3: =第五面!E16&"" -> 5_13 | NI3: =第五面!L16&"" -> 5_14 | NJ3: =第五面!S16&"" -> 515 | NK3: =第五面!E17&"" -> 5_16 | NL3: =第五面!L17&"" -> 5_17 | NM3: =第五面!S17&"" -> 518 | NN3: =第五面!E18&"" -> 5_19 | NO3: =第五面!L18&"" -> 5_20 | NP3: =第五面!S18&"" -> 521 | NQ3: =第五面!E19&"" -> 5_22 | NR3: =第五面!L19&"" -> 5_23 | NS3: =第五面!S19&"" -> 524 | NT3: =第五面!H20&"" -> 5_25 | NU3: =第五面!B23&"" -> 5_26 | NV3: =第六面!F3&"" -> 6_1 | NW3: =第六面!F4&"" -> 602 | NX3: =第六面!G6&"" -> 6_3 | NY3: =第六面!G7&"" -> 6_4 | NZ3: =第六面!H8&"" -> 6_5 | OA3: =第六面!P8&"" -> 6_6 | OB3: =第六面!D9&"" -> 6_7 | OC3: =第六面!L9&"" -> 6_8 | OD3: =IF(第六面!B11="☑","特定構造計算基準",IF(第六面!B12="☑","特定増改築構造計算基準",""))&"" -> 特定構造計算基準 | OE3: =IF(第六面!B14="☑","建築基準法施行令第81条第1項各号に掲げる基準に従つた構造計算",IF(第六面!B15="☑","建築基準法施行令第81条第2項第1号イに掲げる構造計算",IF(第六面!B16="☑","建築基準法施行令第81条第2項第1号ロに掲げる構造計算",IF(第六面!B17="☑","建築基準法施行令第81条第2項第2号イに掲げる構造計算",IF(第六面!B18="☑","建築基準法施行令第81条第3項に掲げる構造計算","")))))&"" -> 建築基準法施行令第81条第1項各号に掲げる基準に従つた構造計算 | OF3: =第六面!D20&"" -> 6_9 | OG3: =IF(第六面!B22="☑","建築基準法第20条第1項第2号イ又は第3号イの認定を受けたプログラム",IF(第六面!B24="☑","その他のプログラム",""))&"" -> 建築基準法第20条第1項第2号イ又は第3号イの認定を受けたプログラム | OH3: =第六面!F23&"" -> 6_10 | OI3: =第六面!C26&"" -> 6_11 | OJ3: =第六面!B29&"" -> 6_12 | OK3: =IF('建築計画概要書（第二面）'!B82="☑","1",IF('建築計画概要書（第二面）'!E82="☑","2",""))&"" -> 1 | OL3: =IF('建築計画概要書（第二面）'!B85="☑","1",IF('建築計画概要書（第二面）'!E85="☑","2",""))&"" -> 1
AQ4: ='第二面 (建築主追加)'!G4&"" -> 2;1 | AR4: ='第二面 (建築主追加)'!G5&"" -> 2;2 | AS4: ='第二面 (建築主追加)'!G6&"" -> 2;3 | AT4: ='第二面 (建築主追加)'!G7&"" -> 2;4 | AU4: ='第二面 (建築主追加)'!G8&"" -> 2;5 | BS4: =第二面!E40&"" -> 2_41 | BT4: =第二面!M40&"" -> 2_42 | BU4: =第二面!T40&"" -> 2_43 | BV4: =第二面!E41&"" -> 2_44 | BW4: =第二面!H42&"" -> 2_45 | BX4: =第二面!N42&"" -> 2_46 | BY4: =第二面!U42&"" -> 2_47 | BZ4: =第二面!E43&"" -> 2_48 | CA4: =第二面!F44&"" -> 2_49 | CB4: =第二面!F45&"" -> 2_50 | CC4: =第二面!F47&"" -> 2_51 | CD4: =第二面!J48&"" -> 2_52 | CF4: ='第二面 (構造、設備一級の表示者追加)'!K7&"" -> 2;65 | CG4: ='第二面 (構造、設備一級の表示者追加)'!K8&"" -> 2;66 | CI4: ='第二面 (構造、設備一級の表示者追加)'!K26&"" -> 2;67 | CJ4: ='第二面 (構造、設備一級の表示者追加)'!K27&"" -> 2;68 | CL4: =第二面!K70&"" -> 2_71 | CM4: =第二面!K71&"" -> 2_72 | CO4: =第二面!K77&"" -> 2_77 | CP4: =第二面!K78&"" -> 2_78 | CX4: =第二面!E101&"" -> 2_95 | CY4: =第二面!E102&"" -> 2_96 | CZ4: =第二面!F103&"" -> 2_97 | DA4: =第二面!E104&"" -> 2_98 | DB4: =第二面!E105&"" -> 2_99 | DC4: =第二面!E106&"" -> 2_100 | DD4: =第二面!H107&"" -> 2_101 | DQ4: =第二面!E139&"" -> 2_133 | DR4: =第二面!M139&"" -> 2_134 | DS4: =第二面!T139&"" -> 2_135 | DT4: =第二面!E140&"" -> 2_136 | DU4: =第二面!H141&"" -> 2_137 | DV4: =第二面!N141&"" -> 2_138 | DW4: =第二面!U141&"" -> 2_139 | DX4: =第二面!E142&"" -> 2_140 | DY4: =第二面!F143&"" -> 2_141 | DZ4: =第二面!F144&"" -> 2_142 | EA4: =第二面!F146&"" -> 2_143 | EB4: =第二面!J147&"" -> 2_144 | EC4: ='第二面 (工事施工者追加)'!E4&"" -> 2;157 | ED4: ='第二面 (工事施工者追加)'!I5&"" -> 2;158 | EE4: ='第二面 (工事施工者追加)'!P5&"" -> 2;159 | EF4: ='第二面 (工事施工者追加)'!E6&"" -> 2;160 | EG4: ='第二面 (工事施工者追加)'!F7&"" -> 2;161 | EH4: ='第二面 (工事施工者追加)'!F8&"" -> 2;162 | EI4: ='第二面 (工事施工者追加)'!F10&"" -> 2;163 | EJ4: =第二面!A171&"" -> ☑ | EK4: =第二面!E171&"" -> 2_164 | EL4: =第二面!A178&"" -> ☑ | EM4: =第二面!E178&"" -> 2_166 | EQ4: =第三面!C6&"" -> ☑ | ER4: =第三面!I6&"" -> ☑ | ES4: =第三面!N6&"" -> ☑ | ET4: =第三面!T6&"" -> ☑ | EU4: =第三面!C7&"" -> ☑ | EV4: =第三面!K7&"" -> ☑ | EW4: =第三面!G8&"" -> ☑ | GB4: =第三面!A28&"" -> ☑ | GC4: =第三面!D28&"" -> ☑ | GD4: =第三面!G28&"" -> ☑ | GE4: =第三面!J28&"" -> ☑ | GF4: =第三面!M28&"" -> ☑ | GG4: =第三面!Q28&"" -> ☑ | GH4: =第三面!U28&"" -> ☑ | IR4: =第三面!R68&"" -> ☑ | IS4: =第三面!B70&"" -> ☑ | IT4: =第三面!I70&"" -> ☑ | IU4: =第三面!P70&"" -> ☑ | IW4: =DATE(第三面!H74,第三面!M74,第三面!P74) -> 45598 | IX4: =DATE(第三面!H75,第三面!M75,第三面!P75) -> 45599 | IZ4: =DATE(第三面!F77,第三面!J77,第三面!L77) -> 45600 | JC4: =DATE(第三面!F78,第三面!J78,第三面!L78) -> 45601 | JF4: =DATE(第三面!F79,第三面!J79,第三面!L79) -> 45602 | JJ4: ='第四面 (2)'!F3&"" | JK4: ='第四面 (2)'!F4&"" | JL4: ='第四面 (2)'!K4&"" | JM4: ='第四面 (2)'!F5&"" | JN4: ='第四面 (2)'!K5&"" | JO4: ='第四面 (2)'!F6&"" | JP4: ='第四面 (2)'!K6&"" | JQ4: ='第四面 (2)'!F7&"" | JR4: ='第四面 (2)'!K7&"" | JS4: =IF('第四面 (2)'!A9="☑","ON","")&"" | JT4: =IF('第四面 (2)'!D9="☑","ON","")&"" | JU4: =IF('第四面 (2)'!G9="☑","ON","")&"" | JV4: =IF('第四面 (2)'!J9="☑","ON","")&"" | JW4: =IF('第四面 (2)'!M9="☑","ON","")&"" | JX4: =IF('第四面 (2)'!Q9="☑","ON","")&"" | JY4: =IF('第四面 (2)'!U9="☑","ON","")&"" | JZ4: ='第四面 (2)'!D10&"" | KA4: ='第四面 (2)'!L10&"" | KB4: =IF('第四面 (2)'!B12="☑","耐火構造",IF('第四面 (2)'!B13="☑","建築基準法施行令第108条の3第1項第1号イ及びロに掲げる基準に適合する構造",IF('第四面 (2)'!B14="☑","準耐火構造",IF('第四面 (2)'!B15="☑","準耐火構造と同等の準耐火性能を有する構造（ロ-1）",IF('第四面 (2)'!B16="☑","準耐火構造と同等の準耐火性能を有する構造（ロ-2）",IF('第四面 (2)'!B17="☑","その他",""))))))&"" | KC4: =IF('第四面 (2)'!B19="☑","建築基準法施行令第109条の5第1号に掲げる基準に適合する構造",IF('第四面 (2)'!B20="☑","建築基準法第21条第1項ただし書きに該当する建築物",IF('第四面 (2)'!B21="☑","建築基準法施行令第110条第1号に掲げる基準に適合する構造",IF('第四面 (2)'!B22="☑","その他",IF('第四面 (2)'!B23="☑","建築基準法第21条又は第27条の規定の適用を受けない","")))))&"" | KD4: =IF('第四面 (2)'!B25="☑","耐火建築物",IF('第四面 (2)'!B26="☑","延焼防止建築物",IF('第四面 (2)'!B27="☑","準耐火建築物",IF('第四面 (2)'!B28="☑","準延焼防止建築物",IF('第四面 (2)'!B29="☑","その他",IF('第四面 (2)'!B30="☑","建築基準法第61条の規定の適用を受けない",""))))))&"" | KE4: ='第四面 (2)'!H32&"" | KF4: ='第四面 (2)'!H33&"" | KG4: ='第四面 (2)'!H34&"" | KH4: ='第四面 (2)'!H35&"" | KI4: ='第四面 (2)'!H37&"" | KJ4: ='第四面 (2)'!H38&"" | KK4: ='第四面 (2)'!G39&"" | KL4: =IF('第四面 (2)'!C42="☑","有り",IF('第四面 (2)'!F42="☑","無し",""))&"" | KM4: =IF('第四面 (2)'!S43="☑","有り",IF('第四面 (2)'!V43="☑","無し",""))&"" | KN4: ='第四面 (2)'!M45&"" | KO4: ='第四面 (2)'!M46&"" | KP4: =IF('第四面 (2)'!B48="☑","ON","")&"" | KQ4: =IF('第四面 (2)'!B49="☑","ON","")&"" | KR4: ='第四面 (2)'!C51&"" | KS4: ='第四面 (2)'!E53&"" | KT4: ='第四面 (2)'!H53&"" | KU4: ='第四面 (2)'!N53&"" | KV4: ='第四面 (2)'!T53&"" -> 0 | KW4: ='第四面 (2)'!E54&"" | KX4: ='第四面 (2)'!H54&"" | KY4: ='第四面 (2)'!N54&"" | KZ4: ='第四面 (2)'!T54&"" -> 0 | LA4: ='第四面 (2)'!E55&"" | LB4: ='第四面 (2)'!H55&"" | LC4: ='第四面 (2)'!N55&"" | LD4: ='第四面 (2)'!T55&"" -> 0 | LE4: ='第四面 (2)'!E56&"" | LF4: ='第四面 (2)'!H56&"" | LG4: ='第四面 (2)'!N56&"" | LH4: ='第四面 (2)'!T56&"" -> 0 | LI4: ='第四面 (2)'!E57&"" | LJ4: ='第四面 (2)'!H57&"" | LK4: ='第四面 (2)'!N57&"" | LL4: ='第四面 (2)'!T57&"" -> 0 | LM4: ='第四面 (2)'!E58&"" | LN4: ='第四面 (2)'!H58&"" | LO4: ='第四面 (2)'!N58&"" | LP4: ='第四面 (2)'!T58&"" -> 0 | LQ4: ='第四面 (2)'!E59&"" | LR4: ='第四面 (2)'!H59&"" | LS4: ='第四面 (2)'!N59&"" | LT4: ='第四面 (2)'!T59&"" -> 0 | LU4: ='第四面 (2)'!E60&"" | LV4: ='第四面 (2)'!H60&"" | LW4: ='第四面 (2)'!N60&"" | LX4: ='第四面 (2)'!T60&"" -> 0 | LY4: ='第四面 (2)'!E61&"" | LZ4: ='第四面 (2)'!H61&"" | MA4: ='第四面 (2)'!N61&"" | MB4: ='第四面 (2)'!T61&"" -> 0 | MC4: ='第四面 (2)'!E62&"" | MD4: ='第四面 (2)'!H62&"" | ME4: ='第四面 (2)'!N62&"" | MF4: ='第四面 (2)'!T62&"" -> 0 | MG4: ='第四面 (2)'!E63&"" | MH4: ='第四面 (2)'!H63&"" | MI4: ='第四面 (2)'!N63&"" | MJ4: ='第四面 (2)'!T63&"" -> 0 | MK4: ='第四面 (2)'!H64&"" -> 0 | ML4: ='第四面 (2)'!N64&"" -> 0 | MM4: ='第四面 (2)'!T64&"" -> 0 | MN4: ='第四面 (2)'!H65&"" | MO4: ='第四面 (2)'!H66&"" | MP4: ='第四面 (2)'!H67&"" | MQ4: ='第四面 (2)'!H68&"" | MR4: ='第四面 (2)'!H69&"" | MS4: ='第四面 (2)'!H70&"" | MT4: ='第四面 (2)'!B73&"" | MU4: =第五面!F27&"" -> 5_27 | MV4: =第五面!F28&"" -> 5_28 | MW4: =第五面!F29&"" -> 5_29 | MX4: =第五面!H30&"" -> 5_30 | MY4: =第五面!H31&"" -> 5_31 | MZ4: =第五面!H33&"" -> 5_32 | NA4: =IF(第五面!P34="☑","有り",IF(第五面!S34="☑","無し",""))&"" -> 有り | NB4: =第五面!E38&"" -> 5_33 | NC4: =第五面!L38&"" -> 5_34 | ND4: =第五面!S38&"" -> 535 | NE4: =第五面!E39&"" -> 5_36 | NF4: =第五面!L39&"" -> 5_37 | NG4: =第五面!S39&"" -> 538 | NH4: =第五面!E40&"" -> 5_39 | NI4: =第五面!L40&"" -> 5_40 | NJ4: =第五面!S40&"" -> 541 | NK4: =第五面!E41&"" -> 5_42 | NL4: =第五面!L41&"" -> 5_43 | NM4: =第五面!S41&"" -> 544 | NN4: =第五面!E42&"" -> 5_45 | NO4: =第五面!L42&"" -> 5_46 | NP4: =第五面!S42&"" -> 547 | NQ4: =第五面!E43&"" -> 5_48 | NR4: =第五面!L43&"" -> 5_49 | NS4: =第五面!S43&"" -> 550 | NT4: =第五面!H44&"" -> 5_51 | NU4: =第五面!B47&"" -> 5_52 | NV4: =第六面!F32&"" -> 6_13 | NW4: =第六面!F33&"" -> 614 | NX4: =第六面!G35&"" -> 6_15 | NY4: =第六面!G36&"" -> 6_16 | NZ4: =第六面!H37&"" -> 6_17 | OA4: =第六面!P37&"" -> 6_18 | OB4: =第六面!D38&"" -> 6_19 | OC4: =第六面!L38&"" -> 6_20 | OD4: =IF(第六面!B40="☑","特定構造計算基準",IF(第六面!B41="☑","特定増改築構造計算基準",""))&"" -> 特定構造計算基準 | OE4: =IF(第六面!B43="☑","建築基準法施行令第81条第1項各号に掲げる基準に従つた構造計算",IF(第六面!B44="☑","建築基準法施行令第81条第2項第1号イに掲げる構造計算",IF(第六面!B45="☑","建築基準法施行令第81条第2項第1号ロに掲げる構造計算",IF(第六面!B46="☑","建築基準法施行令第81条第2項第2号イに掲げる構造計算",IF(第六面!B47="☑","建築基準法施行令第81条第3項に掲げる構造計算","")))))&"" -> 建築基準法施行令第81条第1項各号に掲げる基準に従つた構造計算 | OF4: =第六面!D49&"" -> 6_21 | OG4: =IF(第六面!B51="☑","建築基準法第20条第1項第2号イ又は第3号イの認定を受けたプログラム",IF(第六面!B53="☑","その他のプログラム",""))&"" -> 建築基準法第20条第1項第2号イ又は第3号イの認定を受けたプログラム | OH4: =第六面!F52&"" -> 6_22 | OI4: =第六面!C55&"" -> 6_23 | OJ4: =第六面!B58&"" -> 6_24 | OK4: ='建築計画概要書（第二面）'!B82&"" -> ☑ | OL4: ='建築計画概要書（第二面）'!B85&"" -> ☑
AQ5: ='第二面 (建築主追加)'!G11&"" -> 2;1 | AR5: ='第二面 (建築主追加)'!G12&"" -> 2;2 | AS5: ='第二面 (建築主追加)'!G13&"" -> 2;3 | AT5: ='第二面 (建築主追加)'!G14&"" -> 2;4 | AU5: ='第二面 (建築主追加)'!G15&"" -> 2;5 | BS5: =第二面!E50&"" -> 2_53 | BT5: =第二面!M50&"" -> 2_54 | BU5: =第二面!T50&"" -> 2_55 | BV5: =第二面!E51&"" -> 2_56 | BW5: =第二面!H52&"" -> 2_57 | BX5: =第二面!N52&"" -> 2_58 | BY5: =第二面!U52&"" -> 2_59 | BZ5: =第二面!E53&"" -> 2_60 | CA5: =第二面!F54&"" -> 2_61 | CB5: =第二面!F55&"" -> 2_62 | CC5: =第二面!F57&"" -> 2_63 | CD5: =第二面!J58&"" -> 2_64 | CF5: ='第二面 (構造、設備一級の表示者追加)'!K9&"" -> 2;65 | CG5: ='第二面 (構造、設備一級の表示者追加)'!K10&"" -> 2;66 | CI5: ='第二面 (構造、設備一級の表示者追加)'!K28&"" -> 2;67 | CJ5: ='第二面 (構造、設備一級の表示者追加)'!K29&"" -> 2;68 | CL5: =第二面!K72&"" -> 2_73 | CM5: =第二面!K73&"" -> 2_74 | CO5: =第二面!K79&"" -> 2_79 | CP5: =第二面!K80&"" -> 2_80 | CX5: =第二面!E109&"" -> 2_102 | CY5: =第二面!E110&"" -> 2_103 | CZ5: =第二面!F111&"" -> 2_104 | DA5: =第二面!E112&"" -> 2_105 | DB5: =第二面!E113&"" -> 2_106 | DC5: =第二面!E114&"" -> 2_107 | DD5: =第二面!H115&"" -> 2_108 | DQ5: =第二面!E149&"" -> 2_145 | DR5: =第二面!M149&"" -> 2_146 | DS5: =第二面!T149&"" -> 2_147 | DT5: =第二面!E150&"" -> 2_148 | DU5: =第二面!H151&"" -> 2_149 | DV5: =第二面!N151&"" -> 2_150 | DW5: =第二面!U151&"" -> 2_151 | DX5: =第二面!E152&"" -> 2_152 | DY5: =第二面!F153&"" -> 2_153 | DZ5: =第二面!F154&"" -> 2_154 | EA5: =第二面!F156&"" -> 2_155 | EB5: =第二面!J157&"" -> 2_156 | EC5: ='第二面 (工事施工者追加)'!E12&"" -> 2;157 | ED5: ='第二面 (工事施工者追加)'!I13&"" -> 2;158 | EE5: ='第二面 (工事施工者追加)'!P13&"" -> 2;159 | EF5: ='第二面 (工事施工者追加)'!E14&"" -> 2;160 | EG5: ='第二面 (工事施工者追加)'!F15&"" -> 2;161 | EH5: ='第二面 (工事施工者追加)'!F16&"" -> 2;162 | EI5: ='第二面 (工事施工者追加)'!F18&"" -> 2;163 | EJ5: =第二面!A172&"" -> ☑ | EK5: =第二面!E172&"" -> 2_165 | EL5: =第二面!A179&"" -> ☑ | EM5: =第二面!E179&"" -> 2_167 | EW5: =第三面!L8&"" -> ☑ | IR5: =第三面!U68&"" -> ☑ | JJ5: ='第四面 (3)'!F3&"" | JK5: ='第四面 (3)'!F4&"" | JL5: ='第四面 (3)'!K4&"" | JM5: ='第四面 (3)'!F5&"" | JN5: ='第四面 (3)'!K5&"" | JO5: ='第四面 (3)'!F6&"" | JP5: ='第四面 (3)'!K6&"" | JQ5: ='第四面 (3)'!F7&"" | JR5: ='第四面 (3)'!K7&"" | JS5: =IF('第四面 (3)'!A9="☑","ON","")&"" | JT5: =IF('第四面 (3)'!D9="☑","ON","")&"" | JU5: =IF('第四面 (3)'!G9="☑","ON","")&"" | JV5: =IF('第四面 (3)'!J9="☑","ON","")&"" | JW5: =IF('第四面 (3)'!M9="☑","ON","")&"" | JX5: =IF('第四面 (3)'!Q9="☑","ON","")&"" | JY5: =IF('第四面 (3)'!U9="☑","ON","")&"" | JZ5: ='第四面 (3)'!D10&"" | KA5: ='第四面 (3)'!L10&"" | KB5: =IF('第四面 (3)'!B12="☑","耐火構造",IF('第四面 (3)'!B13="☑","建築基準法施行令第108条の3第1項第1号イ及びロに掲げる基準に適合する構造",IF('第四面 (3)'!B14="☑","準耐火構造",IF('第四面 (3)'!B15="☑","準耐火構造と同等の準耐火性能を有する構造（ロ-1）",IF('第四面 (3)'!B16="☑","準耐火構造と同等の準耐火性能を有する構造（ロ-2）",IF('第四面 (3)'!B17="☑","その他",""))))))&"" | KC5: =IF('第四面 (3)'!B19="☑","建築基準法施行令第109条の5第1号に掲げる基準に適合する構造",IF('第四面 (3)'!B20="☑","建築基準法第21条第1項ただし書きに該当する建築物",IF('第四面 (3)'!B21="☑","建築基準法施行令第110条第1号に掲げる基準に適合する構造",IF('第四面 (3)'!B22="☑","その他",IF('第四面 (3)'!B23="☑","建築基準法第21条又は第27条の規定の適用を受けない","")))))&"" | KD5: =IF('第四面 (3)'!B25="☑","耐火建築物",IF('第四面 (3)'!B26="☑","延焼防止建築物",IF('第四面 (3)'!B27="☑","準耐火建築物",IF('第四面 (3)'!B28="☑","準延焼防止建築物",IF('第四面 (3)'!B29="☑","その他",IF('第四面 (3)'!B30="☑","建築基準法第61条の規定の適用を受けない",""))))))&"" | KE5: ='第四面 (3)'!H32&"" | KF5: ='第四面 (3)'!H33&"" | KG5: ='第四面 (3)'!H34&"" | KH5: ='第四面 (3)'!H35&"" | KI5: ='第四面 (3)'!H37&"" | KJ5: ='第四面 (3)'!H38&"" | KK5: ='第四面 (3)'!G39&"" | KL5: =IF('第四面 (3)'!C42="☑","有り",IF('第四面 (3)'!F42="☑","無し",""))&"" | KM5: =IF('第四面 (3)'!S43="☑","有り",IF('第四面 (3)'!V43="☑","無し",""))&"" | KN5: ='第四面 (3)'!M45&"" | KO5: ='第四面 (3)'!M46&"" | KP5: =IF('第四面 (3)'!B48="☑","ON","")&"" | KQ5: =IF('第四面 (3)'!B49="☑","ON","")&"" | KR5: ='第四面 (3)'!C51&"" | KS5: ='第四面 (3)'!E53&"" | KT5: ='第四面 (3)'!H53&"" | KU5: ='第四面 (3)'!N53&"" | KV5: ='第四面 (3)'!T53&"" -> 0 | KW5: ='第四面 (3)'!E54&"" | KX5: ='第四面 (3)'!H54&"" | KY5: ='第四面 (3)'!N54&"" | KZ5: ='第四面 (3)'!T54&"" -> 0 | LA5: ='第四面 (3)'!E55&"" | LB5: ='第四面 (3)'!H55&"" | LC5: ='第四面 (3)'!N55&"" | LD5: ='第四面 (3)'!T55&"" -> 0 | LE5: ='第四面 (3)'!E56&"" | LF5: ='第四面 (3)'!H56&"" | LG5: ='第四面 (3)'!N56&"" | LH5: ='第四面 (3)'!T56&"" -> 0 | LI5: ='第四面 (3)'!E57&"" | LJ5: ='第四面 (3)'!H57&"" | LK5: ='第四面 (3)'!N57&"" | LL5: ='第四面 (3)'!T57&"" -> 0 | LM5: ='第四面 (3)'!E58&"" | LN5: ='第四面 (3)'!H58&"" | LO5: ='第四面 (3)'!N58&"" | LP5: ='第四面 (3)'!T58&"" -> 0 | LQ5: ='第四面 (3)'!E59&"" | LR5: ='第四面 (3)'!H59&"" | LS5: ='第四面 (3)'!N59&"" | LT5: ='第四面 (3)'!T59&"" -> 0 | LU5: ='第四面 (3)'!E60&"" | LV5: ='第四面 (3)'!H60&"" | LW5: ='第四面 (3)'!N60&"" | LX5: ='第四面 (3)'!T60&"" -> 0 | LY5: ='第四面 (3)'!E61&"" | LZ5: ='第四面 (3)'!H61&"" | MA5: ='第四面 (3)'!N61&"" | MB5: ='第四面 (3)'!T61&"" -> 0 | MC5: ='第四面 (3)'!E62&"" | MD5: ='第四面 (3)'!H62&"" | ME5: ='第四面 (3)'!N62&"" | MF5: ='第四面 (3)'!T62&"" -> 0 | MG5: ='第四面 (3)'!E63&"" | MH5: ='第四面 (3)'!H63&"" | MI5: ='第四面 (3)'!N63&"" | MJ5: ='第四面 (3)'!T63&"" -> 0 | MK5: ='第四面 (3)'!H64&"" -> 0 | ML5: ='第四面 (3)'!N64&"" -> 0 | MM5: ='第四面 (3)'!T64&"" -> 0 | MN5: ='第四面 (3)'!H65&"" | MO5: ='第四面 (3)'!H66&"" | MP5: ='第四面 (3)'!H67&"" | MQ5: ='第四面 (3)'!H68&"" | MR5: ='第四面 (3)'!H69&"" | MS5: ='第四面 (3)'!H70&"" | MT5: ='第四面 (3)'!B73&"" | MU5: ='第五面 (2)'!F3&"" | MV5: ='第五面 (2)'!F4&"" | MW5: ='第五面 (2)'!F5&"" | MX5: ='第五面 (2)'!H6&"" | MY5: ='第五面 (2)'!H7&"" | MZ5: ='第五面 (2)'!H9&"" | NA5: =IF('第五面 (2)'!P10="☑","有り",IF('第五面 (2)'!S10="☑","無し",""))&"" | NB5: ='第五面 (2)'!E14&"" | NC5: ='第五面 (2)'!L14&"" | ND5: ='第五面 (2)'!S14&"" | NE5: ='第五面 (2)'!E15&"" | NF5: ='第五面 (2)'!L15&"" | NG5: ='第五面 (2)'!S15&"" | NH5: ='第五面 (2)'!E16&"" | NI5: ='第五面 (2)'!L16&"" | NJ5: ='第五面 (2)'!S16&"" | NK5: ='第五面 (2)'!E17&"" | NL5: ='第五面 (2)'!L17&"" | NM5: ='第五面 (2)'!S17&"" | NN5: ='第五面 (2)'!E18&"" | NO5: ='第五面 (2)'!L18&"" | NP5: ='第五面 (2)'!S18&"" | NQ5: ='第五面 (2)'!E19&"" | NR5: ='第五面 (2)'!L19&"" | NS5: ='第五面 (2)'!S19&"" | NT5: ='第五面 (2)'!H20&"" | NU5: ='第五面 (2)'!B23&"" | NV5: ='第六面 (2)'!F3&"" | NW5: ='第六面 (2)'!F4&"" | NX5: ='第六面 (2)'!G6&"" | NY5: ='第六面 (2)'!G7&"" | NZ5: ='第六面 (2)'!H8&"" | OA5: ='第六面 (2)'!P8&"" | OB5: ='第六面 (2)'!D9&"" | OC5: ='第六面 (2)'!L9&"" | OD5: =IF('第六面 (2)'!B11="☑","特定構造計算基準",IF('第六面 (2)'!B12="☑","特定増改築構造計算基準",""))&"" | OE5: =IF('第六面 (2)'!B14="☑","建築基準法施行令第81条第1項各号に掲げる基準に従つた構造計算",IF('第六面 (2)'!B15="☑","建築基準法施行令第81条第2項第1号イに掲げる構造計算",IF('第六面 (2)'!B16="☑","建築基準法施行令第81条第2項第1号ロに掲げる構造計算",IF('第六面 (2)'!B17="☑","建築基準法施行令第81条第2項第2号イに掲げる構造計算",IF('第六面 (2)'!B18="☑","建築基準法施行令第81条第3項に掲げる構造計算","")))))&"" | OF5: ='第六面 (2)'!D20&"" | OG5: =IF('第六面 (2)'!B22="☑","建築基準法第20条第1項第2号イ又は第3号イの認定を受けたプログラム",IF('第六面 (2)'!B24="☑","その他のプログラム",""))&"" | OH5: ='第六面 (2)'!F23&"" | OI5: ='第六面 (2)'!C26&"" | OJ5: ='第六面 (2)'!B29&"" | OK5: ='建築計画概要書（第二面）'!E82&"" -> ☑ | OL5: ='建築計画概要書（第二面）'!E85&"" -> ☑
AQ6: ='第二面 (建築主追加)'!G18&"" -> 2;1 | AR6: ='第二面 (建築主追加)'!G19&"" -> 2;2 | AS6: ='第二面 (建築主追加)'!G20&"" -> 2;3 | AT6: ='第二面 (建築主追加)'!G21&"" -> 2;4 | AU6: ='第二面 (建築主追加)'!G22&"" -> 2;5 | BS6: ='第二面 (その他設計者追加)'!E5&"" -> 2;29 | BT6: ='第二面 (その他設計者追加)'!M5&"" -> 2;30 | BU6: ='第二面 (その他設計者追加)'!T5&"" -> 2;31 | BV6: ='第二面 (その他設計者追加)'!E6&"" -> 2;32 | BW6: ='第二面 (その他設計者追加)'!H7&"" -> 2;33 | BX6: ='第二面 (その他設計者追加)'!N7&"" -> 2;34 | BY6: ='第二面 (その他設計者追加)'!U7&"" -> 2;35 | BZ6: ='第二面 (その他設計者追加)'!E8&"" -> 2;36 | CA6: ='第二面 (その他設計者追加)'!F9&"" -> 2;37 | CB6: ='第二面 (その他設計者追加)'!F10&"" -> 2;38 | CC6: ='第二面 (その他設計者追加)'!F12&"" -> 2;39 | CD6: ='第二面 (その他設計者追加)'!J13&"" -> 2;40 | CF6: ='第二面 (構造、設備一級の表示者追加)'!K11&"" -> 2;65 | CG6: ='第二面 (構造、設備一級の表示者追加)'!K12&"" -> 2;66 | CI6: ='第二面 (構造、設備一級の表示者追加)'!K30&"" -> 2;67 | CJ6: ='第二面 (構造、設備一級の表示者追加)'!K31&"" -> 2;68 | CL6: ='第二面 (構造、設備一級の表示者追加)'!K45&"" -> 2;69 | CM6: ='第二面 (構造、設備一級の表示者追加)'!K46&"" -> 2;70 | CO6: ='第二面 (構造、設備一級の表示者追加)'!K61&"" -> 2;75 | CP6: ='第二面 (構造、設備一級の表示者追加)'!K62&"" -> 2;76 | CX6: ='第二面 (設備の意見を聴いた者追加)'!E4&"" -> 2;88 | CY6: ='第二面 (設備の意見を聴いた者追加)'!E5&"" -> 2;89 | CZ6: ='第二面 (設備の意見を聴いた者追加)'!F6&"" -> 2;90 | DA6: ='第二面 (設備の意見を聴いた者追加)'!E7&"" -> 2;91 | DB6: ='第二面 (設備の意見を聴いた者追加)'!E8&"" -> 2;92 | DC6: ='第二面 (設備の意見を聴いた者追加)'!E9&"" -> 2;93 | DD6: ='第二面 (設備の意見を聴いた者追加)'!H10&"" -> 22;94 | DQ6: ='第二面 (工事監理者追加)'!E3&"" -> 2;121 | DR6: ='第二面 (工事監理者追加)'!M3&"" -> 2;122 | DS6: ='第二面 (工事監理者追加)'!T3&"" -> 2;123 | DT6: ='第二面 (工事監理者追加)'!E4&"" -> 2;124 | DU6: ='第二面 (工事監理者追加)'!H5&"" -> 2;125 | DV6: ='第二面 (工事監理者追加)'!N5&"" -> 2;126 | DW6: ='第二面 (工事監理者追加)'!U5&"" -> 2;127 | DX6: ='第二面 (工事監理者追加)'!E6&"" -> 2;128 | DY6: ='第二面 (工事監理者追加)'!F7&"" -> 2;129 | DZ6: ='第二面 (工事監理者追加)'!F8&"" -> 2;130 | EA6: ='第二面 (工事監理者追加)'!F10&"" -> 2;131 | EB6: ='第二面 (工事監理者追加)'!J11&"" -> 2;132 | EC6: ='第二面 (工事施工者追加)'!E20&"" -> 2;157 | ED6: ='第二面 (工事施工者追加)'!I21&"" -> 2;158 | EE6: ='第二面 (工事施工者追加)'!P21&"" -> 2;159 | EF6: ='第二面 (工事施工者追加)'!E22&"" -> 2;160 | EG6: ='第二面 (工事施工者追加)'!F23&"" -> 2;161 | EH6: ='第二面 (工事施工者追加)'!F24&"" -> 2;162 | EI6: ='第二面 (工事施工者追加)'!F26&"" -> 2;163 | EJ6: =第二面!A173&"" -> ☑ | EL6: =第二面!A180&"" -> ☑ | EM6: =第二面!E180&"" -> 2_168 | EW6: =第三面!Q8&"" -> ☑ | JJ6: ='第四面 (4)'!F3&"" | JK6: ='第四面 (4)'!F4&"" | JL6: ='第四面 (4)'!K4&"" | JM6: ='第四面 (4)'!F5&"" | JN6: ='第四面 (4)'!K5&"" | JO6: ='第四面 (4)'!F6&"" | JP6: ='第四面 (4)'!K6&"" | JQ6: ='第四面 (4)'!F7&"" | JR6: ='第四面 (4)'!K7&"" | JS6: =IF('第四面 (4)'!A9="☑","ON","")&"" | JT6: =IF('第四面 (4)'!D9="☑","ON","")&"" | JU6: =IF('第四面 (4)'!G9="☑","ON","")&"" | JV6: =IF('第四面 (4)'!J9="☑","ON","")&"" | JW6: =IF('第四面 (4)'!M9="☑","ON","")&"" | JX6: =IF('第四面 (4)'!Q9="☑","ON","")&"" | JY6: =IF('第四面 (4)'!U9="☑","ON","")&"" | JZ6: ='第四面 (4)'!D10&"" | KA6: ='第四面 (4)'!L10&"" | KB6: =IF('第四面 (4)'!B12="☑","耐火構造",IF('第四面 (4)'!B13="☑","建築基準法施行令第108条の3第1項第1号イ及びロに掲げる基準に適合する構造",IF('第四面 (4)'!B14="☑","準耐火構造",IF('第四面 (4)'!B15="☑","準耐火構造と同等の準耐火性能を有する構造（ロ-1）",IF('第四面 (4)'!B16="☑","準耐火構造と同等の準耐火性能を有する構造（ロ-2）",IF('第四面 (4)'!B17="☑","その他",""))))))&"" | KC6: =IF('第四面 (4)'!B19="☑","建築基準法施行令第109条の5第1号に掲げる基準に適合する構造",IF('第四面 (4)'!B20="☑","建築基準法第21条第1項ただし書きに該当する建築物",IF('第四面 (4)'!B21="☑","建築基準法施行令第110条第1号に掲げる基準に適合する構造",IF('第四面 (4)'!B22="☑","その他",IF('第四面 (4)'!B23="☑","建築基準法第21条又は第27条の規定の適用を受けない","")))))&"" | KD6: =IF('第四面 (4)'!B25="☑","耐火建築物",IF('第四面 (4)'!B26="☑","延焼防止建築物",IF('第四面 (4)'!B27="☑","準耐火建築物",IF('第四面 (4)'!B28="☑","準延焼防止建築物",IF('第四面 (4)'!B29="☑","その他",IF('第四面 (4)'!B30="☑","建築基準法第61条の規定の適用を受けない",""))))))&"" | KE6: ='第四面 (4)'!H32&"" | KF6: ='第四面 (4)'!H33&"" | KG6: ='第四面 (4)'!H34&"" | KH6: ='第四面 (4)'!H35&"" | KI6: ='第四面 (4)'!H37&"" | KJ6: ='第四面 (4)'!H38&"" | KK6: ='第四面 (4)'!G39&"" | KL6: =IF('第四面 (4)'!C42="☑","有り",IF('第四面 (4)'!F42="☑","無し",""))&"" | KM6: =IF('第四面 (4)'!S43="☑","有り",IF('第四面 (4)'!V43="☑","無し",""))&"" | KN6: ='第四面 (4)'!M45&"" | KO6: ='第四面 (4)'!M46&"" | KP6: =IF('第四面 (4)'!B48="☑","ON","")&"" | KQ6: =IF('第四面 (4)'!B49="☑","ON","")&"" | KR6: ='第四面 (4)'!C51&"" | KS6: ='第四面 (4)'!E53&"" | KT6: ='第四面 (4)'!H53&"" | KU6: ='第四面 (4)'!N53&"" | KV6: ='第四面 (4)'!T53&"" -> 0 | KW6: ='第四面 (4)'!E54&"" | KX6: ='第四面 (4)'!H54&"" | KY6: ='第四面 (4)'!N54&"" | KZ6: ='第四面 (4)'!T54&"" -> 0 | LA6: ='第四面 (4)'!E55&"" | LB6: ='第四面 (4)'!H55&"" | LC6: ='第四面 (4)'!N55&"" | LD6: ='第四面 (4)'!T55&"" -> 0 | LE6: ='第四面 (4)'!E56&"" | LF6: ='第四面 (4)'!H56&"" | LG6: ='第四面 (4)'!N56&"" | LH6: ='第四面 (4)'!T56&"" -> 0 | LI6: ='第四面 (4)'!E57&"" | LJ6: ='第四面 (4)'!H57&"" | LK6: ='第四面 (4)'!N57&"" | LL6: ='第四面 (4)'!T57&"" -> 0 | LM6: ='第四面 (4)'!E58&"" | LN6: ='第四面 (4)'!H58&"" | LO6: ='第四面 (4)'!N58&"" | LP6: ='第四面 (4)'!T58&"" -> 0 | LQ6: ='第四面 (4)'!E59&"" | LR6: ='第四面 (4)'!H59&"" | LS6: ='第四面 (4)'!N59&"" | LT6: ='第四面 (4)'!T59&"" -> 0 | LU6: ='第四面 (4)'!E60&"" | LV6: ='第四面 (4)'!H60&"" | LW6: ='第四面 (4)'!N60&"" | LX6: ='第四面 (4)'!T60&"" -> 0 | LY6: ='第四面 (4)'!E61&"" | LZ6: ='第四面 (4)'!H61&"" | MA6: ='第四面 (4)'!N61&"" | MB6: ='第四面 (4)'!T61&"" -> 0 | MC6: ='第四面 (4)'!E62&"" | MD6: ='第四面 (4)'!H62&"" | ME6: ='第四面 (4)'!N62&"" | MF6: ='第四面 (4)'!T62&"" -> 0 | MG6: ='第四面 (4)'!E63&"" | MH6: ='第四面 (4)'!H63&"" | MI6: ='第四面 (4)'!N63&"" | MJ6: ='第四面 (4)'!T63&"" -> 0 | MK6: ='第四面 (4)'!H64&"" -> 0 | ML6: ='第四面 (4)'!N64&"" -> 0 | MM6: ='第四面 (4)'!T64&"" -> 0 | MN6: ='第四面 (4)'!H65&"" | MO6: ='第四面 (4)'!H66&"" | MP6: ='第四面 (4)'!H67&"" | MQ6: ='第四面 (4)'!H68&"" | MR6: ='第四面 (4)'!H69&"" | MS6: ='第四面 (4)'!H70&"" | MT6: ='第四面 (4)'!B73&"" | MU6: ='第五面 (2)'!F27&"" | MV6: ='第五面 (2)'!F28&"" | MW6: ='第五面 (2)'!F29&"" | MX6: ='第五面 (2)'!H30&"" | MY6: ='第五面 (2)'!H31&"" | MZ6: ='第五面 (2)'!H33&"" | NA6: =IF('第五面 (2)'!P34="☑","有り",IF('第五面 (2)'!S34="☑","無し",""))&"" | NB6: ='第五面 (2)'!E38&"" | NC6: ='第五面 (2)'!L38&"" | ND6: ='第五面 (2)'!S38&"" | NE6: ='第五面 (2)'!E39&"" | NF6: ='第五面 (2)'!L39&"" | NG6: ='第五面 (2)'!S39&"" | NH6: ='第五面 (2)'!E40&"" | NI6: ='第五面 (2)'!L40&"" | NJ6: ='第五面 (2)'!S40&"" | NK6: ='第五面 (2)'!E41&"" | NL6: ='第五面 (2)'!L41&"" | NM6: ='第五面 (2)'!S41&"" | NN6: ='第五面 (2)'!E42&"" | NO6: ='第五面 (2)'!L42&"" | NP6: ='第五面 (2)'!S42&"" | NQ6: ='第五面 (2)'!E43&"" | NR6: ='第五面 (2)'!L43&"" | NS6: ='第五面 (2)'!S43&"" | NT6: ='第五面 (2)'!H44&"" | NU6: ='第五面 (2)'!B47&"" | NV6: ='第六面 (2)'!F32&"" | NW6: ='第六面 (2)'!F33&"" | NX6: ='第六面 (2)'!G35&"" | NY6: ='第六面 (2)'!G36&"" | NZ6: ='第六面 (2)'!H37&"" | OA6: ='第六面 (2)'!P37&"" | OB6: ='第六面 (2)'!D38&"" | OC6: ='第六面 (2)'!L38&"" | OD6: =IF('第六面 (2)'!B40="☑","特定構造計算基準",IF('第六面 (2)'!B41="☑","特定増改築構造計算基準",""))&"" | OE6: =IF('第六面 (2)'!B43="☑","建築基準法施行令第81条第1項各号に掲げる基準に従つた構造計算",IF('第六面 (2)'!B44="☑","建築基準法施行令第81条第2項第1号イに掲げる構造計算",IF('第六面 (2)'!B45="☑","建築基準法施行令第81条第2項第1号ロに掲げる構造計算",IF('第六面 (2)'!B46="☑","建築基準法施行令第81条第2項第2号イに掲げる構造計算",IF('第六面 (2)'!B47="☑","建築基準法施行令第81条第3項に掲げる構造計算","")))))&"" | OF6: ='第六面 (2)'!D49&"" | OG6: =IF('第六面 (2)'!B51="☑","建築基準法第20条第1項第2号イ又は第3号イの認定を受けたプログラム",IF('第六面 (2)'!B53="☑","その他のプログラム",""))&"" | OH6: ='第六面 (2)'!F52&"" | OI6: ='第六面 (2)'!C55&"" | OJ6: ='第六面 (2)'!B58&""
AQ7: ='第二面 (建築主追加)'!G25&"" -> 2;1 | AR7: ='第二面 (建築主追加)'!G26&"" -> 2;2 | AS7: ='第二面 (建築主追加)'!G27&"" -> 2;3 | AT7: ='第二面 (建築主追加)'!G28&"" -> 2;4 | AU7: ='第二面 (建築主追加)'!G29&"" -> 2;5 | BS7: ='第二面 (その他設計者追加)'!E15&"" -> 2;41 | BT7: ='第二面 (その他設計者追加)'!M15&"" -> 2;42 | BU7: ='第二面 (その他設計者追加)'!T15&"" -> 2;43 | BV7: ='第二面 (その他設計者追加)'!E16&"" -> 2;44 | BW7: ='第二面 (その他設計者追加)'!H17&"" -> 2;45 | BX7: ='第二面 (その他設計者追加)'!N17&"" -> 2;46 | BY7: ='第二面 (その他設計者追加)'!U17&"" -> 2;47 | BZ7: ='第二面 (その他設計者追加)'!E18&"" -> 2;48 | CA7: ='第二面 (その他設計者追加)'!F19&"" -> 2;49 | CB7: ='第二面 (その他設計者追加)'!F20&"" -> 2;50 | CC7: ='第二面 (その他設計者追加)'!F22&"" -> 2;51 | CD7: ='第二面 (その他設計者追加)'!J23&"" -> 2;52 | CF7: ='第二面 (構造、設備一級の表示者追加)'!K13&"" -> 2;65 | CG7: ='第二面 (構造、設備一級の表示者追加)'!K14&"" -> 2;66 | CI7: ='第二面 (構造、設備一級の表示者追加)'!K32&"" -> 2;67 | CJ7: ='第二面 (構造、設備一級の表示者追加)'!K33&"" -> 2;68 | CL7: ='第二面 (構造、設備一級の表示者追加)'!K47&"" -> 2;69 | CM7: ='第二面 (構造、設備一級の表示者追加)'!K48&"" -> 2;70 | CO7: ='第二面 (構造、設備一級の表示者追加)'!K63&"" -> 2;77 | CP7: ='第二面 (構造、設備一級の表示者追加)'!K64&"" -> 2;78 | CX7: ='第二面 (設備の意見を聴いた者追加)'!E12&"" -> 2;95 | CY7: ='第二面 (設備の意見を聴いた者追加)'!E13&"" -> 2;96 | CZ7: ='第二面 (設備の意見を聴いた者追加)'!F14&"" -> 2;97 | DA7: ='第二面 (設備の意見を聴いた者追加)'!E15&"" -> 2;98 | DB7: ='第二面 (設備の意見を聴いた者追加)'!E16&"" -> 2;99 | DC7: ='第二面 (設備の意見を聴いた者追加)'!E17&"" -> 2;100 | DD7: ='第二面 (設備の意見を聴いた者追加)'!H18&"" -> 2;101 | DQ7: ='第二面 (工事監理者追加)'!E13&"" -> 2;133 | DR7: ='第二面 (工事監理者追加)'!M13&"" -> 2;134 | DS7: ='第二面 (工事監理者追加)'!T13&"" -> 2;135 | DT7: ='第二面 (工事監理者追加)'!E14&"" -> 2;136 | DU7: ='第二面 (工事監理者追加)'!H15&"" -> 2;137 | DV7: ='第二面 (工事監理者追加)'!N15&"" -> 2;138 | DW7: ='第二面 (工事監理者追加)'!U15&"" -> 2;139 | DX7: ='第二面 (工事監理者追加)'!E16&"" -> 2;140 | DY7: ='第二面 (工事監理者追加)'!F17&"" -> 2;141 | DZ7: ='第二面 (工事監理者追加)'!F18&"" -> 2;142 | EA7: ='第二面 (工事監理者追加)'!F20&"" -> 2;143 | EB7: ='第二面 (工事監理者追加)'!J21&"" -> 2;144 | EC7: ='第二面 (工事施工者追加)'!E28&"" -> 2;157 | ED7: ='第二面 (工事施工者追加)'!I29&"" -> 2;158 | EE7: ='第二面 (工事施工者追加)'!P29&"" -> 2;159 | EF7: ='第二面 (工事施工者追加)'!E30&"" -> 2;160 | EG7: ='第二面 (工事施工者追加)'!F31&"" -> 2;161 | EH7: ='第二面 (工事施工者追加)'!F32&"" -> 2;162 | EI7: ='第二面 (工事施工者追加)'!F34&"" -> 2;163 | JJ7: ='第四面 (5)'!F3&"" | JK7: ='第四面 (5)'!F4&"" | JL7: ='第四面 (5)'!K4&"" | JM7: ='第四面 (5)'!F5&"" | JN7: ='第四面 (5)'!K5&"" | JO7: ='第四面 (5)'!F6&"" | JP7: ='第四面 (5)'!K6&"" | JQ7: ='第四面 (5)'!F7&"" | JR7: ='第四面 (5)'!K7&"" | JS7: =IF('第四面 (5)'!A9="☑","ON","")&"" | JT7: =IF('第四面 (5)'!D9="☑","ON","")&"" | JU7: =IF('第四面 (5)'!G9="☑","ON","")&"" | JV7: =IF('第四面 (5)'!J9="☑","ON","")&"" | JW7: =IF('第四面 (5)'!M9="☑","ON","")&"" | JX7: =IF('第四面 (5)'!Q9="☑","ON","")&"" | JY7: =IF('第四面 (5)'!U9="☑","ON","")&"" | JZ7: ='第四面 (5)'!D10&"" | KA7: ='第四面 (5)'!L10&"" | KB7: =IF('第四面 (5)'!B12="☑","耐火構造",IF('第四面 (5)'!B13="☑","建築基準法施行令第108条の3第1項第1号イ及びロに掲げる基準に適合する構造",IF('第四面 (5)'!B14="☑","準耐火構造",IF('第四面 (5)'!B15="☑","準耐火構造と同等の準耐火性能を有する構造（ロ-1）",IF('第四面 (5)'!B16="☑","準耐火構造と同等の準耐火性能を有する構造（ロ-2）",IF('第四面 (5)'!B17="☑","その他",""))))))&"" | KC7: =IF('第四面 (5)'!B19="☑","建築基準法施行令第109条の5第1号に掲げる基準に適合する構造",IF('第四面 (5)'!B20="☑","建築基準法第21条第1項ただし書きに該当する建築物",IF('第四面 (5)'!B21="☑","建築基準法施行令第110条第1号に掲げる基準に適合する構造",IF('第四面 (5)'!B22="☑","その他",IF('第四面 (5)'!B23="☑","建築基準法第21条又は第27条の規定の適用を受けない","")))))&"" | KD7: =IF('第四面 (5)'!B25="☑","耐火建築物",IF('第四面 (5)'!B26="☑","延焼防止建築物",IF('第四面 (5)'!B27="☑","準耐火建築物",IF('第四面 (5)'!B28="☑","準延焼防止建築物",IF('第四面 (5)'!B29="☑","その他",IF('第四面 (5)'!B30="☑","建築基準法第61条の規定の適用を受けない",""))))))&"" | KE7: ='第四面 (5)'!H32&"" | KF7: ='第四面 (5)'!H33&"" | KG7: ='第四面 (5)'!H34&"" | KH7: ='第四面 (5)'!H35&"" | KI7: ='第四面 (5)'!H37&"" | KJ7: ='第四面 (5)'!H38&"" | KK7: ='第四面 (5)'!G39&"" | KL7: =IF('第四面 (5)'!C42="☑","有り",IF('第四面 (5)'!F42="☑","無し",""))&"" | KM7: =IF('第四面 (5)'!S43="☑","有り",IF('第四面 (5)'!V43="☑","無し",""))&"" | KN7: ='第四面 (5)'!M45&"" | KO7: ='第四面 (5)'!M46&"" | KP7: =IF('第四面 (5)'!B48="☑","ON","")&"" | KQ7: =IF('第四面 (5)'!B49="☑","ON","")&"" | KR7: ='第四面 (5)'!C51&"" | KS7: ='第四面 (5)'!E53&"" | KT7: ='第四面 (5)'!H53&"" | KU7: ='第四面 (5)'!N53&"" | KV7: ='第四面 (5)'!T53&"" -> 0 | KW7: ='第四面 (5)'!E54&"" | KX7: ='第四面 (5)'!H54&"" | KY7: ='第四面 (5)'!N54&"" | KZ7: ='第四面 (5)'!T54&"" -> 0 | LA7: ='第四面 (5)'!E55&"" | LB7: ='第四面 (5)'!H55&"" | LC7: ='第四面 (5)'!N55&"" | LD7: ='第四面 (5)'!T55&"" -> 0 | LE7: ='第四面 (5)'!E56&"" | LF7: ='第四面 (5)'!H56&"" | LG7: ='第四面 (5)'!N56&"" | LH7: ='第四面 (5)'!T56&"" -> 0 | LI7: ='第四面 (5)'!E57&"" | LJ7: ='第四面 (5)'!H57&"" | LK7: ='第四面 (5)'!N57&"" | LL7: ='第四面 (5)'!T57&"" -> 0 | LM7: ='第四面 (5)'!E58&"" | LN7: ='第四面 (5)'!H58&"" | LO7: ='第四面 (5)'!N58&"" | LP7: ='第四面 (5)'!T58&"" -> 0 | LQ7: ='第四面 (5)'!E59&"" | LR7: ='第四面 (5)'!H59&"" | LS7: ='第四面 (5)'!N59&"" | LT7: ='第四面 (5)'!T59&"" -> 0 | LU7: ='第四面 (5)'!E60&"" | LV7: ='第四面 (5)'!H60&"" | LW7: ='第四面 (5)'!N60&"" | LX7: ='第四面 (5)'!T60&"" -> 0 | LY7: ='第四面 (5)'!E61&"" | LZ7: ='第四面 (5)'!H61&"" | MA7: ='第四面 (5)'!N61&"" | MB7: ='第四面 (5)'!T61&"" -> 0 | MC7: ='第四面 (5)'!E62&"" | MD7: ='第四面 (5)'!H62&"" | ME7: ='第四面 (5)'!N62&"" | MF7: ='第四面 (5)'!T62&"" -> 0 | MG7: ='第四面 (5)'!E63&"" | MH7: ='第四面 (5)'!H63&"" | MI7: ='第四面 (5)'!N63&"" | MJ7: ='第四面 (5)'!T63&"" -> 0 | MK7: ='第四面 (5)'!H64&"" -> 0 | ML7: ='第四面 (5)'!N64&"" -> 0 | MM7: ='第四面 (5)'!T64&"" -> 0 | MN7: ='第四面 (5)'!H65&"" | MO7: ='第四面 (5)'!H66&"" | MP7: ='第四面 (5)'!H67&"" | MQ7: ='第四面 (5)'!H68&"" | MR7: ='第四面 (5)'!H69&"" | MS7: ='第四面 (5)'!H70&"" | MT7: ='第四面 (5)'!B73&"" | MU7: ='第五面 (3)'!F3&"" | MV7: ='第五面 (3)'!F4&"" | MW7: ='第五面 (3)'!F5&"" | MX7: ='第五面 (3)'!H6&"" | MY7: ='第五面 (3)'!H7&"" | MZ7: ='第五面 (3)'!H9&"" | NA7: =IF('第五面 (3)'!P10="☑","有り",IF('第五面 (3)'!S10="☑","無し",""))&"" | NB7: ='第五面 (3)'!E14&"" | NC7: ='第五面 (3)'!L14&"" | ND7: ='第五面 (3)'!S14&"" | NE7: ='第五面 (3)'!E15&"" | NF7: ='第五面 (3)'!L15&"" | NG7: ='第五面 (3)'!S15&"" | NH7: ='第五面 (3)'!E16&"" | NI7: ='第五面 (3)'!L16&"" | NJ7: ='第五面 (3)'!S16&"" | NK7: ='第五面 (3)'!E17&"" | NL7: ='第五面 (3)'!L17&"" | NM7: ='第五面 (3)'!S17&"" | NN7: ='第五面 (3)'!E18&"" | NO7: ='第五面 (3)'!L18&"" | NP7: ='第五面 (3)'!S18&"" | NQ7: ='第五面 (3)'!E19&"" | NR7: ='第五面 (3)'!L19&"" | NS7: ='第五面 (3)'!S19&"" | NT7: ='第五面 (3)'!H20&"" | NU7: ='第五面 (3)'!B23&"" | NV7: ='第六面 (3)'!F3&"" | NW7: ='第六面 (3)'!F4&"" | NX7: ='第六面 (3)'!G6&"" | NY7: ='第六面 (3)'!G7&"" | NZ7: ='第六面 (3)'!H8&"" | OA7: ='第六面 (3)'!P8&"" | OB7: ='第六面 (3)'!D9&"" | OC7: ='第六面 (3)'!L9&"" | OD7: =IF('第六面 (3)'!B11="☑","特定構造計算基準",IF('第六面 (3)'!B12="☑","特定増改築構造計算基準",""))&"" | OE7: =IF('第六面 (3)'!B14="☑","建築基準法施行令第81条第1項各号に掲げる基準に従つた構造計算",IF('第六面 (3)'!B15="☑","建築基準法施行令第81条第2項第1号イに掲げる構造計算",IF('第六面 (3)'!B16="☑","建築基準法施行令第81条第2項第1号ロに掲げる構造計算",IF('第六面 (3)'!B17="☑","建築基準法施行令第81条第2項第2号イに掲げる構造計算",IF('第六面 (3)'!B18="☑","建築基準法施行令第81条第3項に掲げる構造計算","")))))&"" | OF7: ='第六面 (3)'!D20&"" | OG7: =IF('第六面 (3)'!B22="☑","建築基準法第20条第1項第2号イ又は第3号イの認定を受けたプログラム",IF('第六面 (3)'!B24="☑","その他のプログラム",""))&"" | OH7: ='第六面 (3)'!F23&"" | OI7: ='第六面 (3)'!C26&"" | OJ7: ='第六面 (3)'!B29&""
AQ8: ='第二面 (建築主追加)'!G32&"" -> 2;1 | AR8: ='第二面 (建築主追加)'!G33&"" -> 2;2 | AS8: ='第二面 (建築主追加)'!G34&"" -> 2;3 | AT8: ='第二面 (建築主追加)'!G35&"" -> 2;4 | AU8: ='第二面 (建築主追加)'!G36&"" -> 2;5 | BS8: ='第二面 (その他設計者追加)'!E25&"" -> 2;53 | BT8: ='第二面 (その他設計者追加)'!M25&"" -> 2;54 | BU8: ='第二面 (その他設計者追加)'!T25&"" -> 2;55 | BV8: ='第二面 (その他設計者追加)'!E26&"" -> 2;56 | BW8: ='第二面 (その他設計者追加)'!H27&"" -> 2;57 | BX8: ='第二面 (その他設計者追加)'!N27&"" -> 2;58 | BY8: ='第二面 (その他設計者追加)'!U27&"" -> 2;59 | BZ8: ='第二面 (その他設計者追加)'!E28&"" -> 2;60 | CA8: ='第二面 (その他設計者追加)'!F29&"" -> 2;61 | CB8: ='第二面 (その他設計者追加)'!F30&"" -> 2;62 | CC8: ='第二面 (その他設計者追加)'!F32&"" -> 2;63 | CD8: ='第二面 (その他設計者追加)'!J33&"" -> 2;64 | CF8: ='第二面 (構造、設備一級の表示者追加)'!K15&"" -> 2;65 | CG8: ='第二面 (構造、設備一級の表示者追加)'!K16&"" -> 2;66 | CI8: ='第二面 (構造、設備一級の表示者追加)'!K34&"" -> 2;67 | CJ8: ='第二面 (構造、設備一級の表示者追加)'!K35&"" -> 2;68 | CL8: ='第二面 (構造、設備一級の表示者追加)'!K49&"" -> 2;71 | CM8: ='第二面 (構造、設備一級の表示者追加)'!K50&"" -> 2;72 | CO8: ='第二面 (構造、設備一級の表示者追加)'!K65&"" -> 2;79 | CP8: ='第二面 (構造、設備一級の表示者追加)'!K66&"" -> 2;80 | CX8: ='第二面 (設備の意見を聴いた者追加)'!E20&"" -> 2;102 | CY8: ='第二面 (設備の意見を聴いた者追加)'!E21&"" -> 2;103 | CZ8: ='第二面 (設備の意見を聴いた者追加)'!F22&"" -> 2;104 | DA8: ='第二面 (設備の意見を聴いた者追加)'!E23&"" -> 2;105 | DB8: ='第二面 (設備の意見を聴いた者追加)'!E24&"" -> 2;106 | DC8: ='第二面 (設備の意見を聴いた者追加)'!E25&"" -> 2;107 | DD8: ='第二面 (設備の意見を聴いた者追加)'!H26&"" -> 2;108 | DQ8: ='第二面 (工事監理者追加)'!E23&"" -> 2;145 | DR8: ='第二面 (工事監理者追加)'!M23&"" -> 2;146 | DS8: ='第二面 (工事監理者追加)'!T23&"" -> 2;147 | DT8: ='第二面 (工事監理者追加)'!E24&"" -> 2;148 | DU8: ='第二面 (工事監理者追加)'!H25&"" -> 2;149 | DV8: ='第二面 (工事監理者追加)'!N25&"" -> 2;150 | DW8: ='第二面 (工事監理者追加)'!U25&"" -> 2;151 | DX8: ='第二面 (工事監理者追加)'!E26&"" -> 2;152 | DY8: ='第二面 (工事監理者追加)'!F27&"" -> 2;153 | DZ8: ='第二面 (工事監理者追加)'!F28&"" -> 2;154 | EA8: ='第二面 (工事監理者追加)'!F30&"" -> 2;155 | EB8: ='第二面 (工事監理者追加)'!J31&"" -> 2;156 | EC8: ='第二面 (工事施工者追加)'!E36&"" -> 2;157 | ED8: ='第二面 (工事施工者追加)'!I37&"" -> 2;158 | EE8: ='第二面 (工事施工者追加)'!P37&"" -> 2;159 | EF8: ='第二面 (工事施工者追加)'!E38&"" -> 2;160 | EG8: ='第二面 (工事施工者追加)'!F39&"" -> 2;161 | EH8: ='第二面 (工事施工者追加)'!F40&"" -> 2;162 | EI8: ='第二面 (工事施工者追加)'!F42&"" -> 2;163 | JJ8: ='第四面 (6)'!F3&"" | JK8: ='第四面 (6)'!F4&"" | JL8: ='第四面 (6)'!K4&"" | JM8: ='第四面 (6)'!F5&"" | JN8: ='第四面 (6)'!K5&"" | JO8: ='第四面 (6)'!F6&"" | JP8: ='第四面 (6)'!K6&"" | JQ8: ='第四面 (6)'!F7&"" | JR8: ='第四面 (6)'!K7&"" | JS8: =IF('第四面 (6)'!A9="☑","ON","")&"" | JT8: =IF('第四面 (6)'!D9="☑","ON","")&"" | JU8: =IF('第四面 (6)'!G9="☑","ON","")&"" | JV8: =IF('第四面 (6)'!J9="☑","ON","")&"" | JW8: =IF('第四面 (6)'!M9="☑","ON","")&"" | JX8: =IF('第四面 (6)'!Q9="☑","ON","")&"" | JY8: =IF('第四面 (6)'!U9="☑","ON","")&"" | JZ8: ='第四面 (6)'!D10&"" | KA8: ='第四面 (6)'!L10&"" | KB8: =IF('第四面 (6)'!B12="☑","耐火構造",IF('第四面 (6)'!B13="☑","建築基準法施行令第108条の3第1項第1号イ及びロに掲げる基準に適合する構造",IF('第四面 (6)'!B14="☑","準耐火構造",IF('第四面 (6)'!B15="☑","準耐火構造と同等の準耐火性能を有する構造（ロ-1）",IF('第四面 (6)'!B16="☑","準耐火構造と同等の準耐火性能を有する構造（ロ-2）",IF('第四面 (6)'!B17="☑","その他",""))))))&"" | KC8: =IF('第四面 (6)'!B19="☑","建築基準法施行令第109条の5第1号に掲げる基準に適合する構造",IF('第四面 (6)'!B20="☑","建築基準法第21条第1項ただし書きに該当する建築物",IF('第四面 (6)'!B21="☑","建築基準法施行令第110条第1号に掲げる基準に適合する構造",IF('第四面 (6)'!B22="☑","その他",IF('第四面 (6)'!B23="☑","建築基準法第21条又は第27条の規定の適用を受けない","")))))&"" | KD8: =IF('第四面 (6)'!B25="☑","耐火建築物",IF('第四面 (6)'!B26="☑","延焼防止建築物",IF('第四面 (6)'!B27="☑","準耐火建築物",IF('第四面 (6)'!B28="☑","準延焼防止建築物",IF('第四面 (6)'!B29="☑","その他",IF('第四面 (6)'!B30="☑","建築基準法第61条の規定の適用を受けない",""))))))&"" | KE8: ='第四面 (6)'!H32&"" | KF8: ='第四面 (6)'!H33&"" | KG8: ='第四面 (6)'!H34&"" | KH8: ='第四面 (6)'!H35&"" | KI8: ='第四面 (6)'!H37&"" | KJ8: ='第四面 (6)'!H38&"" | KK8: ='第四面 (6)'!G39&"" | KL8: =IF('第四面 (6)'!C42="☑","有り",IF('第四面 (6)'!F42="☑","無し",""))&"" | KM8: =IF('第四面 (6)'!S43="☑","有り",IF('第四面 (6)'!V43="☑","無し",""))&"" | KN8: ='第四面 (6)'!M45&"" | KO8: ='第四面 (6)'!M46&"" | KP8: =IF('第四面 (6)'!B48="☑","ON","")&"" | KQ8: =IF('第四面 (6)'!B49="☑","ON","")&"" | KR8: ='第四面 (6)'!C51&"" | KS8: ='第四面 (6)'!E53&"" | KT8: ='第四面 (6)'!H53&"" | KU8: ='第四面 (6)'!N53&"" | KV8: ='第四面 (6)'!T53&"" -> 0 | KW8: ='第四面 (6)'!E54&"" | KX8: ='第四面 (6)'!H54&"" | KY8: ='第四面 (6)'!N54&"" | KZ8: ='第四面 (6)'!T54&"" -> 0 | LA8: ='第四面 (6)'!E55&"" | LB8: ='第四面 (6)'!H55&"" | LC8: ='第四面 (6)'!N55&"" | LD8: ='第四面 (6)'!T55&"" -> 0 | LE8: ='第四面 (6)'!E56&"" | LF8: ='第四面 (6)'!H56&"" | LG8: ='第四面 (6)'!N56&"" | LH8: ='第四面 (6)'!T56&"" -> 0 | LI8: ='第四面 (6)'!E57&"" | LJ8: ='第四面 (6)'!H57&"" | LK8: ='第四面 (6)'!N57&"" | LL8: ='第四面 (6)'!T57&"" -> 0 | LM8: ='第四面 (6)'!E58&"" | LN8: ='第四面 (6)'!H58&"" | LO8: ='第四面 (6)'!N58&"" | LP8: ='第四面 (6)'!T58&"" -> 0 | LQ8: ='第四面 (6)'!E59&"" | LR8: ='第四面 (6)'!H59&"" | LS8: ='第四面 (6)'!N59&"" | LT8: ='第四面 (6)'!T59&"" -> 0 | LU8: ='第四面 (6)'!E60&"" | LV8: ='第四面 (6)'!H60&"" | LW8: ='第四面 (6)'!N60&"" | LX8: ='第四面 (6)'!T60&"" -> 0 | LY8: ='第四面 (6)'!E61&"" | LZ8: ='第四面 (6)'!H61&"" | MA8: ='第四面 (6)'!N61&"" | MB8: ='第四面 (6)'!T61&"" -> 0 | MC8: ='第四面 (6)'!E62&"" | MD8: ='第四面 (6)'!H62&"" | ME8: ='第四面 (6)'!N62&"" | MF8: ='第四面 (6)'!T62&"" -> 0 | MG8: ='第四面 (6)'!E63&"" | MH8: ='第四面 (6)'!H63&"" | MI8: ='第四面 (6)'!N63&"" | MJ8: ='第四面 (6)'!T63&"" -> 0 | MK8: ='第四面 (6)'!H64&"" -> 0 | ML8: ='第四面 (6)'!N64&"" -> 0 | MM8: ='第四面 (6)'!T64&"" -> 0 | MN8: ='第四面 (6)'!H65&"" | MO8: ='第四面 (6)'!H66&"" | MP8: ='第四面 (6)'!H67&"" | MQ8: ='第四面 (6)'!H68&"" | MR8: ='第四面 (6)'!H69&"" | MS8: ='第四面 (6)'!H70&"" | MT8: ='第四面 (6)'!B73&"" | MU8: ='第五面 (3)'!F27&"" | MV8: ='第五面 (3)'!F28&"" | MW8: ='第五面 (3)'!F29&"" | MX8: ='第五面 (3)'!H30&"" | MY8: ='第五面 (3)'!H31&"" | MZ8: ='第五面 (3)'!H33&"" | NA8: =IF('第五面 (3)'!P34="☑","有り",IF('第五面 (3)'!S34="☑","無し",""))&"" | NB8: ='第五面 (3)'!E38&"" | NC8: ='第五面 (3)'!L38&"" | ND8: ='第五面 (3)'!S38&"" | NE8: ='第五面 (3)'!E39&"" | NF8: ='第五面 (3)'!L39&"" | NG8: ='第五面 (3)'!S39&"" | NH8: ='第五面 (3)'!E40&"" | NI8: ='第五面 (3)'!L40&"" | NJ8: ='第五面 (3)'!S40&"" | NK8: ='第五面 (3)'!E41&"" | NL8: ='第五面 (3)'!L41&"" | NM8: ='第五面 (3)'!S41&"" | NN8: ='第五面 (3)'!E42&"" | NO8: ='第五面 (3)'!L42&"" | NP8: ='第五面 (3)'!S42&"" | NQ8: ='第五面 (3)'!E43&"" | NR8: ='第五面 (3)'!L43&"" | NS8: ='第五面 (3)'!S43&"" | NT8: ='第五面 (3)'!H44&"" | NU8: ='第五面 (3)'!B47&"" | NV8: ='第六面 (3)'!F32&"" | NW8: ='第六面 (3)'!F33&"" | NX8: ='第六面 (3)'!G35&"" | NY8: ='第六面 (3)'!G36&"" | NZ8: ='第六面 (3)'!H37&"" | OA8: ='第六面 (3)'!P37&"" | OB8: ='第六面 (3)'!D38&"" | OC8: ='第六面 (3)'!L38&"" | OD8: =IF('第六面 (3)'!B40="☑","特定構造計算基準",IF('第六面 (3)'!B41="☑","特定増改築構造計算基準",""))&"" | OE8: =IF('第六面 (3)'!B43="☑","建築基準法施行令第81条第1項各号に掲げる基準に従つた構造計算",IF('第六面 (3)'!B44="☑","建築基準法施行令第81条第2項第1号イに掲げる構造計算",IF('第六面 (3)'!B45="☑","建築基準法施行令第81条第2項第1号ロに掲げる構造計算",IF('第六面 (3)'!B46="☑","建築基準法施行令第81条第2項第2号イに掲げる構造計算",IF('第六面 (3)'!B47="☑","建築基準法施行令第81条第3項に掲げる構造計算","")))))&"" | OF8: ='第六面 (3)'!D49&"" | OG8: =IF('第六面 (3)'!B51="☑","建築基準法第20条第1項第2号イ又は第3号イの認定を受けたプログラム",IF('第六面 (3)'!B53="☑","その他のプログラム",""))&"" | OH8: ='第六面 (3)'!F52&"" | OI8: ='第六面 (3)'!C55&"" | OJ8: ='第六面 (3)'!B58&""
AQ9: ='第二面 (建築主追加)'!G39&"" -> 2;1 | AR9: ='第二面 (建築主追加)'!G40&"" -> 2;2 | AS9: ='第二面 (建築主追加)'!G41&"" -> 2;3 | AT9: ='第二面 (建築主追加)'!G42&"" -> 2;4 | AU9: ='第二面 (建築主追加)'!G43&"" -> 2;5 | BS9: ='第二面 (その他設計者追加)'!E35&"" -> 2;29 | BT9: ='第二面 (その他設計者追加)'!M35&"" -> 2;30 | BU9: ='第二面 (その他設計者追加)'!T35&"" -> 2;31 | BV9: ='第二面 (その他設計者追加)'!E36&"" -> 2;32 | BW9: ='第二面 (その他設計者追加)'!H37&"" -> 2;33 | BX9: ='第二面 (その他設計者追加)'!N37&"" -> 2;34 | BY9: ='第二面 (その他設計者追加)'!U37&"" -> 2;35 | BZ9: ='第二面 (その他設計者追加)'!E38&"" -> 2;36 | CA9: ='第二面 (その他設計者追加)'!F39&"" -> 2;37 | CB9: ='第二面 (その他設計者追加)'!F40&"" -> 2;38 | CC9: ='第二面 (その他設計者追加)'!F42&"" -> 2;39 | CD9: ='第二面 (その他設計者追加)'!J43&"" -> 2;40 | CF9: ='第二面 (構造、設備一級の表示者追加)'!K17&"" -> 2;65 | CG9: ='第二面 (構造、設備一級の表示者追加)'!K18&"" -> 2;66 | CI9: ='第二面 (構造、設備一級の表示者追加)'!K36&"" -> 2;67 | CJ9: ='第二面 (構造、設備一級の表示者追加)'!K37&"" -> 2;68 | CL9: ='第二面 (構造、設備一級の表示者追加)'!K51&"" -> 2;73 | CM9: ='第二面 (構造、設備一級の表示者追加)'!K52&"" -> 2;74 | CO9: ='第二面 (構造、設備一級の表示者追加)'!K67&"" -> 2;75 | CP9: ='第二面 (構造、設備一級の表示者追加)'!K68&"" -> 2;76 | CX9: ='第二面 (設備の意見を聴いた者追加)'!E28&"" -> 2;88 | CY9: ='第二面 (設備の意見を聴いた者追加)'!E29&"" -> 2;89 | CZ9: ='第二面 (設備の意見を聴いた者追加)'!F30&"" -> 2;90 | DA9: ='第二面 (設備の意見を聴いた者追加)'!E31&"" -> 2;91 | DB9: ='第二面 (設備の意見を聴いた者追加)'!E32&"" -> 2;92 | DC9: ='第二面 (設備の意見を聴いた者追加)'!E33&"" -> 2;93 | DD9: ='第二面 (設備の意見を聴いた者追加)'!H34&"" -> 22;94 | DQ9: ='第二面 (工事監理者追加)'!E33&"" -> 2;121 | DR9: ='第二面 (工事監理者追加)'!M33&"" -> 2;122 | DS9: ='第二面 (工事監理者追加)'!T33&"" -> 2;123 | DT9: ='第二面 (工事監理者追加)'!E34&"" -> 2;124 | DU9: ='第二面 (工事監理者追加)'!H35&"" -> 2;125 | DV9: ='第二面 (工事監理者追加)'!N35&"" -> 2;126 | DW9: ='第二面 (工事監理者追加)'!U35&"" -> 2;127 | DX9: ='第二面 (工事監理者追加)'!E36&"" -> 2;128 | DY9: ='第二面 (工事監理者追加)'!F37&"" -> 2;129 | DZ9: ='第二面 (工事監理者追加)'!F38&"" -> 2;130 | EA9: ='第二面 (工事監理者追加)'!F40&"" -> 2;131 | EB9: ='第二面 (工事監理者追加)'!J41&"" -> 2;132 | EC9: ='第二面 (工事施工者追加)'!E44&"" -> 2;157 | ED9: ='第二面 (工事施工者追加)'!I45&"" -> 2;158 | EE9: ='第二面 (工事施工者追加)'!P45&"" -> 2;159 | EF9: ='第二面 (工事施工者追加)'!E46&"" -> 2;160 | EG9: ='第二面 (工事施工者追加)'!F47&"" -> 2;161 | EH9: ='第二面 (工事施工者追加)'!F48&"" -> 2;162 | EI9: ='第二面 (工事施工者追加)'!F50&"" -> 2;163 | JJ9: ='第四面 (7)'!F3&"" | JK9: ='第四面 (7)'!F4&"" | JL9: ='第四面 (7)'!K4&"" | JM9: ='第四面 (7)'!F5&"" | JN9: ='第四面 (7)'!K5&"" | JO9: ='第四面 (7)'!F6&"" | JP9: ='第四面 (7)'!K6&"" | JQ9: ='第四面 (7)'!F7&"" | JR9: ='第四面 (7)'!K7&"" | JS9: =IF('第四面 (7)'!A9="☑","ON","")&"" | JT9: =IF('第四面 (7)'!D9="☑","ON","")&"" | JU9: =IF('第四面 (7)'!G9="☑","ON","")&"" | JV9: =IF('第四面 (7)'!J9="☑","ON","")&"" | JW9: =IF('第四面 (7)'!M9="☑","ON","")&"" | JX9: =IF('第四面 (7)'!Q9="☑","ON","")&"" | JY9: =IF('第四面 (7)'!U9="☑","ON","")&"" | JZ9: ='第四面 (7)'!D10&"" | KA9: ='第四面 (7)'!L10&"" | KB9: =IF('第四面 (7)'!B12="☑","耐火構造",IF('第四面 (7)'!B13="☑","建築基準法施行令第108条の3第1項第1号イ及びロに掲げる基準に適合する構造",IF('第四面 (7)'!B14="☑","準耐火構造",IF('第四面 (7)'!B15="☑","準耐火構造と同等の準耐火性能を有する構造（ロ-1）",IF('第四面 (7)'!B16="☑","準耐火構造と同等の準耐火性能を有する構造（ロ-2）",IF('第四面 (7)'!B17="☑","その他",""))))))&"" | KC9: =IF('第四面 (7)'!B19="☑","建築基準法施行令第109条の5第1号に掲げる基準に適合する構造",IF('第四面 (7)'!B20="☑","建築基準法第21条第1項ただし書きに該当する建築物",IF('第四面 (7)'!B21="☑","建築基準法施行令第110条第1号に掲げる基準に適合する構造",IF('第四面 (7)'!B22="☑","その他",IF('第四面 (7)'!B23="☑","建築基準法第21条又は第27条の規定の適用を受けない","")))))&"" | KD9: =IF('第四面 (7)'!B25="☑","耐火建築物",IF('第四面 (7)'!B26="☑","延焼防止建築物",IF('第四面 (7)'!B27="☑","準耐火建築物",IF('第四面 (7)'!B28="☑","準延焼防止建築物",IF('第四面 (7)'!B29="☑","その他",IF('第四面 (7)'!B30="☑","建築基準法第61条の規定の適用を受けない",""))))))&"" | KE9: ='第四面 (7)'!H32&"" | KF9: ='第四面 (7)'!H33&"" | KG9: ='第四面 (7)'!H34&"" | KH9: ='第四面 (7)'!H35&"" | KI9: ='第四面 (7)'!H37&"" | KJ9: ='第四面 (7)'!H38&"" | KK9: ='第四面 (7)'!G39&"" | KL9: =IF('第四面 (7)'!C42="☑","有り",IF('第四面 (7)'!F42="☑","無し",""))&"" | KM9: =IF('第四面 (7)'!S43="☑","有り",IF('第四面 (7)'!V43="☑","無し",""))&"" | KN9: ='第四面 (7)'!M45&"" | KO9: ='第四面 (7)'!M46&"" | KP9: =IF('第四面 (7)'!B48="☑","ON","")&"" | KQ9: =IF('第四面 (7)'!B49="☑","ON","")&"" | KR9: ='第四面 (7)'!C51&"" | KS9: ='第四面 (7)'!E53&"" | KT9: ='第四面 (7)'!H53&"" | KU9: ='第四面 (7)'!N53&"" | KV9: ='第四面 (7)'!T53&"" -> 0 | KW9: ='第四面 (7)'!E54&"" | KX9: ='第四面 (7)'!H54&"" | KY9: ='第四面 (7)'!N54&"" | KZ9: ='第四面 (7)'!T54&"" -> 0 | LA9: ='第四面 (7)'!E55&"" | LB9: ='第四面 (7)'!H55&"" | LC9: ='第四面 (7)'!N55&"" | LD9: ='第四面 (7)'!T55&"" -> 0 | LE9: ='第四面 (7)'!E56&"" | LF9: ='第四面 (7)'!H56&"" | LG9: ='第四面 (7)'!N56&"" | LH9: ='第四面 (7)'!T56&"" -> 0 | LI9: ='第四面 (7)'!E57&"" | LJ9: ='第四面 (7)'!H57&"" | LK9: ='第四面 (7)'!N57&"" | LL9: ='第四面 (7)'!T57&"" -> 0 | LM9: ='第四面 (7)'!E58&"" | LN9: ='第四面 (7)'!H58&"" | LO9: ='第四面 (7)'!N58&"" | LP9: ='第四面 (7)'!T58&"" -> 0 | LQ9: ='第四面 (7)'!E59&"" | LR9: ='第四面 (7)'!H59&"" | LS9: ='第四面 (7)'!N59&"" | LT9: ='第四面 (7)'!T59&"" -> 0 | LU9: ='第四面 (7)'!E60&"" | LV9: ='第四面 (7)'!H60&"" | LW9: ='第四面 (7)'!N60&"" | LX9: ='第四面 (7)'!T60&"" -> 0 | LY9: ='第四面 (7)'!E61&"" | LZ9: ='第四面 (7)'!H61&"" | MA9: ='第四面 (7)'!N61&"" | MB9: ='第四面 (7)'!T61&"" -> 0 | MC9: ='第四面 (7)'!E62&"" | MD9: ='第四面 (7)'!H62&"" | ME9: ='第四面 (7)'!N62&"" | MF9: ='第四面 (7)'!T62&"" -> 0 | MG9: ='第四面 (7)'!E63&"" | MH9: ='第四面 (7)'!H63&"" | MI9: ='第四面 (7)'!N63&"" | MJ9: ='第四面 (7)'!T63&"" -> 0 | MK9: ='第四面 (7)'!H64&"" -> 0 | ML9: ='第四面 (7)'!N64&"" -> 0 | MM9: ='第四面 (7)'!T64&"" -> 0 | MN9: ='第四面 (7)'!H65&"" | MO9: ='第四面 (7)'!H66&"" | MP9: ='第四面 (7)'!H67&"" | MQ9: ='第四面 (7)'!H68&"" | MR9: ='第四面 (7)'!H69&"" | MS9: ='第四面 (7)'!H70&"" | MT9: ='第四面 (7)'!B73&"" | MU9: ='第五面 (4)'!F3&"" | MV9: ='第五面 (4)'!F4&"" | MW9: ='第五面 (4)'!F5&"" | MX9: ='第五面 (4)'!H6&"" | MY9: ='第五面 (4)'!H7&"" | MZ9: ='第五面 (4)'!H9&"" | NA9: =IF('第五面 (4)'!P10="☑","有り",IF('第五面 (4)'!S10="☑","無し",""))&"" | NB9: ='第五面 (4)'!E14&"" | NC9: ='第五面 (4)'!L14&"" | ND9: ='第五面 (4)'!S14&"" | NE9: ='第五面 (4)'!E15&"" | NF9: ='第五面 (4)'!L15&"" | NG9: ='第五面 (4)'!S15&"" | NH9: ='第五面 (4)'!E16&"" | NI9: ='第五面 (4)'!L16&"" | NJ9: ='第五面 (4)'!S16&"" | NK9: ='第五面 (4)'!E17&"" | NL9: ='第五面 (4)'!L17&"" | NM9: ='第五面 (4)'!S17&"" | NN9: ='第五面 (4)'!E18&"" | NO9: ='第五面 (4)'!L18&"" | NP9: ='第五面 (4)'!S18&"" | NQ9: ='第五面 (4)'!E19&"" | NR9: ='第五面 (4)'!L19&"" | NS9: ='第五面 (4)'!S19&"" | NT9: ='第五面 (4)'!H20&"" | NU9: ='第五面 (4)'!B23&"" | NV9: ='第六面 (4)'!F3&"" | NW9: ='第六面 (4)'!F4&"" | NX9: ='第六面 (4)'!G6&"" | NY9: ='第六面 (4)'!G7&"" | NZ9: ='第六面 (4)'!H8&"" | OA9: ='第六面 (4)'!P8&"" | OB9: ='第六面 (4)'!D9&"" | OC9: ='第六面 (4)'!L9&"" | OD9: =IF('第六面 (4)'!B11="☑","特定構造計算基準",IF('第六面 (4)'!B12="☑","特定増改築構造計算基準",""))&"" | OE9: =IF('第六面 (4)'!B14="☑","建築基準法施行令第81条第1項各号に掲げる基準に従つた構造計算",IF('第六面 (4)'!B15="☑","建築基準法施行令第81条第2項第1号イに掲げる構造計算",IF('第六面 (4)'!B16="☑","建築基準法施行令第81条第2項第1号ロに掲げる構造計算",IF('第六面 (4)'!B17="☑","建築基準法施行令第81条第2項第2号イに掲げる構造計算",IF('第六面 (4)'!B18="☑","建築基準法施行令第81条第3項に掲げる構造計算","")))))&"" | OF9: ='第六面 (4)'!D20&"" | OG9: =IF('第六面 (4)'!B22="☑","建築基準法第20条第1項第2号イ又は第3号イの認定を受けたプログラム",IF('第六面 (4)'!B24="☑","その他のプログラム",""))&"" | OH9: ='第六面 (4)'!F23&"" | OI9: ='第六面 (4)'!C26&"" | OJ9: ='第六面 (4)'!B29&""
AQ10: ='第二面 (建築主追加)'!G46&"" -> 2;1 | AR10: ='第二面 (建築主追加)'!G47&"" -> 2;2 | AS10: ='第二面 (建築主追加)'!G48&"" -> 2;3 | AT10: ='第二面 (建築主追加)'!G49&"" -> 2;4 | AU10: ='第二面 (建築主追加)'!G50&"" -> 2;5 | BS10: ='第二面 (その他設計者追加)'!E45&"" -> 2;41 | BT10: ='第二面 (その他設計者追加)'!M45&"" -> 2;42 | BU10: ='第二面 (その他設計者追加)'!T45&"" -> 2;43 | BV10: ='第二面 (その他設計者追加)'!E46&"" -> 2;44 | BW10: ='第二面 (その他設計者追加)'!H47&"" -> 2;45 | BX10: ='第二面 (その他設計者追加)'!N47&"" -> 2;46 | BY10: ='第二面 (その他設計者追加)'!U47&"" -> 2;47 | BZ10: ='第二面 (その他設計者追加)'!E48&"" -> 2;48 | CA10: ='第二面 (その他設計者追加)'!F49&"" -> 2;49 | CB10: ='第二面 (その他設計者追加)'!F50&"" -> 2;50 | CC10: ='第二面 (その他設計者追加)'!F52&"" -> 2;51 | CD10: ='第二面 (その他設計者追加)'!J53&"" -> 2;52 | CF10: ='第二面 (構造、設備一級の表示者追加)'!K19&"" -> 2;65 | CG10: ='第二面 (構造、設備一級の表示者追加)'!K20&"" -> 2;66 | CI10: ='第二面 (構造、設備一級の表示者追加)'!K38&"" -> 2;67 | CJ10: ='第二面 (構造、設備一級の表示者追加)'!K39&"" -> 2;68 | CL10: ='第二面 (構造、設備一級の表示者追加)'!K53&"" -> 2;69 | CM10: ='第二面 (構造、設備一級の表示者追加)'!K54&"" -> 2;70 | CO10: ='第二面 (構造、設備一級の表示者追加)'!K69&"" -> 2;77 | CP10: ='第二面 (構造、設備一級の表示者追加)'!K70&"" -> 2;78 | CX10: ='第二面 (設備の意見を聴いた者追加)'!E36&"" -> 2;95 | CY10: ='第二面 (設備の意見を聴いた者追加)'!E37&"" -> 2;96 | CZ10: ='第二面 (設備の意見を聴いた者追加)'!F38&"" -> 2;97 | DA10: ='第二面 (設備の意見を聴いた者追加)'!E39&"" -> 2;98 | DB10: ='第二面 (設備の意見を聴いた者追加)'!E40&"" -> 2;99 | DC10: ='第二面 (設備の意見を聴いた者追加)'!E41&"" -> 2;100 | DD10: ='第二面 (設備の意見を聴いた者追加)'!H42&"" -> 2;101 | DQ10: ='第二面 (工事監理者追加)'!E43&"" -> 2;133 | DR10: ='第二面 (工事監理者追加)'!M43&"" -> 2;134 | DS10: ='第二面 (工事監理者追加)'!T43&"" -> 2;135 | DT10: ='第二面 (工事監理者追加)'!E44&"" -> 2;136 | DU10: ='第二面 (工事監理者追加)'!H45&"" -> 2;137 | DV10: ='第二面 (工事監理者追加)'!N45&"" -> 2;138 | DW10: ='第二面 (工事監理者追加)'!U45&"" -> 2;139 | DX10: ='第二面 (工事監理者追加)'!E46&"" -> 2;140 | DY10: ='第二面 (工事監理者追加)'!F47&"" -> 2;141 | DZ10: ='第二面 (工事監理者追加)'!F48&"" -> 2;142 | EA10: ='第二面 (工事監理者追加)'!F50&"" -> 2;143 | EB10: ='第二面 (工事監理者追加)'!J51&"" -> 2;144 | EC10: ='第二面 (工事施工者追加)'!E52&"" -> 2;157 | ED10: ='第二面 (工事施工者追加)'!I53&"" -> 2;158 | EE10: ='第二面 (工事施工者追加)'!P53&"" -> 2;159 | EF10: ='第二面 (工事施工者追加)'!E54&"" -> 2;160 | EG10: ='第二面 (工事施工者追加)'!F55&"" -> 2;161 | EH10: ='第二面 (工事施工者追加)'!F56&"" -> 2;162 | EI10: ='第二面 (工事施工者追加)'!F58&"" -> 2;163 | JJ10: ='第四面 (8)'!F3&"" | JK10: ='第四面 (8)'!F4&"" | JL10: ='第四面 (8)'!K4&"" | JM10: ='第四面 (8)'!F5&"" | JN10: ='第四面 (8)'!K5&"" | JO10: ='第四面 (8)'!F6&"" | JP10: ='第四面 (8)'!K6&"" | JQ10: ='第四面 (8)'!F7&"" | JR10: ='第四面 (8)'!K7&"" | JS10: =IF('第四面 (8)'!A9="☑","ON","")&"" | JT10: =IF('第四面 (8)'!D9="☑","ON","")&"" | JU10: =IF('第四面 (8)'!G9="☑","ON","")&"" | JV10: =IF('第四面 (8)'!J9="☑","ON","")&"" | JW10: =IF('第四面 (8)'!M9="☑","ON","")&"" | JX10: =IF('第四面 (8)'!Q9="☑","ON","")&"" | JY10: =IF('第四面 (8)'!U9="☑","ON","")&"" | JZ10: ='第四面 (8)'!D10&"" | KA10: ='第四面 (8)'!L10&"" | KB10: =IF('第四面 (8)'!B12="☑","耐火構造",IF('第四面 (8)'!B13="☑","建築基準法施行令第108条の3第1項第1号イ及びロに掲げる基準に適合する構造",IF('第四面 (8)'!B14="☑","準耐火構造",IF('第四面 (8)'!B15="☑","準耐火構造と同等の準耐火性能を有する構造（ロ-1）",IF('第四面 (8)'!B16="☑","準耐火構造と同等の準耐火性能を有する構造（ロ-2）",IF('第四面 (8)'!B17="☑","その他",""))))))&"" | KC10: =IF('第四面 (8)'!B19="☑","建築基準法施行令第109条の5第1号に掲げる基準に適合する構造",IF('第四面 (8)'!B20="☑","建築基準法第21条第1項ただし書きに該当する建築物",IF('第四面 (8)'!B21="☑","建築基準法施行令第110条第1号に掲げる基準に適合する構造",IF('第四面 (8)'!B22="☑","その他",IF('第四面 (8)'!B23="☑","建築基準法第21条又は第27条の規定の適用を受けない","")))))&"" | KD10: =IF('第四面 (8)'!B25="☑","耐火建築物",IF('第四面 (8)'!B26="☑","延焼防止建築物",IF('第四面 (8)'!B27="☑","準耐火建築物",IF('第四面 (8)'!B28="☑","準延焼防止建築物",IF('第四面 (8)'!B29="☑","その他",IF('第四面 (8)'!B30="☑","建築基準法第61条の規定の適用を受けない",""))))))&"" | KE10: ='第四面 (8)'!H32&"" | KF10: ='第四面 (8)'!H33&"" | KG10: ='第四面 (8)'!H34&"" | KH10: ='第四面 (8)'!H35&"" | KI10: ='第四面 (8)'!H37&"" | KJ10: ='第四面 (8)'!H38&"" | KK10: ='第四面 (8)'!G39&"" | KL10: =IF('第四面 (8)'!C42="☑","有り",IF('第四面 (8)'!F42="☑","無し",""))&"" | KM10: =IF('第四面 (8)'!S43="☑","有り",IF('第四面 (8)'!V43="☑","無し",""))&"" | KN10: ='第四面 (8)'!M45&"" | KO10: ='第四面 (8)'!M46&"" | KP10: =IF('第四面 (8)'!B48="☑","ON","")&"" | KQ10: =IF('第四面 (8)'!B49="☑","ON","")&"" | KR10: ='第四面 (8)'!C51&"" | KS10: ='第四面 (8)'!E53&"" | KT10: ='第四面 (8)'!H53&"" | KU10: ='第四面 (8)'!N53&"" | KV10: ='第四面 (8)'!T53&"" -> 0 | KW10: ='第四面 (8)'!E54&"" | KX10: ='第四面 (8)'!H54&"" | KY10: ='第四面 (8)'!N54&"" | KZ10: ='第四面 (8)'!T54&"" -> 0 | LA10: ='第四面 (8)'!E55&"" | LB10: ='第四面 (8)'!H55&"" | LC10: ='第四面 (8)'!N55&"" | LD10: ='第四面 (8)'!T55&"" -> 0 | LE10: ='第四面 (8)'!E56&"" | LF10: ='第四面 (8)'!H56&"" | LG10: ='第四面 (8)'!N56&"" | LH10: ='第四面 (8)'!T56&"" -> 0 | LI10: ='第四面 (8)'!E57&"" | LJ10: ='第四面 (8)'!H57&"" | LK10: ='第四面 (8)'!N57&"" | LL10: ='第四面 (8)'!T57&"" -> 0 | LM10: ='第四面 (8)'!E58&"" | LN10: ='第四面 (8)'!H58&"" | LO10: ='第四面 (8)'!N58&"" | LP10: ='第四面 (8)'!T58&"" -> 0 | LQ10: ='第四面 (8)'!E59&"" | LR10: ='第四面 (8)'!H59&"" | LS10: ='第四面 (8)'!N59&"" | LT10: ='第四面 (8)'!T59&"" -> 0 | LU10: ='第四面 (8)'!E60&"" | LV10: ='第四面 (8)'!H60&"" | LW10: ='第四面 (8)'!N60&"" | LX10: ='第四面 (8)'!T60&"" -> 0 | LY10: ='第四面 (8)'!E61&"" | LZ10: ='第四面 (8)'!H61&"" | MA10: ='第四面 (8)'!N61&"" | MB10: ='第四面 (8)'!T61&"" -> 0 | MC10: ='第四面 (8)'!E62&"" | MD10: ='第四面 (8)'!H62&"" | ME10: ='第四面 (8)'!N62&"" | MF10: ='第四面 (8)'!T62&"" -> 0 | MG10: ='第四面 (8)'!E63&"" | MH10: ='第四面 (8)'!H63&"" | MI10: ='第四面 (8)'!N63&"" | MJ10: ='第四面 (8)'!T63&"" -> 0 | MK10: ='第四面 (8)'!H64&"" -> 0 | ML10: ='第四面 (8)'!N64&"" -> 0 | MM10: ='第四面 (8)'!T64&"" -> 0 | MN10: ='第四面 (8)'!H65&"" | MO10: ='第四面 (8)'!H66&"" | MP10: ='第四面 (8)'!H67&"" | MQ10: ='第四面 (8)'!H68&"" | MR10: ='第四面 (8)'!H69&"" | MS10: ='第四面 (8)'!H70&"" | MT10: ='第四面 (8)'!B73&"" | MU10: ='第五面 (4)'!F27&"" | MV10: ='第五面 (4)'!F28&"" | MW10: ='第五面 (4)'!F29&"" | MX10: ='第五面 (4)'!H30&"" | MY10: ='第五面 (4)'!H31&"" | MZ10: ='第五面 (4)'!H33&"" | NA10: =IF('第五面 (4)'!P34="☑","有り",IF('第五面 (4)'!S34="☑","無し",""))&"" | NB10: ='第五面 (4)'!E38&"" | NC10: ='第五面 (4)'!L38&"" | ND10: ='第五面 (4)'!S38&"" | NE10: ='第五面 (4)'!E39&"" | NF10: ='第五面 (4)'!L39&"" | NG10: ='第五面 (4)'!S39&"" | NH10: ='第五面 (4)'!E40&"" | NI10: ='第五面 (4)'!L40&"" | NJ10: ='第五面 (4)'!S40&"" | NK10: ='第五面 (4)'!E41&"" | NL10: ='第五面 (4)'!L41&"" | NM10: ='第五面 (4)'!S41&"" | NN10: ='第五面 (4)'!E42&"" | NO10: ='第五面 (4)'!L42&"" | NP10: ='第五面 (4)'!S42&"" | NQ10: ='第五面 (4)'!E43&"" | NR10: ='第五面 (4)'!L43&"" | NS10: ='第五面 (4)'!S43&"" | NT10: ='第五面 (4)'!H44&"" | NU10: ='第五面 (4)'!B47&"" | NV10: ='第六面 (4)'!F32&"" | NW10: ='第六面 (4)'!F33&"" | NX10: ='第六面 (4)'!G35&"" | NY10: ='第六面 (4)'!G36&"" | NZ10: ='第六面 (4)'!H37&"" | OA10: ='第六面 (4)'!P37&"" | OB10: ='第六面 (4)'!D38&"" | OC10: ='第六面 (4)'!L38&"" | OD10: =IF('第六面 (4)'!B40="☑","特定構造計算基準",IF('第六面 (4)'!B41="☑","特定増改築構造計算基準",""))&"" | OE10: =IF('第六面 (4)'!B43="☑","建築基準法施行令第81条第1項各号に掲げる基準に従つた構造計算",IF('第六面 (4)'!B44="☑","建築基準法施行令第81条第2項第1号イに掲げる構造計算",IF('第六面 (4)'!B45="☑","建築基準法施行令第81条第2項第1号ロに掲げる構造計算",IF('第六面 (4)'!B46="☑","建築基準法施行令第81条第2項第2号イに掲げる構造計算",IF('第六面 (4)'!B47="☑","建築基準法施行令第81条第3項に掲げる構造計算","")))))&"" | OF10: ='第六面 (4)'!D49&"" | OG10: =IF('第六面 (4)'!B51="☑","建築基準法第20条第1項第2号イ又は第3号イの認定を受けたプログラム",IF('第六面 (4)'!B53="☑","その他のプログラム",""))&"" | OH10: ='第六面 (4)'!F52&"" | OI10: ='第六面 (4)'!C55&"" | OJ10: ='第六面 (4)'!B58&""
AQ11: ='第二面 (建築主追加)'!G52&"" -> 2;1 | AR11: ='第二面 (建築主追加)'!G53&"" -> 2;2 | AS11: ='第二面 (建築主追加)'!G54&"" -> 2;3 | AT11: ='第二面 (建築主追加)'!G55&"" -> 2;4 | AU11: ='第二面 (建築主追加)'!G56&"" -> 2;5 | BS11: ='第二面 (その他設計者追加)'!E60&"" -> 2;53 | BT11: ='第二面 (その他設計者追加)'!M60&"" -> 2;54 | BU11: ='第二面 (その他設計者追加)'!T60&"" -> 2;55 | BV11: ='第二面 (その他設計者追加)'!E61&"" -> 2;56 | BW11: ='第二面 (その他設計者追加)'!H62&"" -> 2;57 | BX11: ='第二面 (その他設計者追加)'!N62&"" -> 2;58 | BY11: ='第二面 (その他設計者追加)'!U62&"" -> 2;59 | BZ11: ='第二面 (その他設計者追加)'!E63&"" -> 2;60 | CA11: ='第二面 (その他設計者追加)'!F64&"" -> 2;61 | CB11: ='第二面 (その他設計者追加)'!F65&"" -> 2;62 | CC11: ='第二面 (その他設計者追加)'!F67&"" -> 2;63 | CD11: ='第二面 (その他設計者追加)'!J68&"" -> 2;64 | CF11: ='第二面 (構造、設備一級の表示者追加)'!K21&"" -> 2;65 | CG11: ='第二面 (構造、設備一級の表示者追加)'!K22&"" -> 2;66 | CI11: ='第二面 (構造、設備一級の表示者追加)'!K40&"" -> 2;67 | CJ11: ='第二面 (構造、設備一級の表示者追加)'!K41&"" -> 2;68 | CL11: ='第二面 (構造、設備一級の表示者追加)'!K55&"" -> 2;71 | CM11: ='第二面 (構造、設備一級の表示者追加)'!K56&"" -> 2;72 | CO11: ='第二面 (構造、設備一級の表示者追加)'!K71&"" -> 2;79 | CP11: ='第二面 (構造、設備一級の表示者追加)'!K72&"" -> 2;80 | CX11: ='第二面 (設備の意見を聴いた者追加)'!E44&"" -> 2;102 | CY11: ='第二面 (設備の意見を聴いた者追加)'!E45&"" -> 2;103 | CZ11: ='第二面 (設備の意見を聴いた者追加)'!F46&"" -> 2;104 | DA11: ='第二面 (設備の意見を聴いた者追加)'!E47&"" -> 2;105 | DB11: ='第二面 (設備の意見を聴いた者追加)'!E48&"" -> 2;106 | DC11: ='第二面 (設備の意見を聴いた者追加)'!E49&"" -> 2;107 | DD11: ='第二面 (設備の意見を聴いた者追加)'!H50&"" -> 2;108 | DQ11: ='第二面 (工事監理者追加)'!E60&"" -> 2;145 | DR11: ='第二面 (工事監理者追加)'!M60&"" -> 2;146 | DS11: ='第二面 (工事監理者追加)'!T60&"" -> 2;147 | DT11: ='第二面 (工事監理者追加)'!E61&"" -> 2;148 | DU11: ='第二面 (工事監理者追加)'!H62&"" -> 2;149 | DV11: ='第二面 (工事監理者追加)'!N62&"" -> 2;150 | DW11: ='第二面 (工事監理者追加)'!U62&"" -> 2;151 | DX11: ='第二面 (工事監理者追加)'!E63&"" -> 2;152 | DY11: ='第二面 (工事監理者追加)'!F64&"" -> 2;153 | DZ11: ='第二面 (工事監理者追加)'!F65&"" -> 2;154 | EA11: ='第二面 (工事監理者追加)'!F67&"" -> 2;155 | EB11: ='第二面 (工事監理者追加)'!J68&"" -> 2;156 | EC11: ='第二面 (工事施工者追加)'!E60&"" -> 2;157 | ED11: ='第二面 (工事施工者追加)'!I61&"" -> 2;158 | EE11: ='第二面 (工事施工者追加)'!P61&"" -> 2;159 | EF11: ='第二面 (工事施工者追加)'!E62&"" -> 2;160 | EG11: ='第二面 (工事施工者追加)'!F63&"" -> 2;161 | EH11: ='第二面 (工事施工者追加)'!F64&"" -> 2;162 | EI11: ='第二面 (工事施工者追加)'!F66&"" -> 2;163 | JJ11: ='第四面 (9)'!F3&"" | JK11: ='第四面 (9)'!F4&"" | JL11: ='第四面 (9)'!K4&"" | JM11: ='第四面 (9)'!F5&"" | JN11: ='第四面 (9)'!K5&"" | JO11: ='第四面 (9)'!F6&"" | JP11: ='第四面 (9)'!K6&"" | JQ11: ='第四面 (9)'!F7&"" | JR11: ='第四面 (9)'!K7&"" | JS11: =IF('第四面 (9)'!A9="☑","ON","")&"" | JT11: =IF('第四面 (9)'!D9="☑","ON","")&"" | JU11: =IF('第四面 (9)'!G9="☑","ON","")&"" | JV11: =IF('第四面 (9)'!J9="☑","ON","")&"" | JW11: =IF('第四面 (9)'!M9="☑","ON","")&"" | JX11: =IF('第四面 (9)'!Q9="☑","ON","")&"" | JY11: =IF('第四面 (9)'!U9="☑","ON","")&"" | JZ11: ='第四面 (9)'!D10&"" | KA11: ='第四面 (9)'!L10&"" | KB11: =IF('第四面 (9)'!B12="☑","耐火構造",IF('第四面 (9)'!B13="☑","建築基準法施行令第108条の3第1項第1号イ及びロに掲げる基準に適合する構造",IF('第四面 (9)'!B14="☑","準耐火構造",IF('第四面 (9)'!B15="☑","準耐火構造と同等の準耐火性能を有する構造（ロ-1）",IF('第四面 (9)'!B16="☑","準耐火構造と同等の準耐火性能を有する構造（ロ-2）",IF('第四面 (9)'!B17="☑","その他",""))))))&"" | KC11: =IF('第四面 (9)'!B19="☑","建築基準法施行令第109条の5第1号に掲げる基準に適合する構造",IF('第四面 (9)'!B20="☑","建築基準法第21条第1項ただし書きに該当する建築物",IF('第四面 (9)'!B21="☑","建築基準法施行令第110条第1号に掲げる基準に適合する構造",IF('第四面 (9)'!B22="☑","その他",IF('第四面 (9)'!B23="☑","建築基準法第21条又は第27条の規定の適用を受けない","")))))&"" | KD11: =IF('第四面 (9)'!B25="☑","耐火建築物",IF('第四面 (9)'!B26="☑","延焼防止建築物",IF('第四面 (9)'!B27="☑","準耐火建築物",IF('第四面 (9)'!B28="☑","準延焼防止建築物",IF('第四面 (9)'!B29="☑","その他",IF('第四面 (9)'!B30="☑","建築基準法第61条の規定の適用を受けない",""))))))&"" | KE11: ='第四面 (9)'!H32&"" | KF11: ='第四面 (9)'!H33&"" | KG11: ='第四面 (9)'!H34&"" | KH11: ='第四面 (9)'!H35&"" | KI11: ='第四面 (9)'!H37&"" | KJ11: ='第四面 (9)'!H38&"" | KK11: ='第四面 (9)'!G39&"" | KL11: =IF('第四面 (9)'!C42="☑","有り",IF('第四面 (9)'!F42="☑","無し",""))&"" | KM11: =IF('第四面 (9)'!S43="☑","有り",IF('第四面 (9)'!V43="☑","無し",""))&"" | KN11: ='第四面 (9)'!M45&"" | KO11: ='第四面 (9)'!M46&"" | KP11: =IF('第四面 (9)'!B48="☑","ON","")&"" | KQ11: =IF('第四面 (9)'!B49="☑","ON","")&"" | KR11: ='第四面 (9)'!C51&"" | KS11: ='第四面 (9)'!E53&"" | KT11: ='第四面 (9)'!H53&"" | KU11: ='第四面 (9)'!N53&"" | KV11: ='第四面 (9)'!T53&"" -> 0 | KW11: ='第四面 (9)'!E54&"" | KX11: ='第四面 (9)'!H54&"" | KY11: ='第四面 (9)'!N54&"" | KZ11: ='第四面 (9)'!T54&"" -> 0 | LA11: ='第四面 (9)'!E55&"" | LB11: ='第四面 (9)'!H55&"" | LC11: ='第四面 (9)'!N55&"" | LD11: ='第四面 (9)'!T55&"" -> 0 | LE11: ='第四面 (9)'!E56&"" | LF11: ='第四面 (9)'!H56&"" | LG11: ='第四面 (9)'!N56&"" | LH11: ='第四面 (9)'!T56&"" -> 0 | LI11: ='第四面 (9)'!E57&"" | LJ11: ='第四面 (9)'!H57&"" | LK11: ='第四面 (9)'!N57&"" | LL11: ='第四面 (9)'!T57&"" -> 0 | LM11: ='第四面 (9)'!E58&"" | LN11: ='第四面 (9)'!H58&"" | LO11: ='第四面 (9)'!N58&"" | LP11: ='第四面 (9)'!T58&"" -> 0 | LQ11: ='第四面 (9)'!E59&"" | LR11: ='第四面 (9)'!H59&"" | LS11: ='第四面 (9)'!N59&"" | LT11: ='第四面 (9)'!T59&"" -> 0 | LU11: ='第四面 (9)'!E60&"" | LV11: ='第四面 (9)'!H60&"" | LW11: ='第四面 (9)'!N60&"" | LX11: ='第四面 (9)'!T60&"" -> 0 | LY11: ='第四面 (9)'!E61&"" | LZ11: ='第四面 (9)'!H61&"" | MA11: ='第四面 (9)'!N61&"" | MB11: ='第四面 (9)'!T61&"" -> 0 | MC11: ='第四面 (9)'!E62&"" | MD11: ='第四面 (9)'!H62&"" | ME11: ='第四面 (9)'!N62&"" | MF11: ='第四面 (9)'!T62&"" -> 0 | MG11: ='第四面 (9)'!E63&"" | MH11: ='第四面 (9)'!H63&"" | MI11: ='第四面 (9)'!N63&"" | MJ11: ='第四面 (9)'!T63&"" -> 0 | MK11: ='第四面 (9)'!H64&"" -> 0 | ML11: ='第四面 (9)'!N64&"" -> 0 | MM11: ='第四面 (9)'!T64&"" -> 0 | MN11: ='第四面 (9)'!H65&"" | MO11: ='第四面 (9)'!H66&"" | MP11: ='第四面 (9)'!H67&"" | MQ11: ='第四面 (9)'!H68&"" | MR11: ='第四面 (9)'!H69&"" | MS11: ='第四面 (9)'!H70&"" | MT11: ='第四面 (9)'!B73&"" | MU11: ='第五面 (5)'!F3&"" | MV11: ='第五面 (5)'!F4&"" | MW11: ='第五面 (5)'!F5&"" | MX11: ='第五面 (5)'!H6&"" | MY11: ='第五面 (5)'!H7&"" | MZ11: ='第五面 (5)'!H9&"" | NA11: =IF('第五面 (5)'!P10="☑","有り",IF('第五面 (5)'!S10="☑","無し",""))&"" | NB11: ='第五面 (5)'!E14&"" | NC11: ='第五面 (5)'!L14&"" | ND11: ='第五面 (5)'!S14&"" | NE11: ='第五面 (5)'!E15&"" | NF11: ='第五面 (5)'!L15&"" | NG11: ='第五面 (5)'!S15&"" | NH11: ='第五面 (5)'!E16&"" | NI11: ='第五面 (5)'!L16&"" | NJ11: ='第五面 (5)'!S16&"" | NK11: ='第五面 (5)'!E17&"" | NL11: ='第五面 (5)'!L17&"" | NM11: ='第五面 (5)'!S17&"" | NN11: ='第五面 (5)'!E18&"" | NO11: ='第五面 (5)'!L18&"" | NP11: ='第五面 (5)'!S18&"" | NQ11: ='第五面 (5)'!E19&"" | NR11: ='第五面 (5)'!L19&"" | NS11: ='第五面 (5)'!S19&"" | NT11: ='第五面 (5)'!H20&"" | NU11: ='第五面 (5)'!B23&"" | NV11: ='第六面 (5)'!F3&"" | NW11: ='第六面 (5)'!F4&"" | NX11: ='第六面 (5)'!G6&"" | NY11: ='第六面 (5)'!G7&"" | NZ11: ='第六面 (5)'!H8&"" | OA11: ='第六面 (5)'!P8&"" | OB11: ='第六面 (5)'!D9&"" | OC11: ='第六面 (5)'!L9&"" | OD11: =IF('第六面 (5)'!B11="☑","特定構造計算基準",IF('第六面 (5)'!B12="☑","特定増改築構造計算基準",""))&"" | OE11: =IF('第六面 (5)'!B14="☑","建築基準法施行令第81条第1項各号に掲げる基準に従つた構造計算",IF('第六面 (5)'!B15="☑","建築基準法施行令第81条第2項第1号イに掲げる構造計算",IF('第六面 (5)'!B16="☑","建築基準法施行令第81条第2項第1号ロに掲げる構造計算",IF('第六面 (5)'!B17="☑","建築基準法施行令第81条第2項第2号イに掲げる構造計算",IF('第六面 (5)'!B18="☑","建築基準法施行令第81条第3項に掲げる構造計算","")))))&"" | OF11: ='第六面 (5)'!D20&"" | OG11: =IF('第六面 (5)'!B22="☑","建築基準法第20条第1項第2号イ又は第3号イの認定を受けたプログラム",IF('第六面 (5)'!B24="☑","その他のプログラム",""))&"" | OH11: ='第六面 (5)'!F23&"" | OI11: ='第六面 (5)'!C26&"" | OJ11: ='第六面 (5)'!B29&""
AQ12: ='第二面 (建築主追加)'!G61&"" -> 2;1 | AR12: ='第二面 (建築主追加)'!G62&"" -> 2;2 | AS12: ='第二面 (建築主追加)'!G63&"" -> 2;3 | AT12: ='第二面 (建築主追加)'!G64&"" -> 2;4 | AU12: ='第二面 (建築主追加)'!G65&"" -> 2;5 | BS12: ='第二面 (その他設計者追加)'!E70&"" -> 2;53 | BT12: ='第二面 (その他設計者追加)'!M70&"" -> 2;54 | BU12: ='第二面 (その他設計者追加)'!T70&"" -> 2;55 | BV12: ='第二面 (その他設計者追加)'!E71&"" -> 2;56 | BW12: ='第二面 (その他設計者追加)'!H72&"" -> 2;57 | BX12: ='第二面 (その他設計者追加)'!N72&"" -> 2;58 | BY12: ='第二面 (その他設計者追加)'!U72&"" -> 2;59 | BZ12: ='第二面 (その他設計者追加)'!E73&"" -> 2;60 | CA12: ='第二面 (その他設計者追加)'!F74&"" -> 2;61 | CB12: ='第二面 (その他設計者追加)'!F75&"" -> 2;62 | CC12: ='第二面 (その他設計者追加)'!F77&"" -> 2;63 | CD12: ='第二面 (その他設計者追加)'!J78&"" -> 2;64 | CF12: ='第二面 (構造、設備一級の表示者追加)'!K23&"" -> 2;65 | CG12: ='第二面 (構造、設備一級の表示者追加)'!K24&"" -> 2;66 | CI12: ='第二面 (構造、設備一級の表示者追加)'!K42&"" -> 2;67 | CJ12: ='第二面 (構造、設備一級の表示者追加)'!K43&"" -> 2;68 | CL12: ='第二面 (構造、設備一級の表示者追加)'!K57&"" -> 2;73 | CM12: ='第二面 (構造、設備一級の表示者追加)'!K58&"" -> 2;74 | CO12: ='第二面 (構造、設備一級の表示者追加)'!K73&"" -> 2;79 | CP12: ='第二面 (構造、設備一級の表示者追加)'!K74&"" -> 2;80 | CX12: ='第二面 (設備の意見を聴いた者追加)'!E52&"" -> 2;102 | CY12: ='第二面 (設備の意見を聴いた者追加)'!E53&"" -> 2;103 | CZ12: ='第二面 (設備の意見を聴いた者追加)'!F54&"" -> 2;104 | DA12: ='第二面 (設備の意見を聴いた者追加)'!E55&"" -> 2;105 | DB12: ='第二面 (設備の意見を聴いた者追加)'!E56&"" -> 2;106 | DC12: ='第二面 (設備の意見を聴いた者追加)'!E57&"" -> 2;107 | DD12: ='第二面 (設備の意見を聴いた者追加)'!H58&"" -> 2;108 | DQ12: ='第二面 (工事監理者追加)'!E70&"" -> 2;145 | DR12: ='第二面 (工事監理者追加)'!M70&"" -> 2;146 | DS12: ='第二面 (工事監理者追加)'!T70&"" -> 2;147 | DT12: ='第二面 (工事監理者追加)'!E71&"" -> 2;148 | DU12: ='第二面 (工事監理者追加)'!H72&"" -> 2;149 | DV12: ='第二面 (工事監理者追加)'!N72&"" -> 2;150 | DW12: ='第二面 (工事監理者追加)'!U72&"" -> 2;151 | DX12: ='第二面 (工事監理者追加)'!E73&"" -> 2;152 | DY12: ='第二面 (工事監理者追加)'!F74&"" -> 2;153 | DZ12: ='第二面 (工事監理者追加)'!F75&"" -> 2;154 | EA12: ='第二面 (工事監理者追加)'!F77&"" -> 2;155 | EB12: ='第二面 (工事監理者追加)'!J78&"" -> 2;156 | EC12: ='第二面 (工事施工者追加)'!E68&"" -> 2;157 | ED12: ='第二面 (工事施工者追加)'!I69&"" -> 2;158 | EE12: ='第二面 (工事施工者追加)'!P69&"" -> 2;159 | EF12: ='第二面 (工事施工者追加)'!E70&"" -> 2;160 | EG12: ='第二面 (工事施工者追加)'!F71&"" -> 2;161 | EH12: ='第二面 (工事施工者追加)'!F72&"" -> 2;162 | EI12: ='第二面 (工事施工者追加)'!F74&"" -> 2;163 | JJ12: ='第四面 (10)'!F3&"" | JK12: ='第四面 (10)'!F4&"" | JL12: ='第四面 (10)'!K4&"" | JM12: ='第四面 (10)'!F5&"" | JN12: ='第四面 (10)'!K5&"" | JO12: ='第四面 (10)'!F6&"" | JP12: ='第四面 (10)'!K6&"" | JQ12: ='第四面 (10)'!F7&"" | JR12: ='第四面 (10)'!K7&"" | JS12: =IF('第四面 (10)'!A9="☑","ON","")&"" | JT12: =IF('第四面 (10)'!D9="☑","ON","")&"" | JU12: =IF('第四面 (10)'!G9="☑","ON","")&"" | JV12: =IF('第四面 (10)'!J9="☑","ON","")&"" | JW12: =IF('第四面 (10)'!M9="☑","ON","")&"" | JX12: =IF('第四面 (10)'!Q9="☑","ON","")&"" | JY12: =IF('第四面 (10)'!U9="☑","ON","")&"" | JZ12: ='第四面 (10)'!D10&"" | KA12: ='第四面 (10)'!L10&"" | KB12: =IF('第四面 (10)'!B12="☑","耐火構造",IF('第四面 (10)'!B13="☑","建築基準法施行令第108条の3第1項第1号イ及びロに掲げる基準に適合する構造",IF('第四面 (10)'!B14="☑","準耐火構造",IF('第四面 (10)'!B15="☑","準耐火構造と同等の準耐火性能を有する構造（ロ-1）",IF('第四面 (10)'!B16="☑","準耐火構造と同等の準耐火性能を有する構造（ロ-2）",IF('第四面 (10)'!B17="☑","その他",""))))))&"" | KC12: =IF('第四面 (10)'!B19="☑","建築基準法施行令第109条の5第1号に掲げる基準に適合する構造",IF('第四面 (10)'!B20="☑","建築基準法第21条第1項ただし書きに該当する建築物",IF('第四面 (10)'!B21="☑","建築基準法施行令第110条第1号に掲げる基準に適合する構造",IF('第四面 (10)'!B22="☑","その他",IF('第四面 (10)'!B23="☑","建築基準法第21条又は第27条の規定の適用を受けない","")))))&"" | KD12: =IF('第四面 (10)'!B25="☑","耐火建築物",IF('第四面 (10)'!B26="☑","延焼防止建築物",IF('第四面 (10)'!B27="☑","準耐火建築物",IF('第四面 (10)'!B28="☑","準延焼防止建築物",IF('第四面 (10)'!B29="☑","その他",IF('第四面 (10)'!B30="☑","建築基準法第61条の規定の適用を受けない",""))))))&"" | KE12: ='第四面 (10)'!H32&"" | KF12: ='第四面 (10)'!H33&"" | KG12: ='第四面 (10)'!H34&"" | KH12: ='第四面 (10)'!H35&"" | KI12: ='第四面 (10)'!H37&"" | KJ12: ='第四面 (10)'!H38&"" | KK12: ='第四面 (10)'!G39&"" | KL12: =IF('第四面 (10)'!C42="☑","有り",IF('第四面 (10)'!F42="☑","無し",""))&"" | KM12: =IF('第四面 (10)'!S43="☑","有り",IF('第四面 (10)'!V43="☑","無し",""))&"" | KN12: ='第四面 (10)'!M45&"" | KO12: ='第四面 (10)'!M46&"" | KP12: =IF('第四面 (10)'!B48="☑","ON","")&"" | KQ12: =IF('第四面 (10)'!B49="☑","ON","")&"" | KR12: ='第四面 (10)'!C51&"" | KS12: ='第四面 (10)'!E53&"" | KT12: ='第四面 (10)'!H53&"" | KU12: ='第四面 (10)'!N53&"" | KV12: ='第四面 (10)'!T53&"" -> 0 | KW12: ='第四面 (10)'!E54&"" | KX12: ='第四面 (10)'!H54&"" | KY12: ='第四面 (10)'!N54&"" | KZ12: ='第四面 (10)'!T54&"" -> 0 | LA12: ='第四面 (10)'!E55&"" | LB12: ='第四面 (10)'!H55&"" | LC12: ='第四面 (10)'!N55&"" | LD12: ='第四面 (10)'!T55&"" -> 0 | LE12: ='第四面 (10)'!E56&"" | LF12: ='第四面 (10)'!H56&"" | LG12: ='第四面 (10)'!N56&"" | LH12: ='第四面 (10)'!T56&"" -> 0 | LI12: ='第四面 (10)'!E57&"" | LJ12: ='第四面 (10)'!H57&"" | LK12: ='第四面 (10)'!N57&"" | LL12: ='第四面 (10)'!T57&"" -> 0 | LM12: ='第四面 (10)'!E58&"" | LN12: ='第四面 (10)'!H58&"" | LO12: ='第四面 (10)'!N58&"" | LP12: ='第四面 (10)'!T58&"" -> 0 | LQ12: ='第四面 (10)'!E59&"" | LR12: ='第四面 (10)'!H59&"" | LS12: ='第四面 (10)'!N59&"" | LT12: ='第四面 (10)'!T59&"" -> 0 | LU12: ='第四面 (10)'!E60&"" | LV12: ='第四面 (10)'!H60&"" | LW12: ='第四面 (10)'!N60&"" | LX12: ='第四面 (10)'!T60&"" -> 0 | LY12: ='第四面 (10)'!E61&"" | LZ12: ='第四面 (10)'!H61&"" | MA12: ='第四面 (10)'!N61&"" | MB12: ='第四面 (10)'!T61&"" -> 0 | MC12: ='第四面 (10)'!E62&"" | MD12: ='第四面 (10)'!H62&"" | ME12: ='第四面 (10)'!N62&"" | MF12: ='第四面 (10)'!T62&"" -> 0 | MG12: ='第四面 (10)'!E63&"" | MH12: ='第四面 (10)'!H63&"" | MI12: ='第四面 (10)'!N63&"" | MJ12: ='第四面 (10)'!T63&"" -> 0 | MK12: ='第四面 (10)'!H64&"" -> 0 | ML12: ='第四面 (10)'!N64&"" -> 0 | MM12: ='第四面 (10)'!T64&"" -> 0 | MN12: ='第四面 (10)'!H65&"" | MO12: ='第四面 (10)'!H66&"" | MP12: ='第四面 (10)'!H67&"" | MQ12: ='第四面 (10)'!H68&"" | MR12: ='第四面 (10)'!H69&"" | MS12: ='第四面 (10)'!H70&"" | MT12: ='第四面 (10)'!B73&"" | MU12: ='第五面 (5)'!F27&"" | MV12: ='第五面 (5)'!F28&"" | MW12: ='第五面 (5)'!F29&"" | MX12: ='第五面 (5)'!H30&"" | MY12: ='第五面 (5)'!H31&"" | MZ12: ='第五面 (5)'!H33&"" | NA12: =IF('第五面 (5)'!P34="☑","有り",IF('第五面 (5)'!S34="☑","無し",""))&"" | NB12: ='第五面 (5)'!E38&"" | NC12: ='第五面 (5)'!L38&"" | ND12: ='第五面 (5)'!S38&"" | NE12: ='第五面 (5)'!E39&"" | NF12: ='第五面 (5)'!L39&"" | NG12: ='第五面 (5)'!S39&"" | NH12: ='第五面 (5)'!E40&"" | NI12: ='第五面 (5)'!L40&"" | NJ12: ='第五面 (5)'!S40&"" | NK12: ='第五面 (5)'!E41&"" | NL12: ='第五面 (5)'!L41&"" | NM12: ='第五面 (5)'!S41&"" | NN12: ='第五面 (5)'!E42&"" | NO12: ='第五面 (5)'!L42&"" | NP12: ='第五面 (5)'!S42&"" | NQ12: ='第五面 (5)'!E43&"" | NR12: ='第五面 (5)'!L43&"" | NS12: ='第五面 (5)'!S43&"" | NT12: ='第五面 (5)'!H44&"" | NU12: ='第五面 (5)'!B47&"" | NV12: ='第六面 (5)'!F32&"" | NW12: ='第六面 (5)'!F33&"" | NX12: ='第六面 (5)'!G35&"" | NY12: ='第六面 (5)'!G36&"" | NZ12: ='第六面 (5)'!H37&"" | OA12: ='第六面 (5)'!P37&"" | OB12: ='第六面 (5)'!D38&"" | OC12: ='第六面 (5)'!L38&"" | OD12: =IF('第六面 (5)'!B40="☑","特定構造計算基準",IF('第六面 (5)'!B41="☑","特定増改築構造計算基準",""))&"" | OE12: =IF('第六面 (5)'!B43="☑","建築基準法施行令第81条第1項各号に掲げる基準に従つた構造計算",IF('第六面 (5)'!B44="☑","建築基準法施行令第81条第2項第1号イに掲げる構造計算",IF('第六面 (5)'!B45="☑","建築基準法施行令第81条第2項第1号ロに掲げる構造計算",IF('第六面 (5)'!B46="☑","建築基準法施行令第81条第2項第2号イに掲げる構造計算",IF('第六面 (5)'!B47="☑","建築基準法施行令第81条第3項に掲げる構造計算","")))))&"" | OF12: ='第六面 (5)'!D49&"" | OG12: =IF('第六面 (5)'!B51="☑","建築基準法第20条第1項第2号イ又は第3号イの認定を受けたプログラム",IF('第六面 (5)'!B53="☑","その他のプログラム",""))&"" | OH12: ='第六面 (5)'!F52&"" | OI12: ='第六面 (5)'!C55&"" | OJ12: ='第六面 (5)'!B58&""
JJ13: ='第四面 (11)'!F3&"" | JK13: ='第四面 (11)'!F4&"" | JL13: ='第四面 (11)'!K4&"" | JM13: ='第四面 (11)'!F5&"" | JN13: ='第四面 (11)'!K5&"" | JO13: ='第四面 (11)'!F6&"" | JP13: ='第四面 (11)'!K6&"" | JQ13: ='第四面 (11)'!F7&"" | JR13: ='第四面 (11)'!K7&"" | JS13: =IF('第四面 (11)'!A9="☑","ON","")&"" | JT13: =IF('第四面 (11)'!D9="☑","ON","")&"" | JU13: =IF('第四面 (11)'!G9="☑","ON","")&"" | JV13: =IF('第四面 (11)'!J9="☑","ON","")&"" | JW13: =IF('第四面 (11)'!M9="☑","ON","")&"" | JX13: =IF('第四面 (11)'!Q9="☑","ON","")&"" | JY13: =IF('第四面 (11)'!U9="☑","ON","")&"" | JZ13: ='第四面 (11)'!D10&"" | KA13: ='第四面 (11)'!L10&"" | KB13: =IF('第四面 (11)'!B12="☑","耐火構造",IF('第四面 (11)'!B13="☑","建築基準法施行令第108条の3第1項第1号イ及びロに掲げる基準に適合する構造",IF('第四面 (11)'!B14="☑","準耐火構造",IF('第四面 (11)'!B15="☑","準耐火構造と同等の準耐火性能を有する構造（ロ-1）",IF('第四面 (11)'!B16="☑","準耐火構造と同等の準耐火性能を有する構造（ロ-2）",IF('第四面 (11)'!B17="☑","その他",""))))))&"" | KC13: =IF('第四面 (11)'!B19="☑","建築基準法施行令第109条の5第1号に掲げる基準に適合する構造",IF('第四面 (11)'!B20="☑","建築基準法第21条第1項ただし書きに該当する建築物",IF('第四面 (11)'!B21="☑","建築基準法施行令第110条第1号に掲げる基準に適合する構造",IF('第四面 (11)'!B22="☑","その他",IF('第四面 (11)'!B23="☑","建築基準法第21条又は第27条の規定の適用を受けない","")))))&"" | KD13: =IF('第四面 (11)'!B25="☑","耐火建築物",IF('第四面 (11)'!B26="☑","延焼防止建築物",IF('第四面 (11)'!B27="☑","準耐火建築物",IF('第四面 (11)'!B28="☑","準延焼防止建築物",IF('第四面 (11)'!B29="☑","その他",IF('第四面 (11)'!B30="☑","建築基準法第61条の規定の適用を受けない",""))))))&"" | KE13: ='第四面 (11)'!H32&"" | KF13: ='第四面 (11)'!H33&"" | KG13: ='第四面 (11)'!H34&"" | KH13: ='第四面 (11)'!H35&"" | KI13: ='第四面 (11)'!H37&"" | KJ13: ='第四面 (11)'!H38&"" | KK13: ='第四面 (11)'!G39&"" | KL13: =IF('第四面 (11)'!C42="☑","有り",IF('第四面 (11)'!F42="☑","無し",""))&"" | KM13: =IF('第四面 (11)'!S43="☑","有り",IF('第四面 (11)'!V43="☑","無し",""))&"" | KN13: ='第四面 (11)'!M45&"" | KO13: ='第四面 (11)'!M46&"" | KP13: =IF('第四面 (11)'!B48="☑","ON","")&"" | KQ13: =IF('第四面 (11)'!B49="☑","ON","")&"" | KR13: ='第四面 (11)'!C51&"" | KS13: ='第四面 (11)'!E53&"" | KT13: ='第四面 (11)'!H53&"" | KU13: ='第四面 (11)'!N53&"" | KV13: ='第四面 (11)'!T53&"" -> 0 | KW13: ='第四面 (11)'!E54&"" | KX13: ='第四面 (11)'!H54&"" | KY13: ='第四面 (11)'!N54&"" | KZ13: ='第四面 (11)'!T54&"" -> 0 | LA13: ='第四面 (11)'!E55&"" | LB13: ='第四面 (11)'!H55&"" | LC13: ='第四面 (11)'!N55&"" | LD13: ='第四面 (11)'!T55&"" -> 0 | LE13: ='第四面 (11)'!E56&"" | LF13: ='第四面 (11)'!H56&"" | LG13: ='第四面 (11)'!N56&"" | LH13: ='第四面 (11)'!T56&"" -> 0 | LI13: ='第四面 (11)'!E57&"" | LJ13: ='第四面 (11)'!H57&"" | LK13: ='第四面 (11)'!N57&"" | LL13: ='第四面 (11)'!T57&"" -> 0 | LM13: ='第四面 (11)'!E58&"" | LN13: ='第四面 (11)'!H58&"" | LO13: ='第四面 (11)'!N58&"" | LP13: ='第四面 (11)'!T58&"" -> 0 | LQ13: ='第四面 (11)'!E59&"" | LR13: ='第四面 (11)'!H59&"" | LS13: ='第四面 (11)'!N59&"" | LT13: ='第四面 (11)'!T59&"" -> 0 | LU13: ='第四面 (11)'!E60&"" | LV13: ='第四面 (11)'!H60&"" | LW13: ='第四面 (11)'!N60&"" | LX13: ='第四面 (11)'!T60&"" -> 0 | LY13: ='第四面 (11)'!E61&"" | LZ13: ='第四面 (11)'!H61&"" | MA13: ='第四面 (11)'!N61&"" | MB13: ='第四面 (11)'!T61&"" -> 0 | MC13: ='第四面 (11)'!E62&"" | MD13: ='第四面 (11)'!H62&"" | ME13: ='第四面 (11)'!N62&"" | MF13: ='第四面 (11)'!T62&"" -> 0 | MG13: ='第四面 (11)'!E63&"" | MH13: ='第四面 (11)'!H63&"" | MI13: ='第四面 (11)'!N63&"" | MJ13: ='第四面 (11)'!T63&"" -> 0 | MK13: ='第四面 (11)'!H64&"" -> 0 | ML13: ='第四面 (11)'!N64&"" -> 0 | MM13: ='第四面 (11)'!T64&"" -> 0 | MN13: ='第四面 (11)'!H65&"" | MO13: ='第四面 (11)'!H66&"" | MP13: ='第四面 (11)'!H67&"" | MQ13: ='第四面 (11)'!H68&"" | MR13: ='第四面 (11)'!H69&"" | MS13: ='第四面 (11)'!H70&"" | MT13: ='第四面 (11)'!B73&"" | MU13: ='第五面 (6)'!F3&"" | MV13: ='第五面 (6)'!F4&"" | MW13: ='第五面 (6)'!F5&"" | MX13: ='第五面 (6)'!H6&"" | MY13: ='第五面 (6)'!H7&"" | MZ13: ='第五面 (6)'!H9&"" | NA13: =IF('第五面 (6)'!P10="☑","有り",IF('第五面 (6)'!S10="☑","無し",""))&"" | NB13: ='第五面 (6)'!E14&"" | NC13: ='第五面 (6)'!L14&"" | ND13: ='第五面 (6)'!S14&"" | NE13: ='第五面 (6)'!E15&"" | NF13: ='第五面 (6)'!L15&"" | NG13: ='第五面 (6)'!S15&"" | NH13: ='第五面 (6)'!E16&"" | NI13: ='第五面 (6)'!L16&"" | NJ13: ='第五面 (6)'!S16&"" | NK13: ='第五面 (6)'!E17&"" | NL13: ='第五面 (6)'!L17&"" | NM13: ='第五面 (6)'!S17&"" | NN13: ='第五面 (6)'!E18&"" | NO13: ='第五面 (6)'!L18&"" | NP13: ='第五面 (6)'!S18&"" | NQ13: ='第五面 (6)'!E19&"" | NR13: ='第五面 (6)'!L19&"" | NS13: ='第五面 (6)'!S19&"" | NT13: ='第五面 (6)'!H20&"" | NU13: ='第五面 (6)'!B23&"" | NV13: ='第六面 (6)'!F3&"" | NW13: ='第六面 (6)'!F4&"" | NX13: ='第六面 (6)'!G6&"" | NY13: ='第六面 (6)'!G7&"" | NZ13: ='第六面 (6)'!H8&"" | OA13: ='第六面 (6)'!P8&"" | OB13: ='第六面 (6)'!D9&"" | OC13: ='第六面 (6)'!L9&"" | OD13: =IF('第六面 (6)'!B11="☑","特定構造計算基準",IF('第六面 (6)'!B12="☑","特定増改築構造計算基準",""))&"" | OE13: =IF('第六面 (6)'!B14="☑","建築基準法施行令第81条第1項各号に掲げる基準に従つた構造計算",IF('第六面 (6)'!B15="☑","建築基準法施行令第81条第2項第1号イに掲げる構造計算",IF('第六面 (6)'!B16="☑","建築基準法施行令第81条第2項第1号ロに掲げる構造計算",IF('第六面 (6)'!B17="☑","建築基準法施行令第81条第2項第2号イに掲げる構造計算",IF('第六面 (6)'!B18="☑","建築基準法施行令第81条第3項に掲げる構造計算","")))))&"" | OF13: ='第六面 (6)'!D20&"" | OG13: =IF('第六面 (6)'!B22="☑","建築基準法第20条第1項第2号イ又は第3号イの認定を受けたプログラム",IF('第六面 (6)'!B24="☑","その他のプログラム",""))&"" | OH13: ='第六面 (6)'!F23&"" | OI13: ='第六面 (6)'!C26&"" | OJ13: ='第六面 (6)'!B29&""
JJ14: ='第四面 (12)'!F3&"" | JK14: ='第四面 (12)'!F4&"" | JL14: ='第四面 (12)'!K4&"" | JM14: ='第四面 (12)'!F5&"" | JN14: ='第四面 (12)'!K5&"" | JO14: ='第四面 (12)'!F6&"" | JP14: ='第四面 (12)'!K6&"" | JQ14: ='第四面 (12)'!F7&"" | JR14: ='第四面 (12)'!K7&"" | JS14: =IF('第四面 (12)'!A9="☑","ON","")&"" | JT14: =IF('第四面 (12)'!D9="☑","ON","")&"" | JU14: =IF('第四面 (12)'!G9="☑","ON","")&"" | JV14: =IF('第四面 (12)'!J9="☑","ON","")&"" | JW14: =IF('第四面 (12)'!M9="☑","ON","")&"" | JX14: =IF('第四面 (12)'!Q9="☑","ON","")&"" | JY14: =IF('第四面 (12)'!U9="☑","ON","")&"" | JZ14: ='第四面 (12)'!D10&"" | KA14: ='第四面 (12)'!L10&"" | KB14: =IF('第四面 (12)'!B12="☑","耐火構造",IF('第四面 (12)'!B13="☑","建築基準法施行令第108条の3第1項第1号イ及びロに掲げる基準に適合する構造",IF('第四面 (12)'!B14="☑","準耐火構造",IF('第四面 (12)'!B15="☑","準耐火構造と同等の準耐火性能を有する構造（ロ-1）",IF('第四面 (12)'!B16="☑","準耐火構造と同等の準耐火性能を有する構造（ロ-2）",IF('第四面 (12)'!B17="☑","その他",""))))))&"" | KC14: =IF('第四面 (12)'!B19="☑","建築基準法施行令第109条の5第1号に掲げる基準に適合する構造",IF('第四面 (12)'!B20="☑","建築基準法第21条第1項ただし書きに該当する建築物",IF('第四面 (12)'!B21="☑","建築基準法施行令第110条第1号に掲げる基準に適合する構造",IF('第四面 (12)'!B22="☑","その他",IF('第四面 (12)'!B23="☑","建築基準法第21条又は第27条の規定の適用を受けない","")))))&"" | KD14: =IF('第四面 (12)'!B25="☑","耐火建築物",IF('第四面 (12)'!B26="☑","延焼防止建築物",IF('第四面 (12)'!B27="☑","準耐火建築物",IF('第四面 (12)'!B28="☑","準延焼防止建築物",IF('第四面 (12)'!B29="☑","その他",IF('第四面 (12)'!B30="☑","建築基準法第61条の規定の適用を受けない",""))))))&"" | KE14: ='第四面 (12)'!H32&"" | KF14: ='第四面 (12)'!H33&"" | KG14: ='第四面 (12)'!H34&"" | KH14: ='第四面 (12)'!H35&"" | KI14: ='第四面 (12)'!H37&"" | KJ14: ='第四面 (12)'!H38&"" | KK14: ='第四面 (12)'!G39&"" | KL14: =IF('第四面 (12)'!C42="☑","有り",IF('第四面 (12)'!F42="☑","無し",""))&"" | KM14: =IF('第四面 (12)'!S43="☑","有り",IF('第四面 (12)'!V43="☑","無し",""))&"" | KN14: ='第四面 (12)'!M45&"" | KO14: ='第四面 (12)'!M46&"" | KP14: =IF('第四面 (12)'!B48="☑","ON","")&"" | KQ14: =IF('第四面 (12)'!B49="☑","ON","")&"" | KR14: ='第四面 (12)'!C51&"" | KS14: ='第四面 (12)'!E53&"" | KT14: ='第四面 (12)'!H53&"" | KU14: ='第四面 (12)'!N53&"" | KV14: ='第四面 (12)'!T53&"" -> 0 | KW14: ='第四面 (12)'!E54&"" | KX14: ='第四面 (12)'!H54&"" | KY14: ='第四面 (12)'!N54&"" | KZ14: ='第四面 (12)'!T54&"" -> 0 | LA14: ='第四面 (12)'!E55&"" | LB14: ='第四面 (12)'!H55&"" | LC14: ='第四面 (12)'!N55&"" | LD14: ='第四面 (12)'!T55&"" -> 0 | LE14: ='第四面 (12)'!E56&"" | LF14: ='第四面 (12)'!H56&"" | LG14: ='第四面 (12)'!N56&"" | LH14: ='第四面 (12)'!T56&"" -> 0 | LI14: ='第四面 (12)'!E57&"" | LJ14: ='第四面 (12)'!H57&"" | LK14: ='第四面 (12)'!N57&"" | LL14: ='第四面 (12)'!T57&"" -> 0 | LM14: ='第四面 (12)'!E58&"" | LN14: ='第四面 (12)'!H58&"" | LO14: ='第四面 (12)'!N58&"" | LP14: ='第四面 (12)'!T58&"" -> 0 | LQ14: ='第四面 (12)'!E59&"" | LR14: ='第四面 (12)'!H59&"" | LS14: ='第四面 (12)'!N59&"" | LT14: ='第四面 (12)'!T59&"" -> 0 | LU14: ='第四面 (12)'!E60&"" | LV14: ='第四面 (12)'!H60&"" | LW14: ='第四面 (12)'!N60&"" | LX14: ='第四面 (12)'!T60&"" -> 0 | LY14: ='第四面 (12)'!E61&"" | LZ14: ='第四面 (12)'!H61&"" | MA14: ='第四面 (12)'!N61&"" | MB14: ='第四面 (12)'!T61&"" -> 0 | MC14: ='第四面 (12)'!E62&"" | MD14: ='第四面 (12)'!H62&"" | ME14: ='第四面 (12)'!N62&"" | MF14: ='第四面 (12)'!T62&"" -> 0 | MG14: ='第四面 (12)'!E63&"" | MH14: ='第四面 (12)'!H63&"" | MI14: ='第四面 (12)'!N63&"" | MJ14: ='第四面 (12)'!T63&"" -> 0 | MK14: ='第四面 (12)'!H64&"" -> 0 | ML14: ='第四面 (12)'!N64&"" -> 0 | MM14: ='第四面 (12)'!T64&"" -> 0 | MN14: ='第四面 (12)'!H65&"" | MO14: ='第四面 (12)'!H66&"" | MP14: ='第四面 (12)'!H67&"" | MQ14: ='第四面 (12)'!H68&"" | MR14: ='第四面 (12)'!H69&"" | MS14: ='第四面 (12)'!H70&"" | MT14: ='第四面 (12)'!B73&"" | MU14: ='第五面 (6)'!F27&"" | MV14: ='第五面 (6)'!F28&"" | MW14: ='第五面 (6)'!F29&"" | MX14: ='第五面 (6)'!H30&"" | MY14: ='第五面 (6)'!H31&"" | MZ14: ='第五面 (6)'!H33&"" | NA14: =IF('第五面 (6)'!P34="☑","有り",IF('第五面 (6)'!S34="☑","無し",""))&"" | NB14: ='第五面 (6)'!E38&"" | NC14: ='第五面 (6)'!L38&"" | ND14: ='第五面 (6)'!S38&"" | NE14: ='第五面 (6)'!E39&"" | NF14: ='第五面 (6)'!L39&"" | NG14: ='第五面 (6)'!S39&"" | NH14: ='第五面 (6)'!E40&"" | NI14: ='第五面 (6)'!L40&"" | NJ14: ='第五面 (6)'!S40&"" | NK14: ='第五面 (6)'!E41&"" | NL14: ='第五面 (6)'!L41&"" | NM14: ='第五面 (6)'!S41&"" | NN14: ='第五面 (6)'!E42&"" | NO14: ='第五面 (6)'!L42&"" | NP14: ='第五面 (6)'!S42&"" | NQ14: ='第五面 (6)'!E43&"" | NR14: ='第五面 (6)'!L43&"" | NS14: ='第五面 (6)'!S43&"" | NT14: ='第五面 (6)'!H44&"" | NU14: ='第五面 (6)'!B47&"" | NV14: ='第六面 (6)'!F32&"" | NW14: ='第六面 (6)'!F33&"" | NX14: ='第六面 (6)'!G35&"" | NY14: ='第六面 (6)'!G36&"" | NZ14: ='第六面 (6)'!H37&"" | OA14: ='第六面 (6)'!P37&"" | OB14: ='第六面 (6)'!D38&"" | OC14: ='第六面 (6)'!L38&"" | OD14: =IF('第六面 (6)'!B40="☑","特定構造計算基準",IF('第六面 (6)'!B41="☑","特定増改築構造計算基準",""))&"" | OE14: =IF('第六面 (6)'!B43="☑","建築基準法施行令第81条第1項各号に掲げる基準に従つた構造計算",IF('第六面 (6)'!B44="☑","建築基準法施行令第81条第2項第1号イに掲げる構造計算",IF('第六面 (6)'!B45="☑","建築基準法施行令第81条第2項第1号ロに掲げる構造計算",IF('第六面 (6)'!B46="☑","建築基準法施行令第81条第2項第2号イに掲げる構造計算",IF('第六面 (6)'!B47="☑","建築基準法施行令第81条第3項に掲げる構造計算","")))))&"" | OF14: ='第六面 (6)'!D49&"" | OG14: =IF('第六面 (6)'!B51="☑","建築基準法第20条第1項第2号イ又は第3号イの認定を受けたプログラム",IF('第六面 (6)'!B53="☑","その他のプログラム",""))&"" | OH14: ='第六面 (6)'!F52&"" | OI14: ='第六面 (6)'!C55&"" | OJ14: ='第六面 (6)'!B58&""
JJ15: ='第四面 (13)'!F3&"" | JK15: ='第四面 (13)'!F4&"" | JL15: ='第四面 (13)'!K4&"" | JM15: ='第四面 (13)'!F5&"" | JN15: ='第四面 (13)'!K5&"" | JO15: ='第四面 (13)'!F6&"" | JP15: ='第四面 (13)'!K6&"" | JQ15: ='第四面 (13)'!F7&"" | JR15: ='第四面 (13)'!K7&"" | JS15: =IF('第四面 (13)'!A9="☑","ON","")&"" | JT15: =IF('第四面 (13)'!D9="☑","ON","")&"" | JU15: =IF('第四面 (13)'!G9="☑","ON","")&"" | JV15: =IF('第四面 (13)'!J9="☑","ON","")&"" | JW15: =IF('第四面 (13)'!M9="☑","ON","")&"" | JX15: =IF('第四面 (13)'!Q9="☑","ON","")&"" | JY15: =IF('第四面 (13)'!U9="☑","ON","")&"" | JZ15: ='第四面 (13)'!D10&"" | KA15: ='第四面 (13)'!L10&"" | KB15: =IF('第四面 (13)'!B12="☑","耐火構造",IF('第四面 (13)'!B13="☑","建築基準法施行令第108条の3第1項第1号イ及びロに掲げる基準に適合する構造",IF('第四面 (13)'!B14="☑","準耐火構造",IF('第四面 (13)'!B15="☑","準耐火構造と同等の準耐火性能を有する構造（ロ-1）",IF('第四面 (13)'!B16="☑","準耐火構造と同等の準耐火性能を有する構造（ロ-2）",IF('第四面 (13)'!B17="☑","その他",""))))))&"" | KC15: =IF('第四面 (13)'!B19="☑","建築基準法施行令第109条の5第1号に掲げる基準に適合する構造",IF('第四面 (13)'!B20="☑","建築基準法第21条第1項ただし書きに該当する建築物",IF('第四面 (13)'!B21="☑","建築基準法施行令第110条第1号に掲げる基準に適合する構造",IF('第四面 (13)'!B22="☑","その他",IF('第四面 (13)'!B23="☑","建築基準法第21条又は第27条の規定の適用を受けない","")))))&"" | KD15: =IF('第四面 (13)'!B25="☑","耐火建築物",IF('第四面 (13)'!B26="☑","延焼防止建築物",IF('第四面 (13)'!B27="☑","準耐火建築物",IF('第四面 (13)'!B28="☑","準延焼防止建築物",IF('第四面 (13)'!B29="☑","その他",IF('第四面 (13)'!B30="☑","建築基準法第61条の規定の適用を受けない",""))))))&"" | KE15: ='第四面 (13)'!H32&"" | KF15: ='第四面 (13)'!H33&"" | KG15: ='第四面 (13)'!H34&"" | KH15: ='第四面 (13)'!H35&"" | KI15: ='第四面 (13)'!H37&"" | KJ15: ='第四面 (13)'!H38&"" | KK15: ='第四面 (13)'!G39&"" | KL15: =IF('第四面 (13)'!C42="☑","有り",IF('第四面 (13)'!F42="☑","無し",""))&"" | KM15: =IF('第四面 (13)'!S43="☑","有り",IF('第四面 (13)'!V43="☑","無し",""))&"" | KN15: ='第四面 (13)'!M45&"" | KO15: ='第四面 (13)'!M46&"" | KP15: =IF('第四面 (13)'!B48="☑","ON","")&"" | KQ15: =IF('第四面 (13)'!B49="☑","ON","")&"" | KR15: ='第四面 (13)'!C51&"" | KS15: ='第四面 (13)'!E53&"" | KT15: ='第四面 (13)'!H53&"" | KU15: ='第四面 (13)'!N53&"" | KV15: ='第四面 (13)'!T53&"" -> 0 | KW15: ='第四面 (13)'!E54&"" | KX15: ='第四面 (13)'!H54&"" | KY15: ='第四面 (13)'!N54&"" | KZ15: ='第四面 (13)'!T54&"" -> 0 | LA15: ='第四面 (13)'!E55&"" | LB15: ='第四面 (13)'!H55&"" | LC15: ='第四面 (13)'!N55&"" | LD15: ='第四面 (13)'!T55&"" -> 0 | LE15: ='第四面 (13)'!E56&"" | LF15: ='第四面 (13)'!H56&"" | LG15: ='第四面 (13)'!N56&"" | LH15: ='第四面 (13)'!T56&"" -> 0 | LI15: ='第四面 (13)'!E57&"" | LJ15: ='第四面 (13)'!H57&"" | LK15: ='第四面 (13)'!N57&"" | LL15: ='第四面 (13)'!T57&"" -> 0 | LM15: ='第四面 (13)'!E58&"" | LN15: ='第四面 (13)'!H58&"" | LO15: ='第四面 (13)'!N58&"" | LP15: ='第四面 (13)'!T58&"" -> 0 | LQ15: ='第四面 (13)'!E59&"" | LR15: ='第四面 (13)'!H59&"" | LS15: ='第四面 (13)'!N59&"" | LT15: ='第四面 (13)'!T59&"" -> 0 | LU15: ='第四面 (13)'!E60&"" | LV15: ='第四面 (13)'!H60&"" | LW15: ='第四面 (13)'!N60&"" | LX15: ='第四面 (13)'!T60&"" -> 0 | LY15: ='第四面 (13)'!E61&"" | LZ15: ='第四面 (13)'!H61&"" | MA15: ='第四面 (13)'!N61&"" | MB15: ='第四面 (13)'!T61&"" -> 0 | MC15: ='第四面 (13)'!E62&"" | MD15: ='第四面 (13)'!H62&"" | ME15: ='第四面 (13)'!N62&"" | MF15: ='第四面 (13)'!T62&"" -> 0 | MG15: ='第四面 (13)'!E63&"" | MH15: ='第四面 (13)'!H63&"" | MI15: ='第四面 (13)'!N63&"" | MJ15: ='第四面 (13)'!T63&"" -> 0 | MK15: ='第四面 (13)'!H64&"" -> 0 | ML15: ='第四面 (13)'!N64&"" -> 0 | MM15: ='第四面 (13)'!T64&"" -> 0 | MN15: ='第四面 (13)'!H65&"" | MO15: ='第四面 (13)'!H66&"" | MP15: ='第四面 (13)'!H67&"" | MQ15: ='第四面 (13)'!H68&"" | MR15: ='第四面 (13)'!H69&"" | MS15: ='第四面 (13)'!H70&"" | MT15: ='第四面 (13)'!B73&"" | MU15: ='第五面 (7)'!F3&"" | MV15: ='第五面 (7)'!F4&"" | MW15: ='第五面 (7)'!F5&"" | MX15: ='第五面 (7)'!H6&"" | MY15: ='第五面 (7)'!H7&"" | MZ15: ='第五面 (7)'!H9&"" | NA15: =IF('第五面 (7)'!P10="☑","有り",IF('第五面 (7)'!S10="☑","無し",""))&"" | NB15: ='第五面 (7)'!E14&"" | NC15: ='第五面 (7)'!L14&"" | ND15: ='第五面 (7)'!S14&"" | NE15: ='第五面 (7)'!E15&"" | NF15: ='第五面 (7)'!L15&"" | NG15: ='第五面 (7)'!S15&"" | NH15: ='第五面 (7)'!E16&"" | NI15: ='第五面 (7)'!L16&"" | NJ15: ='第五面 (7)'!S16&"" | NK15: ='第五面 (7)'!E17&"" | NL15: ='第五面 (7)'!L17&"" | NM15: ='第五面 (7)'!S17&"" | NN15: ='第五面 (7)'!E18&"" | NO15: ='第五面 (7)'!L18&"" | NP15: ='第五面 (7)'!S18&"" | NQ15: ='第五面 (7)'!E19&"" | NR15: ='第五面 (7)'!L19&"" | NS15: ='第五面 (7)'!S19&"" | NT15: ='第五面 (7)'!H20&"" | NU15: ='第五面 (7)'!B23&"" | NV15: ='第六面 (7)'!F3&"" | NW15: ='第六面 (7)'!F4&"" | NX15: ='第六面 (7)'!G6&"" | NY15: ='第六面 (7)'!G7&"" | NZ15: ='第六面 (7)'!H8&"" | OA15: ='第六面 (7)'!P8&"" | OB15: ='第六面 (7)'!D9&"" | OC15: ='第六面 (7)'!L9&"" | OD15: =IF('第六面 (7)'!B11="☑","特定構造計算基準",IF('第六面 (7)'!B12="☑","特定増改築構造計算基準",""))&"" | OE15: =IF('第六面 (7)'!B14="☑","建築基準法施行令第81条第1項各号に掲げる基準に従つた構造計算",IF('第六面 (7)'!B15="☑","建築基準法施行令第81条第2項第1号イに掲げる構造計算",IF('第六面 (7)'!B16="☑","建築基準法施行令第81条第2項第1号ロに掲げる構造計算",IF('第六面 (7)'!B17="☑","建築基準法施行令第81条第2項第2号イに掲げる構造計算",IF('第六面 (7)'!B18="☑","建築基準法施行令第81条第3項に掲げる構造計算","")))))&"" | OF15: ='第六面 (7)'!D20&"" | OG15: =IF('第六面 (7)'!B22="☑","建築基準法第20条第1項第2号イ又は第3号イの認定を受けたプログラム",IF('第六面 (7)'!B24="☑","その他のプログラム",""))&"" | OH15: ='第六面 (7)'!F23&"" | OI15: ='第六面 (7)'!C26&"" | OJ15: ='第六面 (7)'!B29&""
JJ16: ='第四面 (14)'!F3&"" | JK16: ='第四面 (14)'!F4&"" | JL16: ='第四面 (14)'!K4&"" | JM16: ='第四面 (14)'!F5&"" | JN16: ='第四面 (14)'!K5&"" | JO16: ='第四面 (14)'!F6&"" | JP16: ='第四面 (14)'!K6&"" | JQ16: ='第四面 (14)'!F7&"" | JR16: ='第四面 (14)'!K7&"" | JS16: =IF('第四面 (14)'!A9="☑","ON","")&"" | JT16: =IF('第四面 (14)'!D9="☑","ON","")&"" | JU16: =IF('第四面 (14)'!G9="☑","ON","")&"" | JV16: =IF('第四面 (14)'!J9="☑","ON","")&"" | JW16: =IF('第四面 (14)'!M9="☑","ON","")&"" | JX16: =IF('第四面 (14)'!Q9="☑","ON","")&"" | JY16: =IF('第四面 (14)'!U9="☑","ON","")&"" | JZ16: ='第四面 (14)'!D10&"" | KA16: ='第四面 (14)'!L10&"" | KB16: =IF('第四面 (14)'!B12="☑","耐火構造",IF('第四面 (14)'!B13="☑","建築基準法施行令第108条の3第1項第1号イ及びロに掲げる基準に適合する構造",IF('第四面 (14)'!B14="☑","準耐火構造",IF('第四面 (14)'!B15="☑","準耐火構造と同等の準耐火性能を有する構造（ロ-1）",IF('第四面 (14)'!B16="☑","準耐火構造と同等の準耐火性能を有する構造（ロ-2）",IF('第四面 (14)'!B17="☑","その他",""))))))&"" | KC16: =IF('第四面 (14)'!B19="☑","建築基準法施行令第109条の5第1号に掲げる基準に適合する構造",IF('第四面 (14)'!B20="☑","建築基準法第21条第1項ただし書きに該当する建築物",IF('第四面 (14)'!B21="☑","建築基準法施行令第110条第1号に掲げる基準に適合する構造",IF('第四面 (14)'!B22="☑","その他",IF('第四面 (14)'!B23="☑","建築基準法第21条又は第27条の規定の適用を受けない","")))))&"" | KD16: =IF('第四面 (14)'!B25="☑","耐火建築物",IF('第四面 (14)'!B26="☑","延焼防止建築物",IF('第四面 (14)'!B27="☑","準耐火建築物",IF('第四面 (14)'!B28="☑","準延焼防止建築物",IF('第四面 (14)'!B29="☑","その他",IF('第四面 (14)'!B30="☑","建築基準法第61条の規定の適用を受けない",""))))))&"" | KE16: ='第四面 (14)'!H32&"" | KF16: ='第四面 (14)'!H33&"" | KG16: ='第四面 (14)'!H34&"" | KH16: ='第四面 (14)'!H35&"" | KI16: ='第四面 (14)'!H37&"" | KJ16: ='第四面 (14)'!H38&"" | KK16: ='第四面 (14)'!G39&"" | KL16: =IF('第四面 (14)'!C42="☑","有り",IF('第四面 (14)'!F42="☑","無し",""))&"" | KM16: =IF('第四面 (14)'!S43="☑","有り",IF('第四面 (14)'!V43="☑","無し",""))&"" | KN16: ='第四面 (14)'!M45&"" | KO16: ='第四面 (14)'!M46&"" | KP16: =IF('第四面 (14)'!B48="☑","ON","")&"" | KQ16: =IF('第四面 (14)'!B49="☑","ON","")&"" | KR16: ='第四面 (14)'!C51&"" | KS16: ='第四面 (14)'!E53&"" | KT16: ='第四面 (14)'!H53&"" | KU16: ='第四面 (14)'!N53&"" | KV16: ='第四面 (14)'!T53&"" -> 0 | KW16: ='第四面 (14)'!E54&"" | KX16: ='第四面 (14)'!H54&"" | KY16: ='第四面 (14)'!N54&"" | KZ16: ='第四面 (14)'!T54&"" -> 0 | LA16: ='第四面 (14)'!E55&"" | LB16: ='第四面 (14)'!H55&"" | LC16: ='第四面 (14)'!N55&"" | LD16: ='第四面 (14)'!T55&"" -> 0 | LE16: ='第四面 (14)'!E56&"" | LF16: ='第四面 (14)'!H56&"" | LG16: ='第四面 (14)'!N56&"" | LH16: ='第四面 (14)'!T56&"" -> 0 | LI16: ='第四面 (14)'!E57&"" | LJ16: ='第四面 (14)'!H57&"" | LK16: ='第四面 (14)'!N57&"" | LL16: ='第四面 (14)'!T57&"" -> 0 | LM16: ='第四面 (14)'!E58&"" | LN16: ='第四面 (14)'!H58&"" | LO16: ='第四面 (14)'!N58&"" | LP16: ='第四面 (14)'!T58&"" -> 0 | LQ16: ='第四面 (14)'!E59&"" | LR16: ='第四面 (14)'!H59&"" | LS16: ='第四面 (14)'!N59&"" | LT16: ='第四面 (14)'!T59&"" -> 0 | LU16: ='第四面 (14)'!E60&"" | LV16: ='第四面 (14)'!H60&"" | LW16: ='第四面 (14)'!N60&"" | LX16: ='第四面 (14)'!T60&"" -> 0 | LY16: ='第四面 (14)'!E61&"" | LZ16: ='第四面 (14)'!H61&"" | MA16: ='第四面 (14)'!N61&"" | MB16: ='第四面 (14)'!T61&"" -> 0 | MC16: ='第四面 (14)'!E62&"" | MD16: ='第四面 (14)'!H62&"" | ME16: ='第四面 (14)'!N62&"" | MF16: ='第四面 (14)'!T62&"" -> 0 | MG16: ='第四面 (14)'!E63&"" | MH16: ='第四面 (14)'!H63&"" | MI16: ='第四面 (14)'!N63&"" | MJ16: ='第四面 (14)'!T63&"" -> 0 | MK16: ='第四面 (14)'!H64&"" -> 0 | ML16: ='第四面 (14)'!N64&"" -> 0 | MM16: ='第四面 (14)'!T64&"" -> 0 | MN16: ='第四面 (14)'!H65&"" | MO16: ='第四面 (14)'!H66&"" | MP16: ='第四面 (14)'!H67&"" | MQ16: ='第四面 (14)'!H68&"" | MR16: ='第四面 (14)'!H69&"" | MS16: ='第四面 (14)'!H70&"" | MT16: ='第四面 (14)'!B73&"" | MU16: ='第五面 (7)'!F27&"" | MV16: ='第五面 (7)'!F28&"" | MW16: ='第五面 (7)'!F29&"" | MX16: ='第五面 (7)'!H30&"" | MY16: ='第五面 (7)'!H31&"" | MZ16: ='第五面 (7)'!H33&"" | NA16: =IF('第五面 (7)'!P34="☑","有り",IF('第五面 (7)'!S34="☑","無し",""))&"" | NB16: ='第五面 (7)'!E38&"" | NC16: ='第五面 (7)'!L38&"" | ND16: ='第五面 (7)'!S38&"" | NE16: ='第五面 (7)'!E39&"" | NF16: ='第五面 (7)'!L39&"" | NG16: ='第五面 (7)'!S39&"" | NH16: ='第五面 (7)'!E40&"" | NI16: ='第五面 (7)'!L40&"" | NJ16: ='第五面 (7)'!S40&"" | NK16: ='第五面 (7)'!E41&"" | NL16: ='第五面 (7)'!L41&"" | NM16: ='第五面 (7)'!S41&"" | NN16: ='第五面 (7)'!E42&"" | NO16: ='第五面 (7)'!L42&"" | NP16: ='第五面 (7)'!S42&"" | NQ16: ='第五面 (7)'!E43&"" | NR16: ='第五面 (7)'!L43&"" | NS16: ='第五面 (7)'!S43&"" | NT16: ='第五面 (7)'!H44&"" | NU16: ='第五面 (7)'!B47&"" | NV16: ='第六面 (7)'!F32&"" | NW16: ='第六面 (7)'!F33&"" | NX16: ='第六面 (7)'!G35&"" | NY16: ='第六面 (7)'!G36&"" | NZ16: ='第六面 (7)'!H37&"" | OA16: ='第六面 (7)'!P37&"" | OB16: ='第六面 (7)'!D38&"" | OC16: ='第六面 (7)'!L38&"" | OD16: =IF('第六面 (7)'!B40="☑","特定構造計算基準",IF('第六面 (7)'!B41="☑","特定増改築構造計算基準",""))&"" | OE16: =IF('第六面 (7)'!B43="☑","建築基準法施行令第81条第1項各号に掲げる基準に従つた構造計算",IF('第六面 (7)'!B44="☑","建築基準法施行令第81条第2項第1号イに掲げる構造計算",IF('第六面 (7)'!B45="☑","建築基準法施行令第81条第2項第1号ロに掲げる構造計算",IF('第六面 (7)'!B46="☑","建築基準法施行令第81条第2項第2号イに掲げる構造計算",IF('第六面 (7)'!B47="☑","建築基準法施行令第81条第3項に掲げる構造計算","")))))&"" | OF16: ='第六面 (7)'!D49&"" | OG16: =IF('第六面 (7)'!B51="☑","建築基準法第20条第1項第2号イ又は第3号イの認定を受けたプログラム",IF('第六面 (7)'!B53="☑","その他のプログラム",""))&"" | OH16: ='第六面 (7)'!F52&"" | OI16: ='第六面 (7)'!C55&"" | OJ16: ='第六面 (7)'!B58&""
JJ17: ='第四面 (15)'!F3&"" | JK17: ='第四面 (15)'!F4&"" | JL17: ='第四面 (15)'!K4&"" | JM17: ='第四面 (15)'!F5&"" | JN17: ='第四面 (15)'!K5&"" | JO17: ='第四面 (15)'!F6&"" | JP17: ='第四面 (15)'!K6&"" | JQ17: ='第四面 (15)'!F7&"" | JR17: ='第四面 (15)'!K7&"" | JS17: =IF('第四面 (15)'!A9="☑","ON","")&"" | JT17: =IF('第四面 (15)'!D9="☑","ON","")&"" | JU17: =IF('第四面 (15)'!G9="☑","ON","")&"" | JV17: =IF('第四面 (15)'!J9="☑","ON","")&"" | JW17: =IF('第四面 (15)'!M9="☑","ON","")&"" | JX17: =IF('第四面 (15)'!Q9="☑","ON","")&"" | JY17: =IF('第四面 (15)'!U9="☑","ON","")&"" | JZ17: ='第四面 (15)'!D10&"" | KA17: ='第四面 (15)'!L10&"" | KB17: =IF('第四面 (15)'!B12="☑","耐火構造",IF('第四面 (15)'!B13="☑","建築基準法施行令第108条の3第1項第1号イ及びロに掲げる基準に適合する構造",IF('第四面 (15)'!B14="☑","準耐火構造",IF('第四面 (15)'!B15="☑","準耐火構造と同等の準耐火性能を有する構造（ロ-1）",IF('第四面 (15)'!B16="☑","準耐火構造と同等の準耐火性能を有する構造（ロ-2）",IF('第四面 (15)'!B17="☑","その他",""))))))&"" | KC17: =IF('第四面 (15)'!B19="☑","建築基準法施行令第109条の5第1号に掲げる基準に適合する構造",IF('第四面 (15)'!B20="☑","建築基準法第21条第1項ただし書きに該当する建築物",IF('第四面 (15)'!B21="☑","建築基準法施行令第110条第1号に掲げる基準に適合する構造",IF('第四面 (15)'!B22="☑","その他",IF('第四面 (15)'!B23="☑","建築基準法第21条又は第27条の規定の適用を受けない","")))))&"" | KD17: =IF('第四面 (15)'!B25="☑","耐火建築物",IF('第四面 (15)'!B26="☑","延焼防止建築物",IF('第四面 (15)'!B27="☑","準耐火建築物",IF('第四面 (15)'!B28="☑","準延焼防止建築物",IF('第四面 (15)'!B29="☑","その他",IF('第四面 (15)'!B30="☑","建築基準法第61条の規定の適用を受けない",""))))))&"" | KE17: ='第四面 (15)'!H32&"" | KF17: ='第四面 (15)'!H33&"" | KG17: ='第四面 (15)'!H34&"" | KH17: ='第四面 (15)'!H35&"" | KI17: ='第四面 (15)'!H37&"" | KJ17: ='第四面 (15)'!H38&"" | KK17: ='第四面 (15)'!G39&"" | KL17: =IF('第四面 (15)'!C42="☑","有り",IF('第四面 (15)'!F42="☑","無し",""))&"" | KM17: =IF('第四面 (15)'!S43="☑","有り",IF('第四面 (15)'!V43="☑","無し",""))&"" | KN17: ='第四面 (15)'!M45&"" | KO17: ='第四面 (15)'!M46&"" | KP17: =IF('第四面 (15)'!B48="☑","ON","")&"" | KQ17: =IF('第四面 (15)'!B49="☑","ON","")&"" | KR17: ='第四面 (15)'!C51&"" | KS17: ='第四面 (15)'!E53&"" | KT17: ='第四面 (15)'!H53&"" | KU17: ='第四面 (15)'!N53&"" | KV17: ='第四面 (15)'!T53&"" -> 0 | KW17: ='第四面 (15)'!E54&"" | KX17: ='第四面 (15)'!H54&"" | KY17: ='第四面 (15)'!N54&"" | KZ17: ='第四面 (15)'!T54&"" -> 0 | LA17: ='第四面 (15)'!E55&"" | LB17: ='第四面 (15)'!H55&"" | LC17: ='第四面 (15)'!N55&"" | LD17: ='第四面 (15)'!T55&"" -> 0 | LE17: ='第四面 (15)'!E56&"" | LF17: ='第四面 (15)'!H56&"" | LG17: ='第四面 (15)'!N56&"" | LH17: ='第四面 (15)'!T56&"" -> 0 | LI17: ='第四面 (15)'!E57&"" | LJ17: ='第四面 (15)'!H57&"" | LK17: ='第四面 (15)'!N57&"" | LL17: ='第四面 (15)'!T57&"" -> 0 | LM17: ='第四面 (15)'!E58&"" | LN17: ='第四面 (15)'!H58&"" | LO17: ='第四面 (15)'!N58&"" | LP17: ='第四面 (15)'!T58&"" -> 0 | LQ17: ='第四面 (15)'!E59&"" | LR17: ='第四面 (15)'!H59&"" | LS17: ='第四面 (15)'!N59&"" | LT17: ='第四面 (15)'!T59&"" -> 0 | LU17: ='第四面 (15)'!E60&"" | LV17: ='第四面 (15)'!H60&"" | LW17: ='第四面 (15)'!N60&"" | LX17: ='第四面 (15)'!T60&"" -> 0 | LY17: ='第四面 (15)'!E61&"" | LZ17: ='第四面 (15)'!H61&"" | MA17: ='第四面 (15)'!N61&"" | MB17: ='第四面 (15)'!T61&"" -> 0 | MC17: ='第四面 (15)'!E62&"" | MD17: ='第四面 (15)'!H62&"" | ME17: ='第四面 (15)'!N62&"" | MF17: ='第四面 (15)'!T62&"" -> 0 | MG17: ='第四面 (15)'!E63&"" | MH17: ='第四面 (15)'!H63&"" | MI17: ='第四面 (15)'!N63&"" | MJ17: ='第四面 (15)'!T63&"" -> 0 | MK17: ='第四面 (15)'!H64&"" -> 0 | ML17: ='第四面 (15)'!N64&"" -> 0 | MM17: ='第四面 (15)'!T64&"" -> 0 | MN17: ='第四面 (15)'!H65&"" | MO17: ='第四面 (15)'!H66&"" | MP17: ='第四面 (15)'!H67&"" | MQ17: ='第四面 (15)'!H68&"" | MR17: ='第四面 (15)'!H69&"" | MS17: ='第四面 (15)'!H70&"" | MT17: ='第四面 (15)'!B73&"" | MU17: ='第五面 (8)'!F3&"" | MV17: ='第五面 (8)'!F4&"" | MW17: ='第五面 (8)'!F5&"" | MX17: ='第五面 (8)'!H6&"" | MY17: ='第五面 (8)'!H7&"" | MZ17: ='第五面 (8)'!H9&"" | NA17: =IF('第五面 (8)'!P10="☑","有り",IF('第五面 (8)'!S10="☑","無し",""))&"" | NB17: ='第五面 (8)'!E14&"" | NC17: ='第五面 (8)'!L14&"" | ND17: ='第五面 (8)'!S14&"" | NE17: ='第五面 (8)'!E15&"" | NF17: ='第五面 (8)'!L15&"" | NG17: ='第五面 (8)'!S15&"" | NH17: ='第五面 (8)'!E16&"" | NI17: ='第五面 (8)'!L16&"" | NJ17: ='第五面 (8)'!S16&"" | NK17: ='第五面 (8)'!E17&"" | NL17: ='第五面 (8)'!L17&"" | NM17: ='第五面 (8)'!S17&"" | NN17: ='第五面 (8)'!E18&"" | NO17: ='第五面 (8)'!L18&"" | NP17: ='第五面 (8)'!S18&"" | NQ17: ='第五面 (8)'!E19&"" | NR17: ='第五面 (8)'!L19&"" | NS17: ='第五面 (8)'!S19&"" | NT17: ='第五面 (8)'!H20&"" | NU17: ='第五面 (8)'!B23&"" | NV17: ='第六面 (8)'!F3&"" | NW17: ='第六面 (8)'!F4&"" | NX17: ='第六面 (8)'!G6&"" | NY17: ='第六面 (8)'!G7&"" | NZ17: ='第六面 (8)'!H8&"" | OA17: ='第六面 (8)'!P8&"" | OB17: ='第六面 (8)'!D9&"" | OC17: ='第六面 (8)'!L9&"" | OD17: =IF('第六面 (8)'!B11="☑","特定構造計算基準",IF('第六面 (8)'!B12="☑","特定増改築構造計算基準",""))&"" | OE17: =IF('第六面 (8)'!B14="☑","建築基準法施行令第81条第1項各号に掲げる基準に従つた構造計算",IF('第六面 (8)'!B15="☑","建築基準法施行令第81条第2項第1号イに掲げる構造計算",IF('第六面 (8)'!B16="☑","建築基準法施行令第81条第2項第1号ロに掲げる構造計算",IF('第六面 (8)'!B17="☑","建築基準法施行令第81条第2項第2号イに掲げる構造計算",IF('第六面 (8)'!B18="☑","建築基準法施行令第81条第3項に掲げる構造計算","")))))&"" | OF17: ='第六面 (8)'!D20&"" | OG17: =IF('第六面 (8)'!B22="☑","建築基準法第20条第1項第2号イ又は第3号イの認定を受けたプログラム",IF('第六面 (8)'!B24="☑","その他のプログラム",""))&"" | OH17: ='第六面 (8)'!F23&"" | OI17: ='第六面 (8)'!C26&"" | OJ17: ='第六面 (8)'!B29&""
JJ18: ='第四面 (16)'!F3&"" | JK18: ='第四面 (16)'!F4&"" | JL18: ='第四面 (16)'!K4&"" | JM18: ='第四面 (16)'!F5&"" | JN18: ='第四面 (16)'!K5&"" | JO18: ='第四面 (16)'!F6&"" | JP18: ='第四面 (16)'!K6&"" | JQ18: ='第四面 (16)'!F7&"" | JR18: ='第四面 (16)'!K7&"" | JS18: =IF('第四面 (16)'!A9="☑","ON","")&"" | JT18: =IF('第四面 (16)'!D9="☑","ON","")&"" | JU18: =IF('第四面 (16)'!G9="☑","ON","")&"" | JV18: =IF('第四面 (16)'!J9="☑","ON","")&"" | JW18: =IF('第四面 (16)'!M9="☑","ON","")&"" | JX18: =IF('第四面 (16)'!Q9="☑","ON","")&"" | JY18: =IF('第四面 (16)'!U9="☑","ON","")&"" | JZ18: ='第四面 (16)'!D10&"" | KA18: ='第四面 (16)'!L10&"" | KB18: =IF('第四面 (16)'!B12="☑","耐火構造",IF('第四面 (16)'!B13="☑","建築基準法施行令第108条の3第1項第1号イ及びロに掲げる基準に適合する構造",IF('第四面 (16)'!B14="☑","準耐火構造",IF('第四面 (16)'!B15="☑","準耐火構造と同等の準耐火性能を有する構造（ロ-1）",IF('第四面 (16)'!B16="☑","準耐火構造と同等の準耐火性能を有する構造（ロ-2）",IF('第四面 (16)'!B17="☑","その他",""))))))&"" | KC18: =IF('第四面 (16)'!B19="☑","建築基準法施行令第109条の5第1号に掲げる基準に適合する構造",IF('第四面 (16)'!B20="☑","建築基準法第21条第1項ただし書きに該当する建築物",IF('第四面 (16)'!B21="☑","建築基準法施行令第110条第1号に掲げる基準に適合する構造",IF('第四面 (16)'!B22="☑","その他",IF('第四面 (16)'!B23="☑","建築基準法第21条又は第27条の規定の適用を受けない","")))))&"" | KD18: =IF('第四面 (16)'!B25="☑","耐火建築物",IF('第四面 (16)'!B26="☑","延焼防止建築物",IF('第四面 (16)'!B27="☑","準耐火建築物",IF('第四面 (16)'!B28="☑","準延焼防止建築物",IF('第四面 (16)'!B29="☑","その他",IF('第四面 (16)'!B30="☑","建築基準法第61条の規定の適用を受けない",""))))))&"" | KE18: ='第四面 (16)'!H32&"" | KF18: ='第四面 (16)'!H33&"" | KG18: ='第四面 (16)'!H34&"" | KH18: ='第四面 (16)'!H35&"" | KI18: ='第四面 (16)'!H37&"" | KJ18: ='第四面 (16)'!H38&"" | KK18: ='第四面 (16)'!G39&"" | KL18: =IF('第四面 (16)'!C42="☑","有り",IF('第四面 (16)'!F42="☑","無し",""))&"" | KM18: =IF('第四面 (16)'!S43="☑","有り",IF('第四面 (16)'!V43="☑","無し",""))&"" | KN18: ='第四面 (16)'!M45&"" | KO18: ='第四面 (16)'!M46&"" | KP18: =IF('第四面 (16)'!B48="☑","ON","")&"" | KQ18: =IF('第四面 (16)'!B49="☑","ON","")&"" | KR18: ='第四面 (16)'!C51&"" | KS18: ='第四面 (16)'!E53&"" | KT18: ='第四面 (16)'!H53&"" | KU18: ='第四面 (16)'!N53&"" | KV18: ='第四面 (16)'!T53&"" -> 0 | KW18: ='第四面 (16)'!E54&"" | KX18: ='第四面 (16)'!H54&"" | KY18: ='第四面 (16)'!N54&"" | KZ18: ='第四面 (16)'!T54&"" -> 0 | LA18: ='第四面 (16)'!E55&"" | LB18: ='第四面 (16)'!H55&"" | LC18: ='第四面 (16)'!N55&"" | LD18: ='第四面 (16)'!T55&"" -> 0 | LE18: ='第四面 (16)'!E56&"" | LF18: ='第四面 (16)'!H56&"" | LG18: ='第四面 (16)'!N56&"" | LH18: ='第四面 (16)'!T56&"" -> 0 | LI18: ='第四面 (16)'!E57&"" | LJ18: ='第四面 (16)'!H57&"" | LK18: ='第四面 (16)'!N57&"" | LL18: ='第四面 (16)'!T57&"" -> 0 | LM18: ='第四面 (16)'!E58&"" | LN18: ='第四面 (16)'!H58&"" | LO18: ='第四面 (16)'!N58&"" | LP18: ='第四面 (16)'!T58&"" -> 0 | LQ18: ='第四面 (16)'!E59&"" | LR18: ='第四面 (16)'!H59&"" | LS18: ='第四面 (16)'!N59&"" | LT18: ='第四面 (16)'!T59&"" -> 0 | LU18: ='第四面 (16)'!E60&"" | LV18: ='第四面 (16)'!H60&"" | LW18: ='第四面 (16)'!N60&"" | LX18: ='第四面 (16)'!T60&"" -> 0 | LY18: ='第四面 (16)'!E61&"" | LZ18: ='第四面 (16)'!H61&"" | MA18: ='第四面 (16)'!N61&"" | MB18: ='第四面 (16)'!T61&"" -> 0 | MC18: ='第四面 (16)'!E62&"" | MD18: ='第四面 (16)'!H62&"" | ME18: ='第四面 (16)'!N62&"" | MF18: ='第四面 (16)'!T62&"" -> 0 | MG18: ='第四面 (16)'!E63&"" | MH18: ='第四面 (16)'!H63&"" | MI18: ='第四面 (16)'!N63&"" | MJ18: ='第四面 (16)'!T63&"" -> 0 | MK18: ='第四面 (16)'!H64&"" -> 0 | ML18: ='第四面 (16)'!N64&"" -> 0 | MM18: ='第四面 (16)'!T64&"" -> 0 | MN18: ='第四面 (16)'!H65&"" | MO18: ='第四面 (16)'!H66&"" | MP18: ='第四面 (16)'!H67&"" | MQ18: ='第四面 (16)'!H68&"" | MR18: ='第四面 (16)'!H69&"" | MS18: ='第四面 (16)'!H70&"" | MT18: ='第四面 (16)'!B73&"" | MU18: ='第五面 (8)'!F27&"" | MV18: ='第五面 (8)'!F28&"" | MW18: ='第五面 (8)'!F29&"" | MX18: ='第五面 (8)'!H30&"" | MY18: ='第五面 (8)'!H31&"" | MZ18: ='第五面 (8)'!H33&"" | NA18: =IF('第五面 (8)'!P34="☑","有り",IF('第五面 (8)'!S34="☑","無し",""))&"" | NB18: ='第五面 (8)'!E38&"" | NC18: ='第五面 (8)'!L38&"" | ND18: ='第五面 (8)'!S38&"" | NE18: ='第五面 (8)'!E39&"" | NF18: ='第五面 (8)'!L39&"" | NG18: ='第五面 (8)'!S39&"" | NH18: ='第五面 (8)'!E40&"" | NI18: ='第五面 (8)'!L40&"" | NJ18: ='第五面 (8)'!S40&"" | NK18: ='第五面 (8)'!E41&"" | NL18: ='第五面 (8)'!L41&"" | NM18: ='第五面 (8)'!S41&"" | NN18: ='第五面 (8)'!E42&"" | NO18: ='第五面 (8)'!L42&"" | NP18: ='第五面 (8)'!S42&"" | NQ18: ='第五面 (8)'!E43&"" | NR18: ='第五面 (8)'!L43&"" | NS18: ='第五面 (8)'!S43&"" | NT18: ='第五面 (8)'!H44&"" | NU18: ='第五面 (8)'!B47&"" | NV18: ='第六面 (8)'!F32&"" | NW18: ='第六面 (8)'!F33&"" | NX18: ='第六面 (8)'!G35&"" | NY18: ='第六面 (8)'!G36&"" | NZ18: ='第六面 (8)'!H37&"" | OA18: ='第六面 (8)'!P37&"" | OB18: ='第六面 (8)'!D38&"" | OC18: ='第六面 (8)'!L38&"" | OD18: =IF('第六面 (8)'!B40="☑","特定構造計算基準",IF('第六面 (8)'!B41="☑","特定増改築構造計算基準",""))&"" | OE18: =IF('第六面 (8)'!B43="☑","建築基準法施行令第81条第1項各号に掲げる基準に従つた構造計算",IF('第六面 (8)'!B44="☑","建築基準法施行令第81条第2項第1号イに掲げる構造計算",IF('第六面 (8)'!B45="☑","建築基準法施行令第81条第2項第1号ロに掲げる構造計算",IF('第六面 (8)'!B46="☑","建築基準法施行令第81条第2項第2号イに掲げる構造計算",IF('第六面 (8)'!B47="☑","建築基準法施行令第81条第3項に掲げる構造計算","")))))&"" | OF18: ='第六面 (8)'!D49&"" | OG18: =IF('第六面 (8)'!B51="☑","建築基準法第20条第1項第2号イ又は第3号イの認定を受けたプログラム",IF('第六面 (8)'!B53="☑","その他のプログラム",""))&"" | OH18: ='第六面 (8)'!F52&"" | OI18: ='第六面 (8)'!C55&"" | OJ18: ='第六面 (8)'!B58&""
JJ19: ='第四面 (17)'!F3&"" | JK19: ='第四面 (17)'!F4&"" | JL19: ='第四面 (17)'!K4&"" | JM19: ='第四面 (17)'!F5&"" | JN19: ='第四面 (17)'!K5&"" | JO19: ='第四面 (17)'!F6&"" | JP19: ='第四面 (17)'!K6&"" | JQ19: ='第四面 (17)'!F7&"" | JR19: ='第四面 (17)'!K7&"" | JS19: =IF('第四面 (17)'!A9="☑","ON","")&"" | JT19: =IF('第四面 (17)'!D9="☑","ON","")&"" | JU19: =IF('第四面 (17)'!G9="☑","ON","")&"" | JV19: =IF('第四面 (17)'!J9="☑","ON","")&"" | JW19: =IF('第四面 (17)'!M9="☑","ON","")&"" | JX19: =IF('第四面 (17)'!Q9="☑","ON","")&"" | JY19: =IF('第四面 (17)'!U9="☑","ON","")&"" | JZ19: ='第四面 (17)'!D10&"" | KA19: ='第四面 (17)'!L10&"" | KB19: =IF('第四面 (17)'!B12="☑","耐火構造",IF('第四面 (17)'!B13="☑","建築基準法施行令第108条の3第1項第1号イ及びロに掲げる基準に適合する構造",IF('第四面 (17)'!B14="☑","準耐火構造",IF('第四面 (17)'!B15="☑","準耐火構造と同等の準耐火性能を有する構造（ロ-1）",IF('第四面 (17)'!B16="☑","準耐火構造と同等の準耐火性能を有する構造（ロ-2）",IF('第四面 (17)'!B17="☑","その他",""))))))&"" | KC19: =IF('第四面 (17)'!B19="☑","建築基準法施行令第109条の5第1号に掲げる基準に適合する構造",IF('第四面 (17)'!B20="☑","建築基準法第21条第1項ただし書きに該当する建築物",IF('第四面 (17)'!B21="☑","建築基準法施行令第110条第1号に掲げる基準に適合する構造",IF('第四面 (17)'!B22="☑","その他",IF('第四面 (17)'!B23="☑","建築基準法第21条又は第27条の規定の適用を受けない","")))))&"" | KD19: =IF('第四面 (17)'!B25="☑","耐火建築物",IF('第四面 (17)'!B26="☑","延焼防止建築物",IF('第四面 (17)'!B27="☑","準耐火建築物",IF('第四面 (17)'!B28="☑","準延焼防止建築物",IF('第四面 (17)'!B29="☑","その他",IF('第四面 (17)'!B30="☑","建築基準法第61条の規定の適用を受けない",""))))))&"" | KE19: ='第四面 (17)'!H32&"" | KF19: ='第四面 (17)'!H33&"" | KG19: ='第四面 (17)'!H34&"" | KH19: ='第四面 (17)'!H35&"" | KI19: ='第四面 (17)'!H37&"" | KJ19: ='第四面 (17)'!H38&"" | KK19: ='第四面 (17)'!G39&"" | KL19: =IF('第四面 (17)'!C42="☑","有り",IF('第四面 (17)'!F42="☑","無し",""))&"" | KM19: =IF('第四面 (17)'!S43="☑","有り",IF('第四面 (17)'!V43="☑","無し",""))&"" | KN19: ='第四面 (17)'!M45&"" | KO19: ='第四面 (17)'!M46&"" | KP19: =IF('第四面 (17)'!B48="☑","ON","")&"" | KQ19: =IF('第四面 (17)'!B49="☑","ON","")&"" | KR19: ='第四面 (17)'!C51&"" | KS19: ='第四面 (17)'!E53&"" | KT19: ='第四面 (17)'!H53&"" | KU19: ='第四面 (17)'!N53&"" | KV19: ='第四面 (17)'!T53&"" -> 0 | KW19: ='第四面 (17)'!E54&"" | KX19: ='第四面 (17)'!H54&"" | KY19: ='第四面 (17)'!N54&"" | KZ19: ='第四面 (17)'!T54&"" -> 0 | LA19: ='第四面 (17)'!E55&"" | LB19: ='第四面 (17)'!H55&"" | LC19: ='第四面 (17)'!N55&"" | LD19: ='第四面 (17)'!T55&"" -> 0 | LE19: ='第四面 (17)'!E56&"" | LF19: ='第四面 (17)'!H56&"" | LG19: ='第四面 (17)'!N56&"" | LH19: ='第四面 (17)'!T56&"" -> 0 | LI19: ='第四面 (17)'!E57&"" | LJ19: ='第四面 (17)'!H57&"" | LK19: ='第四面 (17)'!N57&"" | LL19: ='第四面 (17)'!T57&"" -> 0 | LM19: ='第四面 (17)'!E58&"" | LN19: ='第四面 (17)'!H58&"" | LO19: ='第四面 (17)'!N58&"" | LP19: ='第四面 (17)'!T58&"" -> 0 | LQ19: ='第四面 (17)'!E59&"" | LR19: ='第四面 (17)'!H59&"" | LS19: ='第四面 (17)'!N59&"" | LT19: ='第四面 (17)'!T59&"" -> 0 | LU19: ='第四面 (17)'!E60&"" | LV19: ='第四面 (17)'!H60&"" | LW19: ='第四面 (17)'!N60&"" | LX19: ='第四面 (17)'!T60&"" -> 0 | LY19: ='第四面 (17)'!E61&"" | LZ19: ='第四面 (17)'!H61&"" | MA19: ='第四面 (17)'!N61&"" | MB19: ='第四面 (17)'!T61&"" -> 0 | MC19: ='第四面 (17)'!E62&"" | MD19: ='第四面 (17)'!H62&"" | ME19: ='第四面 (17)'!N62&"" | MF19: ='第四面 (17)'!T62&"" -> 0 | MG19: ='第四面 (17)'!E63&"" | MH19: ='第四面 (17)'!H63&"" | MI19: ='第四面 (17)'!N63&"" | MJ19: ='第四面 (17)'!T63&"" -> 0 | MK19: ='第四面 (17)'!H64&"" -> 0 | ML19: ='第四面 (17)'!N64&"" -> 0 | MM19: ='第四面 (17)'!T64&"" -> 0 | MN19: ='第四面 (17)'!H65&"" | MO19: ='第四面 (17)'!H66&"" | MP19: ='第四面 (17)'!H67&"" | MQ19: ='第四面 (17)'!H68&"" | MR19: ='第四面 (17)'!H69&"" | MS19: ='第四面 (17)'!H70&"" | MT19: ='第四面 (17)'!B73&"" | MU19: ='第五面 (9)'!F3&"" | MV19: ='第五面 (9)'!F4&"" | MW19: ='第五面 (9)'!F5&"" | MX19: ='第五面 (9)'!H6&"" | MY19: ='第五面 (9)'!H7&"" | MZ19: ='第五面 (9)'!H9&"" | NA19: =IF('第五面 (9)'!P10="☑","有り",IF('第五面 (9)'!S10="☑","無し",""))&"" | NB19: ='第五面 (9)'!E14&"" | NC19: ='第五面 (9)'!L14&"" | ND19: ='第五面 (9)'!S14&"" | NE19: ='第五面 (9)'!E15&"" | NF19: ='第五面 (9)'!L15&"" | NG19: ='第五面 (9)'!S15&"" | NH19: ='第五面 (9)'!E16&"" | NI19: ='第五面 (9)'!L16&"" | NJ19: ='第五面 (9)'!S16&"" | NK19: ='第五面 (9)'!E17&"" | NL19: ='第五面 (9)'!L17&"" | NM19: ='第五面 (9)'!S17&"" | NN19: ='第五面 (9)'!E18&"" | NO19: ='第五面 (9)'!L18&"" | NP19: ='第五面 (9)'!S18&"" | NQ19: ='第五面 (9)'!E19&"" | NR19: ='第五面 (9)'!L19&"" | NS19: ='第五面 (9)'!S19&"" | NT19: ='第五面 (9)'!H20&"" | NU19: ='第五面 (9)'!B23&"" | NV19: ='第六面 (9)'!F3&"" | NW19: ='第六面 (9)'!F4&"" | NX19: ='第六面 (9)'!G6&"" | NY19: ='第六面 (9)'!G7&"" | NZ19: ='第六面 (9)'!H8&"" | OA19: ='第六面 (9)'!P8&"" | OB19: ='第六面 (9)'!D9&"" | OC19: ='第六面 (9)'!L9&"" | OD19: =IF('第六面 (9)'!B11="☑","特定構造計算基準",IF('第六面 (9)'!B12="☑","特定増改築構造計算基準",""))&"" | OE19: =IF('第六面 (9)'!B14="☑","建築基準法施行令第81条第1項各号に掲げる基準に従つた構造計算",IF('第六面 (9)'!B15="☑","建築基準法施行令第81条第2項第1号イに掲げる構造計算",IF('第六面 (9)'!B16="☑","建築基準法施行令第81条第2項第1号ロに掲げる構造計算",IF('第六面 (9)'!B17="☑","建築基準法施行令第81条第2項第2号イに掲げる構造計算",IF('第六面 (9)'!B18="☑","建築基準法施行令第81条第3項に掲げる構造計算","")))))&"" | OF19: ='第六面 (9)'!D20&"" | OG19: =IF('第六面 (9)'!B22="☑","建築基準法第20条第1項第2号イ又は第3号イの認定を受けたプログラム",IF('第六面 (9)'!B24="☑","その他のプログラム",""))&"" | OH19: ='第六面 (9)'!F23&"" | OI19: ='第六面 (9)'!C26&"" | OJ19: ='第六面 (9)'!B29&""
JJ20: ='第四面 (18)'!F3&"" | JK20: ='第四面 (18)'!F4&"" | JL20: ='第四面 (18)'!K4&"" | JM20: ='第四面 (18)'!F5&"" | JN20: ='第四面 (18)'!K5&"" | JO20: ='第四面 (18)'!F6&"" | JP20: ='第四面 (18)'!K6&"" | JQ20: ='第四面 (18)'!F7&"" | JR20: ='第四面 (18)'!K7&"" | JS20: =IF('第四面 (18)'!A9="☑","ON","")&"" | JT20: =IF('第四面 (18)'!D9="☑","ON","")&"" | JU20: =IF('第四面 (18)'!G9="☑","ON","")&"" | JV20: =IF('第四面 (18)'!J9="☑","ON","")&"" | JW20: =IF('第四面 (18)'!M9="☑","ON","")&"" | JX20: =IF('第四面 (18)'!Q9="☑","ON","")&"" | JY20: =IF('第四面 (18)'!U9="☑","ON","")&"" | JZ20: ='第四面 (18)'!D10&"" | KA20: ='第四面 (18)'!L10&"" | KB20: =IF('第四面 (18)'!B12="☑","耐火構造",IF('第四面 (18)'!B13="☑","建築基準法施行令第108条の3第1項第1号イ及びロに掲げる基準に適合する構造",IF('第四面 (18)'!B14="☑","準耐火構造",IF('第四面 (18)'!B15="☑","準耐火構造と同等の準耐火性能を有する構造（ロ-1）",IF('第四面 (18)'!B16="☑","準耐火構造と同等の準耐火性能を有する構造（ロ-2）",IF('第四面 (18)'!B17="☑","その他",""))))))&"" | KC20: =IF('第四面 (18)'!B19="☑","建築基準法施行令第109条の5第1号に掲げる基準に適合する構造",IF('第四面 (18)'!B20="☑","建築基準法第21条第1項ただし書きに該当する建築物",IF('第四面 (18)'!B21="☑","建築基準法施行令第110条第1号に掲げる基準に適合する構造",IF('第四面 (18)'!B22="☑","その他",IF('第四面 (18)'!B23="☑","建築基準法第21条又は第27条の規定の適用を受けない","")))))&"" | KD20: =IF('第四面 (18)'!B25="☑","耐火建築物",IF('第四面 (18)'!B26="☑","延焼防止建築物",IF('第四面 (18)'!B27="☑","準耐火建築物",IF('第四面 (18)'!B28="☑","準延焼防止建築物",IF('第四面 (18)'!B29="☑","その他",IF('第四面 (18)'!B30="☑","建築基準法第61条の規定の適用を受けない",""))))))&"" | KE20: ='第四面 (18)'!H32&"" | KF20: ='第四面 (18)'!H33&"" | KG20: ='第四面 (18)'!H34&"" | KH20: ='第四面 (18)'!H35&"" | KI20: ='第四面 (18)'!H37&"" | KJ20: ='第四面 (18)'!H38&"" | KK20: ='第四面 (18)'!G39&"" | KL20: =IF('第四面 (18)'!C42="☑","有り",IF('第四面 (18)'!F42="☑","無し",""))&"" | KM20: =IF('第四面 (18)'!S43="☑","有り",IF('第四面 (18)'!V43="☑","無し",""))&"" | KN20: ='第四面 (18)'!M45&"" | KO20: ='第四面 (18)'!M46&"" | KP20: =IF('第四面 (18)'!B48="☑","ON","")&"" | KQ20: =IF('第四面 (18)'!B49="☑","ON","")&"" | KR20: ='第四面 (18)'!C51&"" | KS20: ='第四面 (18)'!E53&"" | KT20: ='第四面 (18)'!H53&"" | KU20: ='第四面 (18)'!N53&"" | KV20: ='第四面 (18)'!T53&"" -> 0 | KW20: ='第四面 (18)'!E54&"" | KX20: ='第四面 (18)'!H54&"" | KY20: ='第四面 (18)'!N54&"" | KZ20: ='第四面 (18)'!T54&"" -> 0 | LA20: ='第四面 (18)'!E55&"" | LB20: ='第四面 (18)'!H55&"" | LC20: ='第四面 (18)'!N55&"" | LD20: ='第四面 (18)'!T55&"" -> 0 | LE20: ='第四面 (18)'!E56&"" | LF20: ='第四面 (18)'!H56&"" | LG20: ='第四面 (18)'!N56&"" | LH20: ='第四面 (18)'!T56&"" -> 0 | LI20: ='第四面 (18)'!E57&"" | LJ20: ='第四面 (18)'!H57&"" | LK20: ='第四面 (18)'!N57&"" | LL20: ='第四面 (18)'!T57&"" -> 0 | LM20: ='第四面 (18)'!E58&"" | LN20: ='第四面 (18)'!H58&"" | LO20: ='第四面 (18)'!N58&"" | LP20: ='第四面 (18)'!T58&"" -> 0 | LQ20: ='第四面 (18)'!E59&"" | LR20: ='第四面 (18)'!H59&"" | LS20: ='第四面 (18)'!N59&"" | LT20: ='第四面 (18)'!T59&"" -> 0 | LU20: ='第四面 (18)'!E60&"" | LV20: ='第四面 (18)'!H60&"" | LW20: ='第四面 (18)'!N60&"" | LX20: ='第四面 (18)'!T60&"" -> 0 | LY20: ='第四面 (18)'!E61&"" | LZ20: ='第四面 (18)'!H61&"" | MA20: ='第四面 (18)'!N61&"" | MB20: ='第四面 (18)'!T61&"" -> 0 | MC20: ='第四面 (18)'!E62&"" | MD20: ='第四面 (18)'!H62&"" | ME20: ='第四面 (18)'!N62&"" | MF20: ='第四面 (18)'!T62&"" -> 0 | MG20: ='第四面 (18)'!E63&"" | MH20: ='第四面 (18)'!H63&"" | MI20: ='第四面 (18)'!N63&"" | MJ20: ='第四面 (18)'!T63&"" -> 0 | MK20: ='第四面 (18)'!H64&"" -> 0 | ML20: ='第四面 (18)'!N64&"" -> 0 | MM20: ='第四面 (18)'!T64&"" -> 0 | MN20: ='第四面 (18)'!H65&"" | MO20: ='第四面 (18)'!H66&"" | MP20: ='第四面 (18)'!H67&"" | MQ20: ='第四面 (18)'!H68&"" | MR20: ='第四面 (18)'!H69&"" | MS20: ='第四面 (18)'!H70&"" | MT20: ='第四面 (18)'!B73&"" | MU20: ='第五面 (9)'!F27&"" | MV20: ='第五面 (9)'!F28&"" | MW20: ='第五面 (9)'!F29&"" | MX20: ='第五面 (9)'!H30&"" | MY20: ='第五面 (9)'!H31&"" | MZ20: ='第五面 (9)'!H33&"" | NA20: =IF('第五面 (9)'!P34="☑","有り",IF('第五面 (9)'!S34="☑","無し",""))&"" | NB20: ='第五面 (9)'!E38&"" | NC20: ='第五面 (9)'!L38&"" | ND20: ='第五面 (9)'!S38&"" | NE20: ='第五面 (9)'!E39&"" | NF20: ='第五面 (9)'!L39&"" | NG20: ='第五面 (9)'!S39&"" | NH20: ='第五面 (9)'!E40&"" | NI20: ='第五面 (9)'!L40&"" | NJ20: ='第五面 (9)'!S40&"" | NK20: ='第五面 (9)'!E41&"" | NL20: ='第五面 (9)'!L41&"" | NM20: ='第五面 (9)'!S41&"" | NN20: ='第五面 (9)'!E42&"" | NO20: ='第五面 (9)'!L42&"" | NP20: ='第五面 (9)'!S42&"" | NQ20: ='第五面 (9)'!E43&"" | NR20: ='第五面 (9)'!L43&"" | NS20: ='第五面 (9)'!S43&"" | NT20: ='第五面 (9)'!H44&"" | NU20: ='第五面 (9)'!B47&"" | NV20: ='第六面 (9)'!F32&"" | NW20: ='第六面 (9)'!F33&"" | NX20: ='第六面 (9)'!G35&"" | NY20: ='第六面 (9)'!G36&"" | NZ20: ='第六面 (9)'!H37&"" | OA20: ='第六面 (9)'!P37&"" | OB20: ='第六面 (9)'!D38&"" | OC20: ='第六面 (9)'!L38&"" | OD20: =IF('第六面 (9)'!B40="☑","特定構造計算基準",IF('第六面 (9)'!B41="☑","特定増改築構造計算基準",""))&"" | OE20: =IF('第六面 (9)'!B43="☑","建築基準法施行令第81条第1項各号に掲げる基準に従つた構造計算",IF('第六面 (9)'!B44="☑","建築基準法施行令第81条第2項第1号イに掲げる構造計算",IF('第六面 (9)'!B45="☑","建築基準法施行令第81条第2項第1号ロに掲げる構造計算",IF('第六面 (9)'!B46="☑","建築基準法施行令第81条第2項第2号イに掲げる構造計算",IF('第六面 (9)'!B47="☑","建築基準法施行令第81条第3項に掲げる構造計算","")))))&"" | OF20: ='第六面 (9)'!D49&"" | OG20: =IF('第六面 (9)'!B51="☑","建築基準法第20条第1項第2号イ又は第3号イの認定を受けたプログラム",IF('第六面 (9)'!B53="☑","その他のプログラム",""))&"" | OH20: ='第六面 (9)'!F52&"" | OI20: ='第六面 (9)'!C55&"" | OJ20: ='第六面 (9)'!B58&""
JJ21: ='第四面 (19)'!F3&"" | JK21: ='第四面 (19)'!F4&"" | JL21: ='第四面 (19)'!K4&"" | JM21: ='第四面 (19)'!F5&"" | JN21: ='第四面 (19)'!K5&"" | JO21: ='第四面 (19)'!F6&"" | JP21: ='第四面 (19)'!K6&"" | JQ21: ='第四面 (19)'!F7&"" | JR21: ='第四面 (19)'!K7&"" | JS21: =IF('第四面 (19)'!A9="☑","ON","")&"" | JT21: =IF('第四面 (19)'!D9="☑","ON","")&"" | JU21: =IF('第四面 (19)'!G9="☑","ON","")&"" | JV21: =IF('第四面 (19)'!J9="☑","ON","")&"" | JW21: =IF('第四面 (19)'!M9="☑","ON","")&"" | JX21: =IF('第四面 (19)'!Q9="☑","ON","")&"" | JY21: =IF('第四面 (19)'!U9="☑","ON","")&"" | JZ21: ='第四面 (19)'!D10&"" | KA21: ='第四面 (19)'!L10&"" | KB21: =IF('第四面 (19)'!B12="☑","耐火構造",IF('第四面 (19)'!B13="☑","建築基準法施行令第108条の3第1項第1号イ及びロに掲げる基準に適合する構造",IF('第四面 (19)'!B14="☑","準耐火構造",IF('第四面 (19)'!B15="☑","準耐火構造と同等の準耐火性能を有する構造（ロ-1）",IF('第四面 (19)'!B16="☑","準耐火構造と同等の準耐火性能を有する構造（ロ-2）",IF('第四面 (19)'!B17="☑","その他",""))))))&"" | KC21: =IF('第四面 (19)'!B19="☑","建築基準法施行令第109条の5第1号に掲げる基準に適合する構造",IF('第四面 (19)'!B20="☑","建築基準法第21条第1項ただし書きに該当する建築物",IF('第四面 (19)'!B21="☑","建築基準法施行令第110条第1号に掲げる基準に適合する構造",IF('第四面 (19)'!B22="☑","その他",IF('第四面 (19)'!B23="☑","建築基準法第21条又は第27条の規定の適用を受けない","")))))&"" | KD21: =IF('第四面 (19)'!B25="☑","耐火建築物",IF('第四面 (19)'!B26="☑","延焼防止建築物",IF('第四面 (19)'!B27="☑","準耐火建築物",IF('第四面 (19)'!B28="☑","準延焼防止建築物",IF('第四面 (19)'!B29="☑","その他",IF('第四面 (19)'!B30="☑","建築基準法第61条の規定の適用を受けない",""))))))&"" | KE21: ='第四面 (19)'!H32&"" | KF21: ='第四面 (19)'!H33&"" | KG21: ='第四面 (19)'!H34&"" | KH21: ='第四面 (19)'!H35&"" | KI21: ='第四面 (19)'!H37&"" | KJ21: ='第四面 (19)'!H38&"" | KK21: ='第四面 (19)'!G39&"" | KL21: =IF('第四面 (19)'!C42="☑","有り",IF('第四面 (19)'!F42="☑","無し",""))&"" | KM21: =IF('第四面 (19)'!S43="☑","有り",IF('第四面 (19)'!V43="☑","無し",""))&"" | KN21: ='第四面 (19)'!M45&"" | KO21: ='第四面 (19)'!M46&"" | KP21: =IF('第四面 (19)'!B48="☑","ON","")&"" | KQ21: =IF('第四面 (19)'!B49="☑","ON","")&"" | KR21: ='第四面 (19)'!C51&"" | KS21: ='第四面 (19)'!E53&"" | KT21: ='第四面 (19)'!H53&"" | KU21: ='第四面 (19)'!N53&"" | KV21: ='第四面 (19)'!T53&"" -> 0 | KW21: ='第四面 (19)'!E54&"" | KX21: ='第四面 (19)'!H54&"" | KY21: ='第四面 (19)'!N54&"" | KZ21: ='第四面 (19)'!T54&"" -> 0 | LA21: ='第四面 (19)'!E55&"" | LB21: ='第四面 (19)'!H55&"" | LC21: ='第四面 (19)'!N55&"" | LD21: ='第四面 (19)'!T55&"" -> 0 | LE21: ='第四面 (19)'!E56&"" | LF21: ='第四面 (19)'!H56&"" | LG21: ='第四面 (19)'!N56&"" | LH21: ='第四面 (19)'!T56&"" -> 0 | LI21: ='第四面 (19)'!E57&"" | LJ21: ='第四面 (19)'!H57&"" | LK21: ='第四面 (19)'!N57&"" | LL21: ='第四面 (19)'!T57&"" -> 0 | LM21: ='第四面 (19)'!E58&"" | LN21: ='第四面 (19)'!H58&"" | LO21: ='第四面 (19)'!N58&"" | LP21: ='第四面 (19)'!T58&"" -> 0 | LQ21: ='第四面 (19)'!E59&"" | LR21: ='第四面 (19)'!H59&"" | LS21: ='第四面 (19)'!N59&"" | LT21: ='第四面 (19)'!T59&"" -> 0 | LU21: ='第四面 (19)'!E60&"" | LV21: ='第四面 (19)'!H60&"" | LW21: ='第四面 (19)'!N60&"" | LX21: ='第四面 (19)'!T60&"" -> 0 | LY21: ='第四面 (19)'!E61&"" | LZ21: ='第四面 (19)'!H61&"" | MA21: ='第四面 (19)'!N61&"" | MB21: ='第四面 (19)'!T61&"" -> 0 | MC21: ='第四面 (19)'!E62&"" | MD21: ='第四面 (19)'!H62&"" | ME21: ='第四面 (19)'!N62&"" | MF21: ='第四面 (19)'!T62&"" -> 0 | MG21: ='第四面 (19)'!E63&"" | MH21: ='第四面 (19)'!H63&"" | MI21: ='第四面 (19)'!N63&"" | MJ21: ='第四面 (19)'!T63&"" -> 0 | MK21: ='第四面 (19)'!H64&"" -> 0 | ML21: ='第四面 (19)'!N64&"" -> 0 | MM21: ='第四面 (19)'!T64&"" -> 0 | MN21: ='第四面 (19)'!H65&"" | MO21: ='第四面 (19)'!H66&"" | MP21: ='第四面 (19)'!H67&"" | MQ21: ='第四面 (19)'!H68&"" | MR21: ='第四面 (19)'!H69&"" | MS21: ='第四面 (19)'!H70&"" | MT21: ='第四面 (19)'!B73&"" | MU21: ='第五面 (10)'!F3&"" | MV21: ='第五面 (10)'!F4&"" | MW21: ='第五面 (10)'!F5&"" | MX21: ='第五面 (10)'!H6&"" | MY21: ='第五面 (10)'!H7&"" | MZ21: ='第五面 (10)'!H9&"" | NA21: =IF('第五面 (10)'!P10="☑","有り",IF('第五面 (10)'!S10="☑","無し",""))&"" | NB21: ='第五面 (10)'!E14&"" | NC21: ='第五面 (10)'!L14&"" | ND21: ='第五面 (10)'!S14&"" | NE21: ='第五面 (10)'!E15&"" | NF21: ='第五面 (10)'!L15&"" | NG21: ='第五面 (10)'!S15&"" | NH21: ='第五面 (10)'!E16&"" | NI21: ='第五面 (10)'!L16&"" | NJ21: ='第五面 (10)'!S16&"" | NK21: ='第五面 (10)'!E17&"" | NL21: ='第五面 (10)'!L17&"" | NM21: ='第五面 (10)'!S17&"" | NN21: ='第五面 (10)'!E18&"" | NO21: ='第五面 (10)'!L18&"" | NP21: ='第五面 (10)'!S18&"" | NQ21: ='第五面 (10)'!E19&"" | NR21: ='第五面 (10)'!L19&"" | NS21: ='第五面 (10)'!S19&"" | NT21: ='第五面 (10)'!H20&"" | NU21: ='第五面 (10)'!B23&"" | NV21: ='第六面 (10)'!F3&"" | NW21: ='第六面 (10)'!F4&"" | NX21: ='第六面 (10)'!G6&"" | NY21: ='第六面 (10)'!G7&"" | NZ21: ='第六面 (10)'!H8&"" | OA21: ='第六面 (10)'!P8&"" | OB21: ='第六面 (10)'!D9&"" | OC21: ='第六面 (10)'!L9&"" | OD21: =IF('第六面 (10)'!B11="☑","特定構造計算基準",IF('第六面 (10)'!B12="☑","特定増改築構造計算基準",""))&"" | OE21: =IF('第六面 (10)'!B14="☑","建築基準法施行令第81条第1項各号に掲げる基準に従つた構造計算",IF('第六面 (10)'!B15="☑","建築基準法施行令第81条第2項第1号イに掲げる構造計算",IF('第六面 (10)'!B16="☑","建築基準法施行令第81条第2項第1号ロに掲げる構造計算",IF('第六面 (10)'!B17="☑","建築基準法施行令第81条第2項第2号イに掲げる構造計算",IF('第六面 (10)'!B18="☑","建築基準法施行令第81条第3項に掲げる構造計算","")))))&"" | OF21: ='第六面 (10)'!D20&"" | OG21: =IF('第六面 (10)'!B22="☑","建築基準法第20条第1項第2号イ又は第3号イの認定を受けたプログラム",IF('第六面 (10)'!B24="☑","その他のプログラム",""))&"" | OH21: ='第六面 (10)'!F23&"" | OI21: ='第六面 (10)'!C26&"" | OJ21: ='第六面 (10)'!B29&""
JJ22: ='第四面 (20)'!F3&"" | JK22: ='第四面 (20)'!F4&"" | JL22: ='第四面 (20)'!K4&"" | JM22: ='第四面 (20)'!F5&"" | JN22: ='第四面 (20)'!K5&"" | JO22: ='第四面 (20)'!F6&"" | JP22: ='第四面 (20)'!K6&"" | JQ22: ='第四面 (20)'!F7&"" | JR22: ='第四面 (20)'!K7&"" | JS22: =IF('第四面 (20)'!A9="☑","ON","")&"" | JT22: =IF('第四面 (20)'!D9="☑","ON","")&"" | JU22: =IF('第四面 (20)'!G9="☑","ON","")&"" | JV22: =IF('第四面 (20)'!J9="☑","ON","")&"" | JW22: =IF('第四面 (20)'!M9="☑","ON","")&"" | JX22: =IF('第四面 (20)'!Q9="☑","ON","")&"" | JY22: =IF('第四面 (20)'!U9="☑","ON","")&"" | JZ22: ='第四面 (20)'!D10&"" | KA22: ='第四面 (20)'!L10&"" | KB22: =IF('第四面 (20)'!B12="☑","耐火構造",IF('第四面 (20)'!B13="☑","建築基準法施行令第108条の3第1項第1号イ及びロに掲げる基準に適合する構造",IF('第四面 (20)'!B14="☑","準耐火構造",IF('第四面 (20)'!B15="☑","準耐火構造と同等の準耐火性能を有する構造（ロ-1）",IF('第四面 (20)'!B16="☑","準耐火構造と同等の準耐火性能を有する構造（ロ-2）",IF('第四面 (20)'!B17="☑","その他",""))))))&"" | KC22: =IF('第四面 (20)'!B19="☑","建築基準法施行令第109条の5第1号に掲げる基準に適合する構造",IF('第四面 (20)'!B20="☑","建築基準法第21条第1項ただし書きに該当する建築物",IF('第四面 (20)'!B21="☑","建築基準法施行令第110条第1号に掲げる基準に適合する構造",IF('第四面 (20)'!B22="☑","その他",IF('第四面 (20)'!B23="☑","建築基準法第21条又は第27条の規定の適用を受けない","")))))&"" | KD22: =IF('第四面 (20)'!B25="☑","耐火建築物",IF('第四面 (20)'!B26="☑","延焼防止建築物",IF('第四面 (20)'!B27="☑","準耐火建築物",IF('第四面 (20)'!B28="☑","準延焼防止建築物",IF('第四面 (20)'!B29="☑","その他",IF('第四面 (20)'!B30="☑","建築基準法第61条の規定の適用を受けない",""))))))&"" | KE22: ='第四面 (20)'!H32&"" | KF22: ='第四面 (20)'!H33&"" | KG22: ='第四面 (20)'!H34&"" | KH22: ='第四面 (20)'!H35&"" | KI22: ='第四面 (20)'!H37&"" | KJ22: ='第四面 (20)'!H38&"" | KK22: ='第四面 (20)'!G39&"" | KL22: =IF('第四面 (20)'!C42="☑","有り",IF('第四面 (20)'!F42="☑","無し",""))&"" | KM22: =IF('第四面 (20)'!S43="☑","有り",IF('第四面 (20)'!V43="☑","無し",""))&"" | KN22: ='第四面 (20)'!M45&"" | KO22: ='第四面 (20)'!M46&"" | KP22: =IF('第四面 (20)'!B48="☑","ON","")&"" | KQ22: =IF('第四面 (20)'!B49="☑","ON","")&"" | KR22: ='第四面 (20)'!C51&"" | KS22: ='第四面 (20)'!E53&"" | KT22: ='第四面 (20)'!H53&"" | KU22: ='第四面 (20)'!N53&"" | KV22: ='第四面 (20)'!T53&"" -> 0 | KW22: ='第四面 (20)'!E54&"" | KX22: ='第四面 (20)'!H54&"" | KY22: ='第四面 (20)'!N54&"" | KZ22: ='第四面 (20)'!T54&"" -> 0 | LA22: ='第四面 (20)'!E55&"" | LB22: ='第四面 (20)'!H55&"" | LC22: ='第四面 (20)'!N55&"" | LD22: ='第四面 (20)'!T55&"" -> 0 | LE22: ='第四面 (20)'!E56&"" | LF22: ='第四面 (20)'!H56&"" | LG22: ='第四面 (20)'!N56&"" | LH22: ='第四面 (20)'!T56&"" -> 0 | LI22: ='第四面 (20)'!E57&"" | LJ22: ='第四面 (20)'!H57&"" | LK22: ='第四面 (20)'!N57&"" | LL22: ='第四面 (20)'!T57&"" -> 0 | LM22: ='第四面 (20)'!E58&"" | LN22: ='第四面 (20)'!H58&"" | LO22: ='第四面 (20)'!N58&"" | LP22: ='第四面 (20)'!T58&"" -> 0 | LQ22: ='第四面 (20)'!E59&"" | LR22: ='第四面 (20)'!H59&"" | LS22: ='第四面 (20)'!N59&"" | LT22: ='第四面 (20)'!T59&"" -> 0 | LU22: ='第四面 (20)'!E60&"" | LV22: ='第四面 (20)'!H60&"" | LW22: ='第四面 (20)'!N60&"" | LX22: ='第四面 (20)'!T60&"" -> 0 | LY22: ='第四面 (20)'!E61&"" | LZ22: ='第四面 (20)'!H61&"" | MA22: ='第四面 (20)'!N61&"" | MB22: ='第四面 (20)'!T61&"" -> 0 | MC22: ='第四面 (20)'!E62&"" | MD22: ='第四面 (20)'!H62&"" | ME22: ='第四面 (20)'!N62&"" | MF22: ='第四面 (20)'!T62&"" -> 0 | MG22: ='第四面 (20)'!E63&"" | MH22: ='第四面 (20)'!H63&"" | MI22: ='第四面 (20)'!N63&"" | MJ22: ='第四面 (20)'!T63&"" -> 0 | MK22: ='第四面 (20)'!H64&"" -> 0 | ML22: ='第四面 (20)'!N64&"" -> 0 | MM22: ='第四面 (20)'!T64&"" -> 0 | MN22: ='第四面 (20)'!H65&"" | MO22: ='第四面 (20)'!H66&"" | MP22: ='第四面 (20)'!H67&"" | MQ22: ='第四面 (20)'!H68&"" | MR22: ='第四面 (20)'!H69&"" | MS22: ='第四面 (20)'!H70&"" | MT22: ='第四面 (20)'!B73&"" | MU22: ='第五面 (10)'!F27&"" | MV22: ='第五面 (10)'!F28&"" | MW22: ='第五面 (10)'!F29&"" | MX22: ='第五面 (10)'!H30&"" | MY22: ='第五面 (10)'!H31&"" | MZ22: ='第五面 (10)'!H33&"" | NA22: =IF('第五面 (10)'!P34="☑","有り",IF('第五面 (10)'!S34="☑","無し",""))&"" | NB22: ='第五面 (10)'!E38&"" | NC22: ='第五面 (10)'!L38&"" | ND22: ='第五面 (10)'!S38&"" | NE22: ='第五面 (10)'!E39&"" | NF22: ='第五面 (10)'!L39&"" | NG22: ='第五面 (10)'!S39&"" | NH22: ='第五面 (10)'!E40&"" | NI22: ='第五面 (10)'!L40&"" | NJ22: ='第五面 (10)'!S40&"" | NK22: ='第五面 (10)'!E41&"" | NL22: ='第五面 (10)'!L41&"" | NM22: ='第五面 (10)'!S41&"" | NN22: ='第五面 (10)'!E42&"" | NO22: ='第五面 (10)'!L42&"" | NP22: ='第五面 (10)'!S42&"" | NQ22: ='第五面 (10)'!E43&"" | NR22: ='第五面 (10)'!L43&"" | NS22: ='第五面 (10)'!S43&"" | NT22: ='第五面 (10)'!H44&"" | NU22: ='第五面 (10)'!B47&"" | NV22: ='第六面 (10)'!F32&"" | NW22: ='第六面 (10)'!F33&"" | NX22: ='第六面 (10)'!G35&"" | NY22: ='第六面 (10)'!G36&"" | NZ22: ='第六面 (10)'!H37&"" | OA22: ='第六面 (10)'!P37&"" | OB22: ='第六面 (10)'!D38&"" | OC22: ='第六面 (10)'!L38&"" | OD22: =IF('第六面 (10)'!B40="☑","特定構造計算基準",IF('第六面 (10)'!B41="☑","特定増改築構造計算基準",""))&"" | OE22: =IF('第六面 (10)'!B43="☑","建築基準法施行令第81条第1項各号に掲げる基準に従つた構造計算",IF('第六面 (10)'!B44="☑","建築基準法施行令第81条第2項第1号イに掲げる構造計算",IF('第六面 (10)'!B45="☑","建築基準法施行令第81条第2項第1号ロに掲げる構造計算",IF('第六面 (10)'!B46="☑","建築基準法施行令第81条第2項第2号イに掲げる構造計算",IF('第六面 (10)'!B47="☑","建築基準法施行令第81条第3項に掲げる構造計算","")))))&"" | OF22: ='第六面 (10)'!D49&"" | OG22: =IF('第六面 (10)'!B51="☑","建築基準法第20条第1項第2号イ又は第3号イの認定を受けたプログラム",IF('第六面 (10)'!B53="☑","その他のプログラム",""))&"" | OH22: ='第六面 (10)'!F52&"" | OI22: ='第六面 (10)'!C55&"" | OJ22: ='第六面 (10)'!B58&""

Sheet 第一面
A1: 第四十二号様式（第八条の二関係）（Ａ４）
I3: 建築基準法第18条第２項の規定による
I4: 計画通知書（建築物）
I6: （第一面）
A10: 建築基準法第18条第２項の規定により計画を通知します。
A13: 1_1 | H13: 様
J15: 1_2 | M15: 第 | N15: 1_3 | Q15: 号
K16: 令和 | L16: 6 | M16: 年 | N16: 11 | O16: 月 | P16: 1 | Q16: 日
I18: 通知者官職 | J18: 1_4
I21: 設計者氏名 | J21: 1_5
A24: ※手数料
A27: ※受付欄 | E27: ※決裁欄 | M27: ※確認番号欄
B29: 年 | C29: 月 | D29: 日 | O29: 年 | P29: 月 | Q29: 日
A31: 第 | D31: 号 | M31: 第 | Q31: 号
A33: 係員氏名 | M33: 係員氏名

Sheet 第二面
N1: （第二面）
A2: 建築主等の概要
A3: 【1.建築主】
A4: 【ｲ.氏名のﾌﾘｶﾞﾅ】 | G4: 2_1
A5: 【ﾛ.氏名】 | G5: 2_2
A6: 【ﾊ.郵便番号】 | F6: 〒 | G6: 2_3
A7: 【ﾆ.住所】 | G7: 2_4
A8: 【ﾎ.電話番号】 | G8: 2_5
A9: 【2.代理者】
A10: 【ｲ.資格】（ | E10: 2_6 | J10: ）建築士（ | M10: 2_7 | Q10: ）登録第 | T10: 2_8 | Y10: 号
A11: 【ﾛ.氏名】 | E11: 2_9
A12: 【ﾊ.建築士事務所名】（ | H12: 2_10 | J12: )建築士事務所( | N12: 2_11 | Q12: ）知事登録第 | U12: 2_12 | Y12: 号
E13: 2_13
A14: 【ﾆ.郵便番号】 | E14: 〒 | F14: 2_14
A15: 【ﾎ.所在地】 | F15: 2_15
A17: 【ﾍ.電話番号】 | F17: 2_16
A18: 【3.設計者】
A19: （代表となる設計者）
A20: 【ｲ.資格】（ | E20: 2_17 | J20: ）建築士（ | M20: 2_18 | Q20: ）登録第 | T20: 2_19 | Y20: 号
A21: 【ﾛ.氏名】 | E21: 2_20
A22: 【ﾊ.建築士事務所名】（ | H22: 2_21 | J22: )建築士事務所( | N22: 2_22 | Q22: ）知事登録第 | U22: 2_23 | Y22: 号
E23: 2_24
A24: 【ﾆ.郵便番号】 | E24: 〒 | F24: 2_25
A25: 【ﾎ.所在地】 | F25: 2_26
A27: 【ﾍ.電話番号】 | F27: 2_27
A28: 【ﾄ.作成又は確認した設計図書】 | J28: 2_28
A29: （その他の設計者）
A30: 【ｲ.資格】（ | E30: 2_29 | J30: ）建築士（ | M30: 2_30 | Q30: ）登録第 | T30: 2_31 | Y30: 号
A31: 【ﾛ.氏名】 | E31: 2_32
A32: 【ﾊ.建築士事務所名】（ | H32: 2_33 | J32: )建築士事務所( | N32: 2_34 | Q32: ）知事登録第 | U32: 2_35 | Y32: 号
E33: 2_36
A34: 【ﾆ.郵便番号】 | E34: 〒 | F34: 2_37
A35: 【ﾎ.所在地】 | F35: 2_38
A37: 【ﾍ.電話番号】 | F37: 2_39
A38: 【ﾄ.作成又は確認した設計図書】 | J38: 2_40
A40: 【ｲ.資格】（ | E40: 2_41 | J40: ）建築士（ | M40: 2_42 | Q40: ）登録第 | T40: 2_43 | Y40: 号
A41: 【ﾛ.氏名】 | E41: 2_44
A42: 【ﾊ.建築士事務所名】（ | H42: 2_45 | J42: )建築士事務所( | N42: 2_46 | Q42: ）知事登録第 | U42: 2_47 | Y42: 号
E43: 2_48
A44: 【ﾆ.郵便番号】 | E44: 〒 | F44: 2_49
A45: 【ﾎ.所在地】 | F45: 2_50
A47: 【ﾍ.電話番号】 | F47: 2_51
A48: 【ﾄ.作成又は確認した設計図書】 | J48: 2_52
A50: 【ｲ.資格】（ | E50: 2_53 | J50: ）建築士（ | M50: 2_54 | Q50: ）登録第 | T50: 2_55 | Y50: 号
A51: 【ﾛ.氏名】 | E51: 2_56
A52: 【ﾊ.建築士事務所名】（ | H52: 2_57 | J52: )建築士事務所( | N52: 2_58 | Q52: ）知事登録第 | U52: 2_59 | Y52: 号
E53: 2_60
A54: 【ﾆ.郵便番号】 | E54: 〒 | F54: 2_61
A55: 【ﾎ.所在地】 | F55: 2_62
A57: 【ﾍ.電話番号】 | F57: 2_63
A58: 【ﾄ.作成又は確認した設計図書】 | J58: 2_64
A59: （構造設計一級建築士又は設備設計一級建築士である旨の表示をした者）
A60: 上記の設計者のうち、
A61: ☑ | B61: 建築士法第20条の２第１項の表示をした者
A62: 【ｲ.氏名】 | K62: 2_65
A63: 【ﾛ.資格】構造設計一級建築士交付第 | K63: 2_66 | Q63: 号
A64: ☑ | B64: 建築士法第20条の２第３項の表示をした者
A65: 【ｲ.氏名】 | K65: 2_67
A66: 【ﾛ.資格】構造設計一級建築士交付第 | K66: 2_68 | Q66: 号
A67: ☑ | B67: 建築士法第20条の３第１項の表示をした者
A68: 【ｲ.氏名】 | K68: 2_69
A69: 【ﾛ.資格】設備設計一級建築士交付第 | K69: 2_70 | Q69: 号
A70: 【ｲ.氏名】 | K70: 2_71
A71: 【ﾛ.資格】設備設計一級建築士交付第 | K71: 2_72 | Q71: 号
A72: 【ｲ.氏名】 | K72: 2_73
A73: 【ﾛ.資格】設備設計一級建築士交付第 | K73: 2_74 | Q73: 号
A74: ☑ | B74: 建築士法第20条の３第３項の表示をした者
A75: 【ｲ.氏名】 | K75: 2_75
A76: 【ﾛ.資格】設備設計一級建築士交付第 | K76: 2_76 | Q76: 号
A77: 【ｲ.氏名】 | K77: 2_77
A78: 【ﾛ.資格】設備設計一級建築士交付第 | K78: 2_78 | Q78: 号
A79: 【ｲ.氏名】 | K79: 2_79
A80: 【ﾛ.資格】設備設計一級建築士交付第 | K80: 2_80 | Q80: 号
A83: 【4.建築設備の設計に関し意見を聴いた者】
A84: （代表となる建築設備の設計に関し意見を聴いた者）
A85: 【ｲ.氏名】 | E85: 2_81
A86: 【ﾛ.勤務先】 | E86: 2_82
A87: 【ﾊ.郵便番号】 | E87: 〒 | F87: 2_83
A88: 【ﾆ.所在地】 | E88: 2_84
A89: 【ﾎ.電話番号】 | E89: 2_85
A90: 【ﾍ.登録番号】 | E90: 2_86
A91: 【ﾄ.意見を聴いた設計図書】 | H91: 2_87
A92: （その他の建築設備の設計に関し意見を聴いた者）
A93: 【ｲ.氏名】 | E93: 2_88
A94: 【ﾛ.勤務先】 | E94: 2_89
A95: 【ﾊ.郵便番号】 | E95: 〒 | F95: 2_90
A96: 【ﾆ.所在地】 | E96: 2_91
A97: 【ﾎ.電話番号】 | E97: 2_92
A98: 【ﾍ.登録番号】 | E98: 2_93
A99: 【ﾄ.意見を聴いた設計図書】 | H99: 2_94
A101: 【ｲ.氏名】 | E101: 2_95
A102: 【ﾛ.勤務先】 | E102: 2_96
A103: 【ﾊ.郵便番号】 | E103: 〒 | F103: 2_97
A104: 【ﾆ.所在地】 | E104: 2_98
A105: 【ﾎ.電話番号】 | E105: 2_99
A106: 【ﾍ.登録番号】 | E106: 2_100
A107: 【ﾄ.意見を聴いた設計図書】 | H107: 2_101
A109: 【ｲ.氏名】 | E109: 2_102
A110: 【ﾛ.勤務先】 | E110: 2_103
A111: 【ﾊ.郵便番号】 | E111: 〒 | F111: 2_104
...

Sheet 第二面 (建築主追加)
N1: （第二面） | P1: 建築主追加
A2: 建築主等の概要
A3: 【1.建築主２】
A4: 【ｲ.氏名のﾌﾘｶﾞﾅ】 | G4: 2;1
A5: 【ﾛ.氏名】 | G5: 2;2
A6: 【ﾊ.郵便番号】 | F6: 〒 | G6: 2;3
A7: 【ﾆ.住所】 | G7: 2;4
A8: 【ﾎ.電話番号】 | G8: 2;5
A10: 【1.建築主３】
A11: 【ｲ.氏名のﾌﾘｶﾞﾅ】 | G11: 2;1
A12: 【ﾛ.氏名】 | G12: 2;2
A13: 【ﾊ.郵便番号】 | F13: 〒 | G13: 2;3
A14: 【ﾆ.住所】 | G14: 2;4
A15: 【ﾎ.電話番号】 | G15: 2;5
A17: 【1.建築主４】
A18: 【ｲ.氏名のﾌﾘｶﾞﾅ】 | G18: 2;1
A19: 【ﾛ.氏名】 | G19: 2;2
A20: 【ﾊ.郵便番号】 | F20: 〒 | G20: 2;3
A21: 【ﾆ.住所】 | G21: 2;4
A22: 【ﾎ.電話番号】 | G22: 2;5
A24: 【1.建築主５】
A25: 【ｲ.氏名のﾌﾘｶﾞﾅ】 | G25: 2;1
A26: 【ﾛ.氏名】 | G26: 2;2
A27: 【ﾊ.郵便番号】 | F27: 〒 | G27: 2;3
A28: 【ﾆ.住所】 | G28: 2;4
A29: 【ﾎ.電話番号】 | G29: 2;5
A31: 【1.建築主６】
A32: 【ｲ.氏名のﾌﾘｶﾞﾅ】 | G32: 2;1
A33: 【ﾛ.氏名】 | G33: 2;2
A34: 【ﾊ.郵便番号】 | F34: 〒 | G34: 2;3
A35: 【ﾆ.住所】 | G35: 2;4
A36: 【ﾎ.電話番号】 | G36: 2;5
A38: 【1.建築主７】
A39: 【ｲ.氏名のﾌﾘｶﾞﾅ】 | G39: 2;1
A40: 【ﾛ.氏名】 | G40: 2;2
A41: 【ﾊ.郵便番号】 | F41: 〒 | G41: 2;3
A42: 【ﾆ.住所】 | G42: 2;4
A43: 【ﾎ.電話番号】 | G43: 2;5
A45: 【1.建築主８】
A46: 【ｲ.氏名のﾌﾘｶﾞﾅ】 | G46: 2;1
A47: 【ﾛ.氏名】 | G47: 2;2
A48: 【ﾊ.郵便番号】 | F48: 〒 | G48: 2;3
A49: 【ﾆ.住所】 | G49: 2;4
A50: 【ﾎ.電話番号】 | G50: 2;5
A51: 【1.建築主９】
A52: 【ｲ.氏名のﾌﾘｶﾞﾅ】 | G52: 2;1
A53: 【ﾛ.氏名】 | G53: 2;2
A54: 【ﾊ.郵便番号】 | F54: 〒 | G54: 2;3
A55: 【ﾆ.住所】 | G55: 2;4
A56: 【ﾎ.電話番号】 | G56: 2;5
A60: 【1.建築主１０】
A61: 【ｲ.氏名のﾌﾘｶﾞﾅ】 | G61: 2;1
A62: 【ﾛ.氏名】 | G62: 2;2
A63: 【ﾊ.郵便番号】 | F63: 〒 | G63: 2;3
A64: 【ﾆ.住所】 | G64: 2;4
A65: 【ﾎ.電話番号】 | G65: 2;5

Sheet 第二面 (その他設計者追加)
N1: （第二面） | P1: その他設計者追加
A2: 建築主等の概要
A3: 【3.設計者】
A4: （その他の設計者）
A5: 【ｲ.資格】（ | E5: 2;29 | J5: ）建築士（ | M5: 2;30 | Q5: ）登録第 | T5: 2;31 | Y5: 号
A6: 【ﾛ.氏名】 | E6: 2;32
A7: 【ﾊ.建築士事務所名】（ | H7: 2;33 | J7: )建築士事務所( | N7: 2;34 | Q7: ）知事登録第 | U7: 2;35 | Y7: 号
E8: 2;36
A9: 【ﾆ.郵便番号】 | E9: 〒 | F9: 2;37
A10: 【ﾎ.所在地】 | F10: 2;38
A12: 【ﾍ.電話番号】 | F12: 2;39
A13: 【ﾄ.作成又は確認した設計図書】 | J13: 2;40
A15: 【ｲ.資格】（ | E15: 2;41 | J15: ）建築士（ | M15: 2;42 | Q15: ）登録第 | T15: 2;43 | Y15: 号
A16: 【ﾛ.氏名】 | E16: 2;44
A17: 【ﾊ.建築士事務所名】（ | H17: 2;45 | J17: )建築士事務所( | N17: 2;46 | Q17: ）知事登録第 | U17: 2;47 | Y17: 号
E18: 2;48
A19: 【ﾆ.郵便番号】 | E19: 〒 | F19: 2;49
A20: 【ﾎ.所在地】 | F20: 2;50
A22: 【ﾍ.電話番号】 | F22: 2;51
A23: 【ﾄ.作成又は確認した設計図書】 | J23: 2;52
A25: 【ｲ.資格】（ | E25: 2;53 | J25: ）建築士（ | M25: 2;54 | Q25: ）登録第 | T25: 2;55 | Y25: 号
A26: 【ﾛ.氏名】 | E26: 2;56
A27: 【ﾊ.建築士事務所名】（ | H27: 2;57 | J27: )建築士事務所( | N27: 2;58 | Q27: ）知事登録第 | U27: 2;59 | Y27: 号
E28: 2;60
A29: 【ﾆ.郵便番号】 | E29: 〒 | F29: 2;61
A30: 【ﾎ.所在地】 | F30: 2;62
A32: 【ﾍ.電話番号】 | F32: 2;63
A33: 【ﾄ.作成又は確認した設計図書】 | J33: 2;64
A35: 【ｲ.資格】（ | E35: 2;29 | J35: ）建築士（ | M35: 2;30 | Q35: ）登録第 | T35: 2;31 | Y35: 号
A36: 【ﾛ.氏名】 | E36: 2;32
A37: 【ﾊ.建築士事務所名】（ | H37: 2;33 | J37: )建築士事務所( | N37: 2;34 | Q37: ）知事登録第 | U37: 2;35 | Y37: 号
E38: 2;36
A39: 【ﾆ.郵便番号】 | E39: 〒 | F39: 2;37
A40: 【ﾎ.所在地】 | F40: 2;38
A42: 【ﾍ.電話番号】 | F42: 2;39
A43: 【ﾄ.作成又は確認した設計図書】 | J43: 2;40
A45: 【ｲ.資格】（ | E45: 2;41 | J45: ）建築士（ | M45: 2;42 | Q45: ）登録第 | T45: 2;43 | Y45: 号
A46: 【ﾛ.氏名】 | E46: 2;44
A47: 【ﾊ.建築士事務所名】（ | H47: 2;45 | J47: )建築士事務所( | N47: 2;46 | Q47: ）知事登録第 | U47: 2;47 | Y47: 号
E48: 2;48
A49: 【ﾆ.郵便番号】 | E49: 〒 | F49: 2;49
A50: 【ﾎ.所在地】 | F50: 2;50
A52: 【ﾍ.電話番号】 | F52: 2;51
A53: 【ﾄ.作成又は確認した設計図書】 | J53: 2;52
A60: 【ｲ.資格】（ | E60: 2;53 | J60: ）建築士（ | M60: 2;54 | Q60: ）登録第 | T60: 2;55 | Y60: 号
A61: 【ﾛ.氏名】 | E61: 2;56
A62: 【ﾊ.建築士事務所名】（ | H62: 2;57 | J62: )建築士事務所( | N62: 2;58 | Q62: ）知事登録第 | U62: 2;59 | Y62: 号
E63: 2;60
A64: 【ﾆ.郵便番号】 | E64: 〒 | F64: 2;61
A65: 【ﾎ.所在地】 | F65: 2;62
A67: 【ﾍ.電話番号】 | F67: 2;63
A68: 【ﾄ.作成又は確認した設計図書】 | J68: 2;64
A70: 【ｲ.資格】（ | E70: 2;53 | J70: ）建築士（ | M70: 2;54 | Q70: ）登録第 | T70: 2;55 | Y70: 号
A71: 【ﾛ.氏名】 | E71: 2;56
A72: 【ﾊ.建築士事務所名】（ | H72: 2;57 | J72: )建築士事務所( | N72: 2;58 | Q72: ）知事登録第 | U72: 2;59 | Y72: 号
E73: 2;60
A74: 【ﾆ.郵便番号】 | E74: 〒 | F74: 2;61
A75: 【ﾎ.所在地】 | F75: 2;62
A77: 【ﾍ.電話番号】 | F77: 2;63
A78: 【ﾄ.作成又は確認した設計図書】 | J78: 2;64

Sheet 第二面 (構造、設備一級の表示者追加)
N1: （第二面） | P1: 構造、設備一級の表示者追加
A2: 建築主等の概要
A3: 【3.設計者】
A4: （構造設計一級建築士又は設備設計一級建築士である旨の表示をした者）
A5: 上記の設計者のうち、
A6: =第二面!A61 -> ☑ | B6: 建築士法第20条の２第１項の表示をした者
A7: 【ｲ.氏名】 | K7: 2;65
A8: 【ﾛ.資格】構造設計一級建築士交付第 | K8: 2;66 | Q8: 号
A9: 【ｲ.氏名】 | K9: 2;65
A10: 【ﾛ.資格】構造設計一級建築士交付第 | K10: 2;66 | Q10: 号
A11: 【ｲ.氏名】 | K11: 2;65
A12: 【ﾛ.資格】構造設計一級建築士交付第 | K12: 2;66 | Q12: 号
A13: 【ｲ.氏名】 | K13: 2;65
A14: 【ﾛ.資格】構造設計一級建築士交付第 | K14: 2;66 | Q14: 号
A15: 【ｲ.氏名】 | K15: 2;65
A16: 【ﾛ.資格】構造設計一級建築士交付第 | K16: 2;66 | Q16: 号
A17: 【ｲ.氏名】 | K17: 2;65
A18: 【ﾛ.資格】構造設計一級建築士交付第 | K18: 2;66 | Q18: 号
A19: 【ｲ.氏名】 | K19: 2;65
A20: 【ﾛ.資格】構造設計一級建築士交付第 | K20: 2;66 | Q20: 号
A21: 【ｲ.氏名】 | K21: 2;65
A22: 【ﾛ.資格】構造設計一級建築士交付第 | K22: 2;66 | Q22: 号
A23: 【ｲ.氏名】 | K23: 2;65
A24: 【ﾛ.資格】構造設計一級建築士交付第 | K24: 2;66 | Q24: 号
A25: =第二面!A64 -> ☑ | B25: 建築士法第20条の２第３項の表示をした者
A26: 【ｲ.氏名】 | K26: 2;67
A27: 【ﾛ.資格】構造設計一級建築士交付第 | K27: 2;68 | Q27: 号
A28: 【ｲ.氏名】 | K28: 2;67
A29: 【ﾛ.資格】構造設計一級建築士交付第 | K29: 2;68 | Q29: 号
A30: 【ｲ.氏名】 | K30: 2;67
A31: 【ﾛ.資格】構造設計一級建築士交付第 | K31: 2;68 | Q31: 号
A32: 【ｲ.氏名】 | K32: 2;67
A33: 【ﾛ.資格】構造設計一級建築士交付第 | K33: 2;68 | Q33: 号
A34: 【ｲ.氏名】 | K34: 2;67
A35: 【ﾛ.資格】構造設計一級建築士交付第 | K35: 2;68 | Q35: 号
A36: 【ｲ.氏名】 | K36: 2;67
A37: 【ﾛ.資格】構造設計一級建築士交付第 | K37: 2;68 | Q37: 号
A38: 【ｲ.氏名】 | K38: 2;67
A39: 【ﾛ.資格】構造設計一級建築士交付第 | K39: 2;68 | Q39: 号
A40: 【ｲ.氏名】 | K40: 2;67
A41: 【ﾛ.資格】構造設計一級建築士交付第 | K41: 2;68 | Q41: 号
A42: 【ｲ.氏名】 | K42: 2;67
A43: 【ﾛ.資格】構造設計一級建築士交付第 | K43: 2;68 | Q43: 号
A44: =第二面!A67 -> ☑ | B44: 建築士法第20条の３第１項の表示をした者
A45: 【ｲ.氏名】 | K45: 2;69
A46: 【ﾛ.資格】設備設計一級建築士交付第 | K46: 2;70 | Q46: 号
A47: 【ｲ.氏名】 | K47: 2;69
A48: 【ﾛ.資格】設備設計一級建築士交付第 | K48: 2;70 | Q48: 号
A49: 【ｲ.氏名】 | K49: 2;71
A50: 【ﾛ.資格】設備設計一級建築士交付第 | K50: 2;72 | Q50: 号
A51: 【ｲ.氏名】 | K51: 2;73
A52: 【ﾛ.資格】設備設計一級建築士交付第 | K52: 2;74 | Q52: 号
A53: 【ｲ.氏名】 | K53: 2;69
A54: 【ﾛ.資格】設備設計一級建築士交付第 | K54: 2;70 | Q54: 号
A55: 【ｲ.氏名】 | K55: 2;71
A56: 【ﾛ.資格】設備設計一級建築士交付第 | K56: 2;72 | Q56: 号
A57: 【ｲ.氏名】 | K57: 2;73
A58: 【ﾛ.資格】設備設計一級建築士交付第 | K58: 2;74 | Q58: 号
A60: =第二面!A74 -> ☑ | B60: 建築士法第20条の３第３項の表示をした者
A61: 【ｲ.氏名】 | K61: 2;75
A62: 【ﾛ.資格】設備設計一級建築士交付第 | K62: 2;76 | Q62: 号
A63: 【ｲ.氏名】 | K63: 2;77
A64: 【ﾛ.資格】設備設計一級建築士交付第 | K64: 2;78 | Q64: 号
A65: 【ｲ.氏名】 | K65: 2;79
A66: 【ﾛ.資格】設備設計一級建築士交付第 | K66: 2;80 | Q66: 号
A67: 【ｲ.氏名】 | K67: 2;75
A68: 【ﾛ.資格】設備設計一級建築士交付第 | K68: 2;76 | Q68: 号
A69: 【ｲ.氏名】 | K69: 2;77
A70: 【ﾛ.資格】設備設計一級建築士交付第 | K70: 2;78 | Q70: 号
A71: 【ｲ.氏名】 | K71: 2;79
A72: 【ﾛ.資格】設備設計一級建築士交付第 | K72: 2;80 | Q72: 号
A73: 【ｲ.氏名】 | K73: 2;79
A74: 【ﾛ.資格】設備設計一級建築士交付第 | K74: 2;80 | Q74: 号

Sheet 第二面 (設備の意見を聴いた者追加)
N1: （第二面） | P1: 設備の意見を聴いた者追加
A2: 【4.建築設備の設計に関し意見を聴いた者】
A3: （その他の建築設備の設計に関し意見を聴いた者）
A4: 【ｲ.氏名】 | E4: 2;88
A5: 【ﾛ.勤務先】 | E5: 2;89
A6: 【ﾊ.郵便番号】 | E6: 〒 | F6: 2;90
A7: 【ﾆ.所在地】 | E7: 2;91
A8: 【ﾎ.電話番号】 | E8: 2;92
A9: 【ﾍ.登録番号】 | E9: 2;93
A10: 【ﾄ.意見を聴いた設計図書】 | H10: 22;94
A12: 【ｲ.氏名】 | E12: 2;95
A13: 【ﾛ.勤務先】 | E13: 2;96
A14: 【ﾊ.郵便番号】 | E14: 〒 | F14: 2;97
A15: 【ﾆ.所在地】 | E15: 2;98
A16: 【ﾎ.電話番号】 | E16: 2;99
A17: 【ﾍ.登録番号】 | E17: 2;100
A18: 【ﾄ.意見を聴いた設計図書】 | H18: 2;101
A20: 【ｲ.氏名】 | E20: 2;102
A21: 【ﾛ.勤務先】 | E21: 2;103
A22: 【ﾊ.郵便番号】 | E22: 〒 | F22: 2;104
A23: 【ﾆ.所在地】 | E23: 2;105
A24: 【ﾎ.電話番号】 | E24: 2;106
A25: 【ﾍ.登録番号】 | E25: 2;107
A26: 【ﾄ.意見を聴いた設計図書】 | H26: 2;108
A28: 【ｲ.氏名】 | E28: 2;88
A29: 【ﾛ.勤務先】 | E29: 2;89
A30: 【ﾊ.郵便番号】 | E30: 〒 | F30: 2;90
A31: 【ﾆ.所在地】 | E31: 2;91
A32: 【ﾎ.電話番号】 | E32: 2;92
A33: 【ﾍ.登録番号】 | E33: 2;93
A34: 【ﾄ.意見を聴いた設計図書】 | H34: 22;94
A36: 【ｲ.氏名】 | E36: 2;95
A37: 【ﾛ.勤務先】 | E37: 2;96
A38: 【ﾊ.郵便番号】 | E38: 〒 | F38: 2;97
A39: 【ﾆ.所在地】 | E39: 2;98
A40: 【ﾎ.電話番号】 | E40: 2;99
A41: 【ﾍ.登録番号】 | E41: 2;100
A42: 【ﾄ.意見を聴いた設計図書】 | H42: 2;101
A44: 【ｲ.氏名】 | E44: 2;102
A45: 【ﾛ.勤務先】 | E45: 2;103
A46: 【ﾊ.郵便番号】 | E46: 〒 | F46: 2;104
A47: 【ﾆ.所在地】 | E47: 2;105
A48: 【ﾎ.電話番号】 | E48: 2;106
A49: 【ﾍ.登録番号】 | E49: 2;107
A50: 【ﾄ.意見を聴いた設計図書】 | H50: 2;108
A52: 【ｲ.氏名】 | E52: 2;102
A53: 【ﾛ.勤務先】 | E53: 2;103
A54: 【ﾊ.郵便番号】 | E54: 〒 | F54: 2;104
A55: 【ﾆ.所在地】 | E55: 2;105
A56: 【ﾎ.電話番号】 | E56: 2;106
A57: 【ﾍ.登録番号】 | E57: 2;107
A58: 【ﾄ.意見を聴いた設計図書】 | H58: 2;108

Sheet 第二面 (工事監理者追加)
N1: （第二面） | P1: 工事監理者追加
A2: （その他の工事監理者）
A3: 【ｲ.資格】（ | E3: 2;121 | J3: ）建築士（ | M3: 2;122 | Q3: ）登録第 | T3: 2;123 | Y3: 号
A4: 【ﾛ.氏名】 | E4: 2;124
A5: 【ﾊ.建築士事務所名】（ | H5: 2;125 | J5: )建築士事務所( | N5: 2;126 | Q5: ）知事登録第 | U5: 2;127 | Y5: 号
E6: 2;128
A7: 【ﾆ.郵便番号】 | E7: 〒 | F7: 2;129
A8: 【ﾎ.所在地】 | F8: 2;130
A10: 【ﾍ.電話番号】 | F10: 2;131
A11: 【ﾄ.工事と照合する設計図書】 | J11: 2;132
A13: 【ｲ.資格】（ | E13: 2;133 | J13: ）建築士（ | M13: 2;134 | Q13: ）登録第 | T13: 2;135 | Y13: 号
A14: 【ﾛ.氏名】 | E14: 2;136
A15: 【ﾊ.建築士事務所名】（ | H15: 2;137 | J15: )建築士事務所( | N15: 2;138 | Q15: ）知事登録第 | U15: 2;139 | Y15: 号
E16: 2;140
A17: 【ﾆ.郵便番号】 | E17: 〒 | F17: 2;141
A18: 【ﾎ.所在地】 | F18: 2;142
A20: 【ﾍ.電話番号】 | F20: 2;143
A21: 【ﾄ.工事と照合する設計図書】 | J21: 2;144
A23: 【ｲ.資格】（ | E23: 2;145 | J23: ）建築士（ | M23: 2;146 | Q23: ）登録第 | T23: 2;147 | Y23: 号
A24: 【ﾛ.氏名】 | E24: 2;148
A25: 【ﾊ.建築士事務所名】（ | H25: 2;149 | J25: )建築士事務所( | N25: 2;150 | Q25: ）知事登録第 | U25: 2;151 | Y25: 号
E26: 2;152
A27: 【ﾆ.郵便番号】 | E27: 〒 | F27: 2;153
A28: 【ﾎ.所在地】 | F28: 2;154
A30: 【ﾍ.電話番号】 | F30: 2;155
A31: 【ﾄ.工事と照合する設計図書】 | J31: 2;156
A33: 【ｲ.資格】（ | E33: 2;121 | J33: ）建築士（ | M33: 2;122 | Q33: ）登録第 | T33: 2;123 | Y33: 号
A34: 【ﾛ.氏名】 | E34: 2;124
A35: 【ﾊ.建築士事務所名】（ | H35: 2;125 | J35: )建築士事務所( | N35: 2;126 | Q35: ）知事登録第 | U35: 2;127 | Y35: 号
E36: 2;128
A37: 【ﾆ.郵便番号】 | E37: 〒 | F37: 2;129
A38: 【ﾎ.所在地】 | F38: 2;130
A40: 【ﾍ.電話番号】 | F40: 2;131
A41: 【ﾄ.工事と照合する設計図書】 | J41: 2;132
A43: 【ｲ.資格】（ | E43: 2;133 | J43: ）建築士（ | M43: 2;134 | Q43: ）登録第 | T43: 2;135 | Y43: 号
A44: 【ﾛ.氏名】 | E44: 2;136
A45: 【ﾊ.建築士事務所名】（ | H45: 2;137 | J45: )建築士事務所( | N45: 2;138 | Q45: ）知事登録第 | U45: 2;139 | Y45: 号
E46: 2;140
A47: 【ﾆ.郵便番号】 | E47: 〒 | F47: 2;141
A48: 【ﾎ.所在地】 | F48: 2;142
A50: 【ﾍ.電話番号】 | F50: 2;143
A51: 【ﾄ.工事と照合する設計図書】 | J51: 2;144
A60: 【ｲ.資格】（ | E60: 2;145 | J60: ）建築士（ | M60: 2;146 | Q60: ）登録第 | T60: 2;147 | Y60: 号
A61: 【ﾛ.氏名】 | E61: 2;148
A62: 【ﾊ.建築士事務所名】（ | H62: 2;149 | J62: )建築士事務所( | N62: 2;150 | Q62: ）知事登録第 | U62: 2;151 | Y62: 号
E63: 2;152
A64: 【ﾆ.郵便番号】 | E64: 〒 | F64: 2;153
A65: 【ﾎ.所在地】 | F65: 2;154
A67: 【ﾍ.電話番号】 | F67: 2;155
A68: 【ﾄ.工事と照合する設計図書】 | J68: 2;156
A70: 【ｲ.資格】（ | E70: 2;145 | J70: ）建築士（ | M70: 2;146 | Q70: ）登録第 | T70: 2;147 | Y70: 号
A71: 【ﾛ.氏名】 | E71: 2;148
A72: 【ﾊ.建築士事務所名】（ | H72: 2;149 | J72: )建築士事務所( | N72: 2;150 | Q72: ）知事登録第 | U72: 2;151 | Y72: 号
E73: 2;152
A74: 【ﾆ.郵便番号】 | E74: 〒 | F74: 2;153
A75: 【ﾎ.所在地】 | F75: 2;154
A77: 【ﾍ.電話番号】 | F77: 2;155
A78: 【ﾄ.工事と照合する設計図書】 | J78: 2;156

Sheet 第二面 (工事施工者追加)
N1: （第二面）
A2: 建築主等の概要
A3: 【6.工事施工者】
A4: 【ｲ.氏名】 | E4: 2;157
A5: 【ﾛ.営業所名】 建設業の許可( | I5: 2;158 | O5: )第 | P5: 2;159 | X5: 号
E6: 2;160
A7: 【ﾊ.郵便番号】 | E7: 〒 | F7: 2;161
A8: 【ﾆ.所在地】 | F8: 2;162
A10: 【ﾎ.電話番号】 | F10: 2;163
A12: 【ｲ.氏名】 | E12: 2;157
A13: 【ﾛ.営業所名】 建設業の許可( | I13: 2;158 | O13: )第 | P13: 2;159 | X13: 号
E14: 2;160
A15: 【ﾊ.郵便番号】 | E15: 〒 | F15: 2;161
A16: 【ﾆ.所在地】 | F16: 2;162
A18: 【ﾎ.電話番号】 | F18: 2;163
A20: 【ｲ.氏名】 | E20: 2;157
A21: 【ﾛ.営業所名】 建設業の許可( | I21: 2;158 | O21: )第 | P21: 2;159 | X21: 号
E22: 2;160
A23: 【ﾊ.郵便番号】 | E23: 〒 | F23: 2;161
A24: 【ﾆ.所在地】 | F24: 2;162
A26: 【ﾎ.電話番号】 | F26: 2;163
A28: 【ｲ.氏名】 | E28: 2;157
A29: 【ﾛ.営業所名】 建設業の許可( | I29: 2;158 | O29: )第 | P29: 2;159 | X29: 号
E30: 2;160
A31: 【ﾊ.郵便番号】 | E31: 〒 | F31: 2;161
A32: 【ﾆ.所在地】 | F32: 2;162
A34: 【ﾎ.電話番号】 | F34: 2;163
A36: 【ｲ.氏名】 | E36: 2;157
A37: 【ﾛ.営業所名】 建設業の許可( | I37: 2;158 | O37: )第 | P37: 2;159 | X37: 号
E38: 2;160
A39: 【ﾊ.郵便番号】 | E39: 〒 | F39: 2;161
A40: 【ﾆ.所在地】 | F40: 2;162
A42: 【ﾎ.電話番号】 | F42: 2;163
A44: 【ｲ.氏名】 | E44: 2;157
A45: 【ﾛ.営業所名】 建設業の許可( | I45: 2;158 | O45: )第 | P45: 2;159 | X45: 号
E46: 2;160
A47: 【ﾊ.郵便番号】 | E47: 〒 | F47: 2;161
A48: 【ﾆ.所在地】 | F48: 2;162
A50: 【ﾎ.電話番号】 | F50: 2;163
A52: 【ｲ.氏名】 | E52: 2;157
A53: 【ﾛ.営業所名】 建設業の許可( | I53: 2;158 | O53: )第 | P53: 2;159 | X53: 号
E54: 2;160
A55: 【ﾊ.郵便番号】 | E55: 〒 | F55: 2;161
A56: 【ﾆ.所在地】 | F56: 2;162
A58: 【ﾎ.電話番号】 | F58: 2;163
A60: 【ｲ.氏名】 | E60: 2;157
A61: 【ﾛ.営業所名】 建設業の許可( | I61: 2;158 | O61: )第 | P61: 2;159 | X61: 号
E62: 2;160
A63: 【ﾊ.郵便番号】 | E63: 〒 | F63: 2;161
A64: 【ﾆ.所在地】 | F64: 2;162
A66: 【ﾎ.電話番号】 | F66: 2;163
A68: 【ｲ.氏名】 | E68: 2;157
A69: 【ﾛ.営業所名】 建設業の許可( | I69: 2;158 | O69: )第 | P69: 2;159 | X69: 号
E70: 2;160
A71: 【ﾊ.郵便番号】 | E71: 〒 | F71: 2;161
A72: 【ﾆ.所在地】 | F72: 2;162
A74: 【ﾎ.電話番号】 | F74: 2;163

Sheet 第三面
N1: （第三面）
A2: 建築物及びその敷地に関する事項
A3: 【1.地名地番】 | E3: 3_1
A4: 【2.住居表示】 | E4: 3_2
A5: 【3.都市計画区域及び準都市計画区域の内外の別等】
C6: ☑ | D6: 都市計画区域内 | H6: （ | I6: ☑ | J6: 市街化区域 | N6: ☑ | O6: 市街化調整区域 | T6: ☑ | U6: 区域区分非設定）
C7: ☑ | D7: 準都市計画区域内 | K7: ☑ | L7: 都市計画区域及び準都市計画区域外
A8: 【4.防火地域】 | G8: ☑ | H8: 防火地域 | L8: ☑ | M8: 準防火地域 | Q8: ☑ | R8: 指定なし
A9: 【5.その他の区域、地域、地区又は街区】 | K9: 3_3
A10: 【6.道路】
A11: 【ｲ.幅員】 | E11: 3_4 | K11: m
A12: 【ﾛ.敷地と接している部分の長さ】 | K12: 3_5 | T12: m
A13: 【7.敷地面積】
A14: 【ｲ.敷地面積】(1)( | F14: 306 | J14: ㎡)( | K14: 307 | O14: ㎡)( | P14: 308 | T14: ㎡)( | U14: 309 | Y14: ㎡)
A15: (2)( | F15: 310 | J15: ㎡)( | K15: 311 | O15: ㎡)( | P15: 312 | T15: ㎡)( | U15: 313 | Y15: ㎡)
A16: 【ﾛ.用途地域等】 ( | F16: 3_14 | J16: )( | K16: 3_15 | O16: )( | P16: 3_16 | T16: )( | U16: 3_17 | Y16: )
A17: 【ﾊ.建築基準法第52条第１項及び第２項の規定による建築物の容積率】
A18: ( | F18: 318 | J18: )( | K18: 319 | O18: )( | P18: 320 | T18: )( | U18: 321 | Y18: )
A19: 【ﾆ.建築基準法第53条第１項の規定による建築物の建蔽率】
A20: ( | F20: 322 | J20: )( | K20: 323 | O20: )( | P20: 324 | T20: )( | U20: 325 | Y20: )
A21: 【ﾎ.敷地面積の合計】 | G21: (1) | H21: =F14+K14+P14+U14 -> 1230 | N21: ㎡
G22: (2) | H22: =F15+K15+P15+U15 -> 1246 | N22: ㎡
A23: 【ﾍ.敷地に建築可能な延べ面積を敷地面積で除した数値】 | P23: 3_26
A24: 【ﾄ.敷地に建築可能な建築面積を敷地面積で除した数値】 | P24: 3_27
A25: 【ﾁ.備考】 | D25: 3_28
A26: 【8.主要用途】 | E26: (区分 | G26: 3_29 | K26: ) | L26: 3_30
A27: 【9.工事種別】
A28: ☑ | B28: 新築 | D28: ☑ | E28: 増築 | G28: ☑ | H28: 改築 | J28: ☑ | K28: 移転 | M28: ☑ | N28: 用途変更 | Q28: ☑ | R28: 大規模の修繕 | U28: ☑ | V28: 大規模の模様替
A29: 【10.建築面積】 | H29: (申請部分 | L29: )(申請以外の部分 | R29: ) | S29: (合計 | Y29: )
A30: 【ｲ.建築面積】 | F30: ( | G30: 331 | L30: ㎡)( | M30: 332 | R30: ㎡) | S30: ( | T30: =ROUNDUP(G30+M30,2) -> 663 | Y30: ㎡)
A31: 【ﾛ.建蔽率の算定の基礎となる建築面積】
F32: ( | G32: 333 | L32: ㎡)( | M32: 334 | R32: ㎡) | S32: ( | T32: =ROUNDUP(G32+M32,2) -> 667 | Y32: ㎡)
A33: 【ﾊ.建蔽率】 | E33: 335
A34: 【11.延べ面積】 | I34: (申請部分 | M34: )(申請以外の部分 | S34: )(合計 | Y34: )
A35: 【ｲ.建築物全体】 | G35: ( | H35: 336 | M35: ㎡)( | N35: 337 | S35: ㎡)( | T35: =H35+N35 -> 673 | Y35: ㎡)
A36: 【ﾛ.地階の住宅又は老人ホーム等の部分】
G37: ( | H37: 338 | M37: ㎡)( | N37: 339 | S37: ㎡)( | T37: =H37+N37 -> 677 | Y37: ㎡)
A38: 【ﾊ.エレベーターの昇降路の部分】
G39: ( | H39: 340 | M39: ㎡)( | N39: 341 | S39: ㎡)( | T39: =H39+N39 -> 681 | Y39: ㎡)
A40: 【ﾆ. 共同住宅又は老人ホーム等の共用の廊下等の部分】
G41: ( | H41: 342 | M41: ㎡)( | N41: 343 | S41: ㎡)( | T41: =H41+N41 -> 685 | Y41: ㎡)
A42: 【ﾎ.認定機械室等の部分】 ( | H42: 344 | M42: ㎡)( | N42: 345 | S42: ㎡)( | T42: =H42+N42 -> 689 | Y42: ㎡)
A43: 【ﾍ.自動車車庫等の部分】 ( | H43: 346 | M43: ㎡)( | N43: 347 | S43: ㎡)( | T43: =H43+N43 -> 693 | Y43: ㎡)
A44: 【ﾄ.備蓄倉庫の部分】 | G44: ( | H44: 348 | M44: ㎡)( | N44: 349 | S44: ㎡)( | T44: =H44+N44 -> 697 | Y44: ㎡)
A45: 【ﾁ.蓄電池の設置部分】 | G45: ( | H45: 350 | M45: ㎡)( | N45: 351 | S45: ㎡)( | T45: =H45+N45 -> 701 | Y45: ㎡)
A46: 【ﾘ.自家発電設備の設置部分】
G47: ( | H47: 352 | M47: ㎡)( | N47: 353 | S47: ㎡)( | T47: =H47+N47 -> 705 | Y47: ㎡)
A48: 【ﾇ.貯水槽の設置部分】 | G48: ( | H48: 354 | M48: ㎡)( | N48: 355 | S48: ㎡)( | T48: =H48+N48 -> 709 | Y48: ㎡)
A49: 【ﾙ.宅配ボックスの設置部分】
G50: ( | H50: 356 | M50: ㎡)( | N50: 357 | S50: ㎡)( | T50: =H50+N50 -> 713 | Y50: ㎡)
A51: 【ｦ.その他の不算入部分】 ( | H51: 358 | M51: ㎡)( | N51: 359 | S51: ㎡)( | T51: =H51+N51 -> 717 | Y51: ㎡)
A52: 【ﾜ.住宅の部分】 | G52: ( | H52: 360 | M52: ㎡)( | N52: 361 | S52: ㎡)( | T52: =H52+N52 -> 721 | Y52: ㎡)
A53: 【ｶ.老人ホーム等の部分】
G54: ( | H54: 362 | M54: ㎡)( | N54: 363 | S54: ㎡)( | T54: =H54+N54 -> 725 | Y54: ㎡)
A55: 【ﾖ.延べ面積】 | H55: 364 | M55: ㎡
A56: 【ﾀ.容積率】 | H56: 365
A60: 【12.建築物の数】
A61: 【ｲ.申請に係る建築物の数】 | J61: 3_66
A62: 【ﾛ.同一敷地内の他の建築物の数】 | J62: 3_67
A63: 【13.建築物の高さ等】 | G63: ( | H63: 申請に係る建築物 | M63: )(他の建築物 | S63: )
A64: 【ｲ.最高の高さ】 | G64: ( | H64: 3_68 | M64: m)( | N64: 3_69 | S64: m)
A65: 【ﾛ.階数】 | G65: 地上( | H65: 3_70 | M65: )( | N65: 3_71 | S65: )
G66: 地下( | H66: 3_72 | M66: )( | N66: 3_73 | S66: )
A67: 【ﾊ.構造】 | D67: 3_74 | I67: 造 | K67: 一部 | L67: 3_75 | S67: 造
A68: 【ﾆ.建築基準法第56条第７項の規定による特例の適用の有無】 | R68: ☑ | S68: 有 | U68: ☑ | V68: 無
A69: 【ﾎ.適用があるときは、特例の区分】
B70: ☑ | C70: 道路高さ制限不適用 | I70: ☑ | J70: 隣地高さ制限不適用 | P70: ☑ | Q70: 北側高さ制限不適用
A71: 【14.許可・認定等】
B73: 3_76
A74: 【15.工事着手予定年月日】 | H74: 2024 | L74: 年 | M74: 11 | O74: 月 | P74: 2 | R74: 日
A75: 【16.工事完了予定年月日】 | H75: 2024 | L75: 年 | M75: 11 | O75: 月 | P75: 3 | R75: 日
A76: 【17.特定工程工事終了予定年月日】 | S76: （特定工程）
B77: （第 | C77: 77 | D77: 回） | F77: 2024 | I77: 年 | J77: 11 | K77: 月 | L77: 4 | M77: 日 | N77: （ | O77: 3_78 | Y77: ）
B78: （第 | C78: 79 | D78: 回） | F78: 2024 | I78: 年 | J78: 11 | K78: 月 | L78: 5 | M78: 日 | N78: （ | O78: 3_80 | Y78: ）
B79: （第 | C79: 81 | D79: 回） | F79: 2024 | I79: 年 | J79: 11 | K79: 月 | L79: 6 | M79: 日 | N79: （ | O79: 3_82 | Y79: ）
A80: 【18.その他必要な事項】
B82: 3_83
A83: 【19.備考】
B85: 3_84

Sheet 第四面
N1: （第四面）
A2: 建築物別概要
A3: 【1.番号】 | F3: 4_1
A4: 【2.用途】 | D4: (区分 | F4: 4_2 | J4: ) | K4: 4_3
D5: (区分 | F5: 4_4 | J5: ) | K5: 4_5
D6: (区分 | F6: 4_6 | J6: ) | K6: 4_7
D7: (区分 | F7: 4_8 | J7: ) | K7: 4_9
A8: 【3.工事種別】
A9: ☑ | B9: 新築 | D9: ☑ | E9: 増築 | G9: ☑ | H9: 改築 | J9: ☑ | K9: 移転 | M9: ☑ | N9: 用途変更 | Q9: ☑ | R9: 大規模の修繕 | U9: ☑ | V9: 大規模の模様替
A10: 【4.構造】 | D10: 4_10 | I10: 造 | K10: 一部 | L10: 4_11 | S10: 造
A11: 【5.主要構造部】
B12: ☑ | C12: 耐火構造
B13: ☑ | C13: 建築基準法施行令第108条の3第1項第1号ｲ及びﾛに掲げる基準に適合する構造
B14: ☑ | C14: 準耐火構造
B15: ☑ | C15: 準耐火構造と同等の準耐火性能を有する構造（ﾛ-1）
B16: ☑ | C16: 準耐火構造と同等の準耐火性能を有する構造（ﾛ-2）
B17: ☑ | C17: その他
A18: 【6.建築基準法第21条及び第27条の規定の適用】
B19: ☑ | C19: 建築基準法施行令第109条の5第1号に掲げる基準に適合する構造
B20: ☑ | C20: 建築基準法第21条第1項ただし書きに該当する建築物
B21: ☑ | C21: 建築基準法施行令第110条第1号に掲げる基準に適合する構造
B22: ☑ | C22: その他
B23: ☑ | C23: 建築基準法第21条又は第27条の規定の適用を受けない
A24: 【7.建築基準法第61条の規定の適用】
B25: ☑ | C25: 耐火建築物
B26: ☑ | C26: 延焼防止建築物
B27: ☑ | C27: 準耐火建築物
B28: ☑ | C28: 準延焼防止建築物
B29: ☑ | C29: その他
B30: ☑ | C30: 建築基準法第61条の規定の適用を受けない
A31: 【8.階数】
A32: 【ｲ.地階を除く階数】 | H32: 4_12
A33: 【ﾛ.地階の階数】 | H33: 4_13
A34: 【ﾊ.昇降機塔等の階の数】 | H34: 4_14
A35: 【ﾆ.地階の倉庫等の階の数】 | H35: 4_15
A36: 【9.高さ】
A37: 【ｲ.最高の高さ】 | H37: 4_16 | K37: m
A38: 【ﾛ.最高の軒の高さ】 | H38: 4_17 | K38: m
A39: 【10.建築設備の種類】 | G39: 4_18
A40: 【11.確認の特例】
A41: 【ｲ. 建築基準法第6条の3第1項ただし書又は法第18条第4項ただし書の規定による審査の特例の適用の有無】
C42: ☑ | D42: 有 | F42: ☑ | G42: 無
A43: 【ﾛ.建築基準法第6条の4第1項の規定による確認の特例の適用の有無】 | S43: ☑ | T43: 有 | V43: ☑ | W43: 無
A44: 【ﾊ.建築基準法施行令第10条各号に掲げる建築物の区分】
L45: 第 | M45: 4_19 | S45: 号
A46: 【ﾆ.認定型式の認定番号】 | L46: 第 | M46: 4_20 | S46: 号
A47: 【ﾎ.適合する一連の規定の区分】
B48: ☑ | C48: 建築基準法施行令第136条の2の11第1号イ
B49: ☑ | C49: 建築基準法施行令第136条の2の11第1号ロ
A50: 【ﾍ.認証型式部材等の認定番号】
C51: 4_21
A52: 【12.床面積】 | I52: (申請部分 | M52: )(申請以外の部分 | S52: )(合計 | Y52: )
A53: 【ｲ.階別】 | D53: （ | E53: 22 | F53: 階) | G53: ( | H53: 423 | M53: ㎡)( | N53: 424 | S53: ㎡)( | T53: =H53+N53 -> 847 | Y53: ㎡)
D54: （ | E54: 25 | F54: 階) | G54: ( | H54: 426 | M54: ㎡)( | N54: 427 | S54: ㎡)( | T54: =H54+N54 -> 853 | Y54: ㎡)
D55: （ | E55: 28 | F55: 階) | G55: ( | H55: 429 | M55: ㎡)( | N55: 430 | S55: ㎡)( | T55: =H55+N55 -> 859 | Y55: ㎡)
D56: （ | E56: 31 | F56: 階) | G56: ( | H56: 432 | M56: ㎡)( | N56: 433 | S56: ㎡)( | T56: =H56+N56 -> 865 | Y56: ㎡)
D57: （ | E57: 34 | F57: 階) | G57: ( | H57: 435 | M57: ㎡)( | N57: 436 | S57: ㎡)( | T57: =H57+N57 -> 871 | Y57: ㎡)
D58: （ | E58: 37 | F58: 階) | G58: ( | H58: 438 | M58: ㎡)( | N58: 439 | S58: ㎡)( | T58: =H58+N58 -> 877 | Y58: ㎡)
D59: （ | E59: 40 | F59: 階) | G59: ( | H59: 441 | M59: ㎡)( | N59: 442 | S59: ㎡)( | T59: =H59+N59 -> 883 | Y59: ㎡)
D60: （ | E60: 43 | F60: 階) | G60: ( | H60: 444 | M60: ㎡)( | N60: 445 | S60: ㎡)( | T60: =H60+N60 -> 889 | Y60: ㎡)
D61: （ | E61: 46 | F61: 階) | G61: ( | H61: 447 | M61: ㎡)( | N61: 448 | S61: ㎡)( | T61: =H61+N61 -> 895 | Y61: ㎡)
D62: （ | E62: 49 | F62: 階) | G62: ( | H62: 450 | M62: ㎡)( | N62: 451 | S62: ㎡)( | T62: =H62+N62 -> 901 | Y62: ㎡)
D63: （ | E63: 52 | F63: 階) | G63: ( | H63: 453 | M63: ㎡)( | N63: 454 | S63: ㎡)( | T63: =H63+N63 -> 907 | Y63: ㎡)
A64: 【ﾛ.合計】 | G64: ( | H64: =SUM(H53:L63) -> 4818 | M64: ㎡)( | N64: =SUM(N53:R63) -> 4829 | S64: ㎡)( | T64: =SUM(T53:X63) -> 9647 | Y64: ㎡)
A65: 【13.屋根】 | H65: 4_55
A66: 【14.外壁】 | H66: 4_56
A67: 【15.軒裏】 | H67: 4_57
A68: 【16.居室の床の高さ】 | H68: 4_58
A69: 【17.便所の種類】 | H69: 4_59
A70: 【18.その他必要な事項】 | H70: 4_60
A71: 【19.備考】
B73: 4_61

Sheet 第四面 (2)
N1: （第四面） | P1: ②
A2: 建築物別概要
A3: 【1.番号】
A4: 【2.用途】 | D4: (区分 | J4: )
D5: (区分 | J5: )
D6: (区分 | J6: )
D7: (区分 | J7: )
A8: 【3.工事種別】
A9: □ | B9: 新築 | D9: □ | E9: 増築 | G9: □ | H9: 改築 | J9: □ | K9: 移転 | M9: □ | N9: 用途変更 | Q9: □ | R9: 大規模の修繕 | U9: □ | V9: 大規模の模様替
A10: 【4.構造】 | I10: 造 | K10: 一部 | S10: 造
A11: 【5.主要構造部】
B12: □ | C12: 耐火構造
B13: □ | C13: 建築基準法施行令第108条の3第1項第1号ｲ及びﾛに掲げる基準に適合する構造
B14: □ | C14: 準耐火構造
B15: □ | C15: 準耐火構造と同等の準耐火性能を有する構造（ﾛ-1）
B16: □ | C16: 準耐火構造と同等の準耐火性能を有する構造（ﾛ-2）
B17: □ | C17: その他
A18: 【6.建築基準法第21条及び第27条の規定の適用】
B19: □ | C19: 建築基準法施行令第109条の5第1号に掲げる基準に適合する構造
B20: □ | C20: 建築基準法第21条第1項ただし書きに該当する建築物
B21: □ | C21: 建築基準法施行令第110条第1号に掲げる基準に適合する構造
B22: □ | C22: その他
B23: □ | C23: 建築基準法第21条又は第27条の規定の適用を受けない
A24: 【7.建築基準法第61条の規定の適用】
B25: □ | C25: 耐火建築物
B26: □ | C26: 延焼防止建築物
B27: □ | C27: 準耐火建築物
B28: □ | C28: 準延焼防止建築物
B29: □ | C29: その他
B30: □ | C30: 建築基準法第61条の規定の適用を受けない
A31: 【8.階数】
A32: 【ｲ.地階を除く階数】
A33: 【ﾛ.地階の階数】
A34: 【ﾊ.昇降機塔等の階の数】
A35: 【ﾆ.地階の倉庫等の階の数】
A36: 【9.高さ】
A37: 【ｲ.最高の高さ】 | K37: m
A38: 【ﾛ.最高の軒の高さ】 | K38: m
A39: 【10.建築設備の種類】
A40: 【11.確認の特例】
A41: 【ｲ. 建築基準法第6条の3第1項ただし書又は法第18条第4項ただし書の規定による審査の特例の適用の有無】
C42: □ | D42: 有 | F42: □ | G42: 無
A43: 【ﾛ.建築基準法第6条の4第1項の規定による確認の特例の適用の有無】 | S43: □ | T43: 有 | V43: □ | W43: 無
A44: 【ﾊ.建築基準法施行令第10条各号に掲げる建築物の区分】
L45: 第 | S45: 号
A46: 【ﾆ.認定型式の認定番号】 | L46: 第 | S46: 号
A47: 【ﾎ.適合する一連の規定の区分】
B48: □ | C48: 建築基準法施行令第136条の2の11第1号イ
B49: □ | C49: 建築基準法施行令第136条の2の11第1号ロ
A50: 【ﾍ.認証型式部材等の認定番号】
A52: 【12.床面積】 | I52: (申請部分 | M52: )(申請以外の部分 | S52: )(合計 | Y52: )
A53: 【ｲ.階別】 | D53: （ | F53: 階) | G53: ( | M53: ㎡)( | S53: ㎡)( | T53: =H53+N53 -> 0 | Y53: ㎡)
D54: （ | F54: 階) | G54: ( | M54: ㎡)( | S54: ㎡)( | T54: =H54+N54 -> 0 | Y54: ㎡)
D55: （ | F55: 階) | G55: ( | M55: ㎡)( | S55: ㎡)( | T55: =H55+N55 -> 0 | Y55: ㎡)
D56: （ | F56: 階) | G56: ( | M56: ㎡)( | S56: ㎡)( | T56: =H56+N56 -> 0 | Y56: ㎡)
D57: （ | F57: 階) | G57: ( | M57: ㎡)( | S57: ㎡)( | T57: =H57+N57 -> 0 | Y57: ㎡)
D58: （ | F58: 階) | G58: ( | M58: ㎡)( | S58: ㎡)( | T58: =H58+N58 -> 0 | Y58: ㎡)
D59: （ | F59: 階) | G59: ( | M59: ㎡)( | S59: ㎡)( | T59: =H59+N59 -> 0 | Y59: ㎡)
D60: （ | F60: 階) | G60: ( | M60: ㎡)( | S60: ㎡)( | T60: =H60+N60 -> 0 | Y60: ㎡)
D61: （ | F61: 階) | G61: ( | M61: ㎡)( | S61: ㎡)( | T61: =H61+N61 -> 0 | Y61: ㎡)
D62: （ | F62: 階) | G62: ( | M62: ㎡)( | S62: ㎡)( | T62: =H62+N62 -> 0 | Y62: ㎡)
D63: （ | F63: 階) | G63: ( | M63: ㎡)( | S63: ㎡)( | T63: =H63+N63 -> 0 | Y63: ㎡)
A64: 【ﾛ.合計】 | G64: ( | H64: =SUM(H53:L63) -> 0 | M64: ㎡)( | N64: =SUM(N53:R63) -> 0 | S64: ㎡)( | T64: =SUM(T53:X63) -> 0 | Y64: ㎡)
A65: 【13.屋根】
A66: 【14.外壁】
A67: 【15.軒裏】
A68: 【16.居室の床の高さ】
A69: 【17.便所の種類】
A70: 【18.その他必要な事項】
A71: 【19.備考】

Sheet 第四面 (3)
N1: （第四面） | P1: ③
A2: 建築物別概要
A3: 【1.番号】
A4: 【2.用途】 | D4: (区分 | J4: )
D5: (区分 | J5: )
D6: (区分 | J6: )
D7: (区分 | J7: )
A8: 【3.工事種別】
A9: □ | B9: 新築 | D9: □ | E9: 増築 | G9: □ | H9: 改築 | J9: □ | K9: 移転 | M9: □ | N9: 用途変更 | Q9: □ | R9: 大規模の修繕 | U9: □ | V9: 大規模の模様替
A10: 【4.構造】 | I10: 造 | K10: 一部 | S10: 造
A11: 【5.主要構造部】
B12: □ | C12: 耐火構造
B13: □ | C13: 建築基準法施行令第108条の3第1項第1号ｲ及びﾛに掲げる基準に適合する構造
B14: □ | C14: 準耐火構造
B15: □ | C15: 準耐火構造と同等の準耐火性能を有する構造（ﾛ-1）
B16: □ | C16: 準耐火構造と同等の準耐火性能を有する構造（ﾛ-2）
B17: □ | C17: その他
A18: 【6.建築基準法第21条及び第27条の規定の適用】
B19: □ | C19: 建築基準法施行令第109条の5第1号に掲げる基準に適合する構造
B20: □ | C20: 建築基準法第21条第1項ただし書きに該当する建築物
B21: □ | C21: 建築基準法施行令第110条第1号に掲げる基準に適合する構造
B22: □ | C22: その他
B23: □ | C23: 建築基準法第21条又は第27条の規定の適用を受けない
A24: 【7.建築基準法第61条の規定の適用】
B25: □ | C25: 耐火建築物
B26: □ | C26: 延焼防止建築物
B27: □ | C27: 準耐火建築物
B28: □ | C28: 準延焼防止建築物
B29: □ | C29: その他
B30: □ | C30: 建築基準法第61条の規定の適用を受けない
A31: 【8.階数】
A32: 【ｲ.地階を除く階数】
A33: 【ﾛ.地階の階数】
A34: 【ﾊ.昇降機塔等の階の数】
A35: 【ﾆ.地階の倉庫等の階の数】
A36: 【9.高さ】
A37: 【ｲ.最高の高さ】 | K37: m
A38: 【ﾛ.最高の軒の高さ】 | K38: m
A39: 【10.建築設備の種類】
A40: 【11.確認の特例】
A41: 【ｲ. 建築基準法第6条の3第1項ただし書又は法第18条第4項ただし書の規定による審査の特例の適用の有無】
C42: □ | D42: 有 | F42: □ | G42: 無
A43: 【ﾛ.建築基準法第6条の4第1項の規定による確認の特例の適用の有無】 | S43: □ | T43: 有 | V43: □ | W43: 無
A44: 【ﾊ.建築基準法施行令第10条各号に掲げる建築物の区分】
L45: 第 | S45: 号
A46: 【ﾆ.認定型式の認定番号】 | L46: 第 | S46: 号
A47: 【ﾎ.適合する一連の規定の区分】
B48: □ | C48: 建築基準法施行令第136条の2の11第1号イ
B49: □ | C49: 建築基準法施行令第136条の2の11第1号ロ
A50: 【ﾍ.認証型式部材等の認定番号】
A52: 【12.床面積】 | I52: (申請部分 | M52: )(申請以外の部分 | S52: )(合計 | Y52: )
A53: 【ｲ.階別】 | D53: （ | F53: 階) | G53: ( | M53: ㎡)( | S53: ㎡)( | T53: =H53+N53 -> 0 | Y53: ㎡)
D54: （ | F54: 階) | G54: ( | M54: ㎡)( | S54: ㎡)( | T54: =H54+N54 -> 0 | Y54: ㎡)
D55: （ | F55: 階) | G55: ( | M55: ㎡)( | S55: ㎡)( | T55: =H55+N55 -> 0 | Y55: ㎡)
D56: （ | F56: 階) | G56: ( | M56: ㎡)( | S56: ㎡)( | T56: =H56+N56 -> 0 | Y56: ㎡)
D57: （ | F57: 階) | G57: ( | M57: ㎡)( | S57: ㎡)( | T57: =H57+N57 -> 0 | Y57: ㎡)
D58: （ | F58: 階) | G58: ( | M58: ㎡)( | S58: ㎡)( | T58: =H58+N58 -> 0 | Y58: ㎡)
D59: （ | F59: 階) | G59: ( | M59: ㎡)( | S59: ㎡)( | T59: =H59+N59 -> 0 | Y59: ㎡)
D60: （ | F60: 階) | G60: ( | M60: ㎡)( | S60: ㎡)( | T60: =H60+N60 -> 0 | Y60: ㎡)
D61: （ | F61: 階) | G61: ( | M61: ㎡)( | S61: ㎡)( | T61: =H61+N61 -> 0 | Y61: ㎡)
D62: （ | F62: 階) | G62: ( | M62: ㎡)( | S62: ㎡)( | T62: =H62+N62 -> 0 | Y62: ㎡)
D63: （ | F63: 階) | G63: ( | M63: ㎡)( | S63: ㎡)( | T63: =H63+N63 -> 0 | Y63: ㎡)
A64: 【ﾛ.合計】 | G64: ( | H64: =SUM(H53:L63) -> 0 | M64: ㎡)( | N64: =SUM(N53:R63) -> 0 | S64: ㎡)( | T64: =SUM(T53:X63) -> 0 | Y64: ㎡)
A65: 【13.屋根】
A66: 【14.外壁】
A67: 【15.軒裏】
A68: 【16.居室の床の高さ】
A69: 【17.便所の種類】
A70: 【18.その他必要な事項】
A71: 【19.備考】

Sheet 第四面 (4)
N1: （第四面） | P1: ④
A2: 建築物別概要
A3: 【1.番号】
A4: 【2.用途】 | D4: (区分 | J4: )
D5: (区分 | J5: )
D6: (区分 | J6: )
D7: (区分 | J7: )
A8: 【3.工事種別】
A9: □ | B9: 新築 | D9: □ | E9: 増築 | G9: □ | H9: 改築 | J9: □ | K9: 移転 | M9: □ | N9: 用途変更 | Q9: □ | R9: 大規模の修繕 | U9: □ | V9: 大規模の模様替
A10: 【4.構造】 | I10: 造 | K10: 一部 | S10: 造
A11: 【5.主要構造部】
B12: □ | C12: 耐火構造
B13: □ | C13: 建築基準法施行令第108条の3第1項第1号ｲ及びﾛに掲げる基準に適合する構造
B14: □ | C14: 準耐火構造
B15: □ | C15: 準耐火構造と同等の準耐火性能を有する構造（ﾛ-1）
B16: □ | C16: 準耐火構造と同等の準耐火性能を有する構造（ﾛ-2）
B17: □ | C17: その他
A18: 【6.建築基準法第21条及び第27条の規定の適用】
B19: □ | C19: 建築基準法施行令第109条の5第1号に掲げる基準に適合する構造
B20: □ | C20: 建築基準法第21条第1項ただし書きに該当する建築物
B21: □ | C21: 建築基準法施行令第110条第1号に掲げる基準に適合する構造
B22: □ | C22: その他
B23: □ | C23: 建築基準法第21条又は第27条の規定の適用を受けない
A24: 【7.建築基準法第61条の規定の適用】
B25: □ | C25: 耐火建築物
B26: □ | C26: 延焼防止建築物
B27: □ | C27: 準耐火建築物
B28: □ | C28: 準延焼防止建築物
B29: □ | C29: その他
B30: □ | C30: 建築基準法第61条の規定の適用を受けない
A31: 【8.階数】
A32: 【ｲ.地階を除く階数】
A33: 【ﾛ.地階の階数】
A34: 【ﾊ.昇降機塔等の階の数】
A35: 【ﾆ.地階の倉庫等の階の数】
A36: 【9.高さ】
A37: 【ｲ.最高の高さ】 | K37: m
A38: 【ﾛ.最高の軒の高さ】 | K38: m
A39: 【10.建築設備の種類】
A40: 【11.確認の特例】
A41: 【ｲ. 建築基準法第6条の3第1項ただし書又は法第18条第4項ただし書の規定による審査の特例の適用の有無】
C42: □ | D42: 有 | F42: □ | G42: 無
A43: 【ﾛ.建築基準法第6条の4第1項の規定による確認の特例の適用の有無】 | S43: □ | T43: 有 | V43: □ | W43: 無
A44: 【ﾊ.建築基準法施行令第10条各号に掲げる建築物の区分】
L45: 第 | S45: 号
A46: 【ﾆ.認定型式の認定番号】 | L46: 第 | S46: 号
A47: 【ﾎ.適合する一連の規定の区分】
B48: □ | C48: 建築基準法施行令第136条の2の11第1号イ
B49: □ | C49: 建築基準法施行令第136条の2の11第1号ロ
A50: 【ﾍ.認証型式部材等の認定番号】
A52: 【12.床面積】 | I52: (申請部分 | M52: )(申請以外の部分 | S52: )(合計 | Y52: )
A53: 【ｲ.階別】 | D53: （ | F53: 階) | G53: ( | M53: ㎡)( | S53: ㎡)( | T53: =H53+N53 -> 0 | Y53: ㎡)
D54: （ | F54: 階) | G54: ( | M54: ㎡)( | S54: ㎡)( | T54: =H54+N54 -> 0 | Y54: ㎡)
D55: （ | F55: 階) | G55: ( | M55: ㎡)( | S55: ㎡)( | T55: =H55+N55 -> 0 | Y55: ㎡)
D56: （ | F56: 階) | G56: ( | M56: ㎡)( | S56: ㎡)( | T56: =H56+N56 -> 0 | Y56: ㎡)
D57: （ | F57: 階) | G57: ( | M57: ㎡)( | S57: ㎡)( | T57: =H57+N57 -> 0 | Y57: ㎡)
D58: （ | F58: 階) | G58: ( | M58: ㎡)( | S58: ㎡)( | T58: =H58+N58 -> 0 | Y58: ㎡)
D59: （ | F59: 階) | G59: ( | M59: ㎡)( | S59: ㎡)( | T59: =H59+N59 -> 0 | Y59: ㎡)
D60: （ | F60: 階) | G60: ( | M60: ㎡)( | S60: ㎡)( | T60: =H60+N60 -> 0 | Y60: ㎡)
D61: （ | F61: 階) | G61: ( | M61: ㎡)( | S61: ㎡)( | T61: =H61+N61 -> 0 | Y61: ㎡)
D62: （ | F62: 階) | G62: ( | M62: ㎡)( | S62: ㎡)( | T62: =H62+N62 -> 0 | Y62: ㎡)
D63: （ | F63: 階) | G63: ( | M63: ㎡)( | S63: ㎡)( | T63: =H63+N63 -> 0 | Y63: ㎡)
A64: 【ﾛ.合計】 | G64: ( | H64: =SUM(H53:L63) -> 0 | M64: ㎡)( | N64: =SUM(N53:R63) -> 0 | S64: ㎡)( | T64: =SUM(T53:X63) -> 0 | Y64: ㎡)
A65: 【13.屋根】
A66: 【14.外壁】
A67: 【15.軒裏】
A68: 【16.居室の床の高さ】
A69: 【17.便所の種類】
A70: 【18.その他必要な事項】
A71: 【19.備考】

Sheet 第四面 (5)
N1: （第四面） | P1: ⑤
A2: 建築物別概要
A3: 【1.番号】
A4: 【2.用途】 | D4: (区分 | J4: )
D5: (区分 | J5: )
D6: (区分 | J6: )
D7: (区分 | J7: )
A8: 【3.工事種別】
A9: □ | B9: 新築 | D9: □ | E9: 増築 | G9: □ | H9: 改築 | J9: □ | K9: 移転 | M9: □ | N9: 用途変更 | Q9: □ | R9: 大規模の修繕 | U9: □ | V9: 大規模の模様替
A10: 【4.構造】 | I10: 造 | K10: 一部 | S10: 造
A11: 【5.主要構造部】
B12: □ | C12: 耐火構造
B13: □ | C13: 建築基準法施行令第108条の3第1項第1号ｲ及びﾛに掲げる基準に適合する構造
B14: □ | C14: 準耐火構造
B15: □ | C15: 準耐火構造と同等の準耐火性能を有する構造（ﾛ-1）
B16: □ | C16: 準耐火構造と同等の準耐火性能を有する構造（ﾛ-2）
B17: □ | C17: その他
A18: 【6.建築基準法第21条及び第27条の規定の適用】
B19: □ | C19: 建築基準法施行令第109条の5第1号に掲げる基準に適合する構造
B20: □ | C20: 建築基準法第21条第1項ただし書きに該当する建築物
B21: □ | C21: 建築基準法施行令第110条第1号に掲げる基準に適合する構造
B22: □ | C22: その他
B23: □ | C23: 建築基準法第21条又は第27条の規定の適用を受けない
A24: 【7.建築基準法第61条の規定の適用】
B25: □ | C25: 耐火建築物
B26: □ | C26: 延焼防止建築物
B27: □ | C27: 準耐火建築物
B28: □ | C28: 準延焼防止建築物
B29: □ | C29: その他
B30: □ | C30: 建築基準法第61条の規定の適用を受けない
A31: 【8.階数】
A32: 【ｲ.地階を除く階数】
A33: 【ﾛ.地階の階数】
A34: 【ﾊ.昇降機塔等の階の数】
A35: 【ﾆ.地階の倉庫等の階の数】
A36: 【9.高さ】
A37: 【ｲ.最高の高さ】 | K37: m
A38: 【ﾛ.最高の軒の高さ】 | K38: m
A39: 【10.建築設備の種類】
A40: 【11.確認の特例】
A41: 【ｲ. 建築基準法第6条の3第1項ただし書又は法第18条第4項ただし書の規定による審査の特例の適用の有無】
C42: □ | D42: 有 | F42: □ | G42: 無
A43: 【ﾛ.建築基準法第6条の4第1項の規定による確認の特例の適用の有無】 | S43: □ | T43: 有 | V43: □ | W43: 無
A44: 【ﾊ.建築基準法施行令第10条各号に掲げる建築物の区分】
L45: 第 | S45: 号
A46: 【ﾆ.認定型式の認定番号】 | L46: 第 | S46: 号
A47: 【ﾎ.適合する一連の規定の区分】
B48: □ | C48: 建築基準法施行令第136条の2の11第1号イ
B49: □ | C49: 建築基準法施行令第136条の2の11第1号ロ
A50: 【ﾍ.認証型式部材等の認定番号】
A52: 【12.床面積】 | I52: (申請部分 | M52: )(申請以外の部分 | S52: )(合計 | Y52: )
A53: 【ｲ.階別】 | D53: （ | F53: 階) | G53: ( | M53: ㎡)( | S53: ㎡)( | T53: =H53+N53 -> 0 | Y53: ㎡)
D54: （ | F54: 階) | G54: ( | M54: ㎡)( | S54: ㎡)( | T54: =H54+N54 -> 0 | Y54: ㎡)
D55: （ | F55: 階) | G55: ( | M55: ㎡)( | S55: ㎡)( | T55: =H55+N55 -> 0 | Y55: ㎡)
D56: （ | F56: 階) | G56: ( | M56: ㎡)( | S56: ㎡)( | T56: =H56+N56 -> 0 | Y56: ㎡)
D57: （ | F57: 階) | G57: ( | M57: ㎡)( | S57: ㎡)( | T57: =H57+N57 -> 0 | Y57: ㎡)
D58: （ | F58: 階) | G58: ( | M58: ㎡)( | S58: ㎡)( | T58: =H58+N58 -> 0 | Y58: ㎡)
D59: （ | F59: 階) | G59: ( | M59: ㎡)( | S59: ㎡)( | T59: =H59+N59 -> 0 | Y59: ㎡)
D60: （ | F60: 階) | G60: ( | M60: ㎡)( | S60: ㎡)( | T60: =H60+N60 -> 0 | Y60: ㎡)
D61: （ | F61: 階) | G61: ( | M61: ㎡)( | S61: ㎡)( | T61: =H61+N61 -> 0 | Y61: ㎡)
D62: （ | F62: 階) | G62: ( | M62: ㎡)( | S62: ㎡)( | T62: =H62+N62 -> 0 | Y62: ㎡)
D63: （ | F63: 階) | G63: ( | M63: ㎡)( | S63: ㎡)( | T63: =H63+N63 -> 0 | Y63: ㎡)
A64: 【ﾛ.合計】 | G64: ( | H64: =SUM(H53:L63) -> 0 | M64: ㎡)( | N64: =SUM(N53:R63) -> 0 | S64: ㎡)( | T64: =SUM(T53:X63) -> 0 | Y64: ㎡)
A65: 【13.屋根】
A66: 【14.外壁】
A67: 【15.軒裏】
A68: 【16.居室の床の高さ】
A69: 【17.便所の種類】
A70: 【18.その他必要な事項】
A71: 【19.備考】

Sheet 第四面 (6)
N1: （第四面） | P1: ⑥
A2: 建築物別概要
A3: 【1.番号】
A4: 【2.用途】 | D4: (区分 | J4: )
D5: (区分 | J5: )
D6: (区分 | J6: )
D7: (区分 | J7: )
A8: 【3.工事種別】
A9: □ | B9: 新築 | D9: □ | E9: 増築 | G9: □ | H9: 改築 | J9: □ | K9: 移転 | M9: □ | N9: 用途変更 | Q9: □ | R9: 大規模の修繕 | U9: □ | V9: 大規模の模様替
A10: 【4.構造】 | I10: 造 | K10: 一部 | S10: 造
A11: 【5.主要構造部】
B12: □ | C12: 耐火構造
B13: □ | C13: 建築基準法施行令第108条の3第1項第1号ｲ及びﾛに掲げる基準に適合する構造
B14: □ | C14: 準耐火構造
B15: □ | C15: 準耐火構造と同等の準耐火性能を有する構造（ﾛ-1）
B16: □ | C16: 準耐火構造と同等の準耐火性能を有する構造（ﾛ-2）
B17: □ | C17: その他
A18: 【6.建築基準法第21条及び第27条の規定の適用】
B19: □ | C19: 建築基準法施行令第109条の5第1号に掲げる基準に適合する構造
B20: □ | C20: 建築基準法第21条第1項ただし書きに該当する建築物
B21: □ | C21: 建築基準法施行令第110条第1号に掲げる基準に適合する構造
B22: □ | C22: その他
B23: □ | C23: 建築基準法第21条又は第27条の規定の適用を受けない
A24: 【7.建築基準法第61条の規定の適用】
B25: □ | C25: 耐火建築物
B26: □ | C26: 延焼防止建築物
B27: □ | C27: 準耐火建築物
B28: □ | C28: 準延焼防止建築物
B29: □ | C29: その他
B30: □ | C30: 建築基準法第61条の規定の適用を受けない
A31: 【8.階数】
A32: 【ｲ.地階を除く階数】
A33: 【ﾛ.地階の階数】
A34: 【ﾊ.昇降機塔等の階の数】
A35: 【ﾆ.地階の倉庫等の階の数】
A36: 【9.高さ】
A37: 【ｲ.最高の高さ】 | K37: m
A38: 【ﾛ.最高の軒の高さ】 | K38: m
A39: 【10.建築設備の種類】
A40: 【11.確認の特例】
A41: 【ｲ. 建築基準法第6条の3第1項ただし書又は法第18条第4項ただし書の規定による審査の特例の適用の有無】
C42: □ | D42: 有 | F42: □ | G42: 無
A43: 【ﾛ.建築基準法第6条の4第1項の規定による確認の特例の適用の有無】 | S43: □ | T43: 有 | V43: □ | W43: 無
A44: 【ﾊ.建築基準法施行令第10条各号に掲げる建築物の区分】
L45: 第 | S45: 号
A46: 【ﾆ.認定型式の認定番号】 | L46: 第 | S46: 号
A47: 【ﾎ.適合する一連の規定の区分】
B48: □ | C48: 建築基準法施行令第136条の2の11第1号イ
B49: □ | C49: 建築基準法施行令第136条の2の11第1号ロ
A50: 【ﾍ.認証型式部材等の認定番号】
A52: 【12.床面積】 | I52: (申請部分 | M52: )(申請以外の部分 | S52: )(合計 | Y52: )
A53: 【ｲ.階別】 | D53: （ | F53: 階) | G53: ( | M53: ㎡)( | S53: ㎡)( | T53: =H53+N53 -> 0 | Y53: ㎡)
D54: （ | F54: 階) | G54: ( | M54: ㎡)( | S54: ㎡)( | T54: =H54+N54 -> 0 | Y54: ㎡)
D55: （ | F55: 階) | G55: ( | M55: ㎡)( | S55: ㎡)( | T55: =H55+N55 -> 0 | Y55: ㎡)
D56: （ | F56: 階) | G56: ( | M56: ㎡)( | S56: ㎡)( | T56: =H56+N56 -> 0 | Y56: ㎡)
D57: （ | F57: 階) | G57: ( | M57: ㎡)( | S57: ㎡)( | T57: =H57+N57 -> 0 | Y57: ㎡)
D58: （ | F58: 階) | G58: ( | M58: ㎡)( | S58: ㎡)( | T58: =H58+N58 -> 0 | Y58: ㎡)
D59: （ | F59: 階) | G59: ( | M59: ㎡)( | S59: ㎡)( | T59: =H59+N59 -> 0 | Y59: ㎡)
D60: （ | F60: 階) | G60: ( | M60: ㎡)( | S60: ㎡)( | T60: =H60+N60 -> 0 | Y60: ㎡)
D61: （ | F61: 階) | G61: ( | M61: ㎡)( | S61: ㎡)( | T61: =H61+N61 -> 0 | Y61: ㎡)
D62: （ | F62: 階) | G62: ( | M62: ㎡)( | S62: ㎡)( | T62: =H62+N62 -> 0 | Y62: ㎡)
D63: （ | F63: 階) | G63: ( | M63: ㎡)( | S63: ㎡)( | T63: =H63+N63 -> 0 | Y63: ㎡)
A64: 【ﾛ.合計】 | G64: ( | H64: =SUM(H53:L63) -> 0 | M64: ㎡)( | N64: =SUM(N53:R63) -> 0 | S64: ㎡)( | T64: =SUM(T53:X63) -> 0 | Y64: ㎡)
A65: 【13.屋根】
A66: 【14.外壁】
A67: 【15.軒裏】
A68: 【16.居室の床の高さ】
A69: 【17.便所の種類】
A70: 【18.その他必要な事項】
A71: 【19.備考】

Sheet 第四面 (7)
N1: （第四面） | P1: ⑦
A2: 建築物別概要
A3: 【1.番号】
A4: 【2.用途】 | D4: (区分 | J4: )
D5: (区分 | J5: )
D6: (区分 | J6: )
D7: (区分 | J7: )
A8: 【3.工事種別】
A9: □ | B9: 新築 | D9: □ | E9: 増築 | G9: □ | H9: 改築 | J9: □ | K9: 移転 | M9: □ | N9: 用途変更 | Q9: □ | R9: 大規模の修繕 | U9: □ | V9: 大規模の模様替
A10: 【4.構造】 | I10: 造 | K10: 一部 | S10: 造
A11: 【5.主要構造部】
B12: □ | C12: 耐火構造
B13: □ | C13: 建築基準法施行令第108条の3第1項第1号ｲ及びﾛに掲げる基準に適合する構造
B14: □ | C14: 準耐火構造
B15: □ | C15: 準耐火構造と同等の準耐火性能を有する構造（ﾛ-1）
B16: □ | C16: 準耐火構造と同等の準耐火性能を有する構造（ﾛ-2）
B17: □ | C17: その他
A18: 【6.建築基準法第21条及び第27条の規定の適用】
B19: □ | C19: 建築基準法施行令第109条の5第1号に掲げる基準に適合する構造
B20: □ | C20: 建築基準法第21条第1項ただし書きに該当する建築物
B21: □ | C21: 建築基準法施行令第110条第1号に掲げる基準に適合する構造
B22: □ | C22: その他
B23: □ | C23: 建築基準法第21条又は第27条の規定の適用を受けない
A24: 【7.建築基準法第61条の規定の適用】
B25: □ | C25: 耐火建築物
B26: □ | C26: 延焼防止建築物
B27: □ | C27: 準耐火建築物
B28: □ | C28: 準延焼防止建築物
B29: □ | C29: その他
B30: □ | C30: 建築基準法第61条の規定の適用を受けない
A31: 【8.階数】
A32: 【ｲ.地階を除く階数】
A33: 【ﾛ.地階の階数】
A34: 【ﾊ.昇降機塔等の階の数】
A35: 【ﾆ.地階の倉庫等の階の数】
A36: 【9.高さ】
A37: 【ｲ.最高の高さ】 | K37: m
A38: 【ﾛ.最高の軒の高さ】 | K38: m
A39: 【10.建築設備の種類】
A40: 【11.確認の特例】
A41: 【ｲ. 建築基準法第6条の3第1項ただし書又は法第18条第4項ただし書の規定による審査の特例の適用の有無】
C42: □ | D42: 有 | F42: □ | G42: 無
A43: 【ﾛ.建築基準法第6条の4第1項の規定による確認の特例の適用の有無】 | S43: □ | T43: 有 | V43: □ | W43: 無
A44: 【ﾊ.建築基準法施行令第10条各号に掲げる建築物の区分】
L45: 第 | S45: 号
A46: 【ﾆ.認定型式の認定番号】 | L46: 第 | S46: 号
A47: 【ﾎ.適合する一連の規定の区分】
B48: □ | C48: 建築基準法施行令第136条の2の11第1号イ
B49: □ | C49: 建築基準法施行令第136条の2の11第1号ロ
A50: 【ﾍ.認証型式部材等の認定番号】
A52: 【12.床面積】 | I52: (申請部分 | M52: )(申請以外の部分 | S52: )(合計 | Y52: )
A53: 【ｲ.階別】 | D53: （ | F53: 階) | G53: ( | M53: ㎡)( | S53: ㎡)( | T53: =H53+N53 -> 0 | Y53: ㎡)
D54: （ | F54: 階) | G54: ( | M54: ㎡)( | S54: ㎡)( | T54: =H54+N54 -> 0 | Y54: ㎡)
D55: （ | F55: 階) | G55: ( | M55: ㎡)( | S55: ㎡)( | T55: =H55+N55 -> 0 | Y55: ㎡)
D56: （ | F56: 階) | G56: ( | M56: ㎡)( | S56: ㎡)( | T56: =H56+N56 -> 0 | Y56: ㎡)
D57: （ | F57: 階) | G57: ( | M57: ㎡)( | S57: ㎡)( | T57: =H57+N57 -> 0 | Y57: ㎡)
D58: （ | F58: 階) | G58: ( | M58: ㎡)( | S58: ㎡)( | T58: =H58+N58 -> 0 | Y58: ㎡)
D59: （ | F59: 階) | G59: ( | M59: ㎡)( | S59: ㎡)( | T59: =H59+N59 -> 0 | Y59: ㎡)
D60: （ | F60: 階) | G60: ( | M60: ㎡)( | S60: ㎡)( | T60: =H60+N60 -> 0 | Y60: ㎡)
D61: （ | F61: 階) | G61: ( | M61: ㎡)( | S61: ㎡)( | T61: =H61+N61 -> 0 | Y61: ㎡)
D62: （ | F62: 階) | G62: ( | M62: ㎡)( | S62: ㎡)( | T62: =H62+N62 -> 0 | Y62: ㎡)
D63: （ | F63: 階) | G63: ( | M63: ㎡)( | S63: ㎡)( | T63: =H63+N63 -> 0 | Y63: ㎡)
A64: 【ﾛ.合計】 | G64: ( | H64: =SUM(H53:L63) -> 0 | M64: ㎡)( | N64: =SUM(N53:R63) -> 0 | S64: ㎡)( | T64: =SUM(T53:X63) -> 0 | Y64: ㎡)
A65: 【13.屋根】
A66: 【14.外壁】
A67: 【15.軒裏】
A68: 【16.居室の床の高さ】
A69: 【17.便所の種類】
A70: 【18.その他必要な事項】
A71: 【19.備考】

Sheet 第四面 (8)
N1: （第四面） | P1: ⑧
A2: 建築物別概要
A3: 【1.番号】
A4: 【2.用途】 | D4: (区分 | J4: )
D5: (区分 | J5: )
D6: (区分 | J6: )
D7: (区分 | J7: )
A8: 【3.工事種別】
A9: □ | B9: 新築 | D9: □ | E9: 増築 | G9: □ | H9: 改築 | J9: □ | K9: 移転 | M9: □ | N9: 用途変更 | Q9: □ | R9: 大規模の修繕 | U9: □ | V9: 大規模の模様替
A10: 【4.構造】 | I10: 造 | K10: 一部 | S10: 造
A11: 【5.主要構造部】
B12: □ | C12: 耐火構造
B13: □ | C13: 建築基準法施行令第108条の3第1項第1号ｲ及びﾛに掲げる基準に適合する構造
B14: □ | C14: 準耐火構造
B15: □ | C15: 準耐火構造と同等の準耐火性能を有する構造（ﾛ-1）
B16: □ | C16: 準耐火構造と同等の準耐火性能を有する構造（ﾛ-2）
B17: □ | C17: その他
A18: 【6.建築基準法第21条及び第27条の規定の適用】
B19: □ | C19: 建築基準法施行令第109条の5第1号に掲げる基準に適合する構造
B20: □ | C20: 建築基準法第21条第1項ただし書きに該当する建築物
B21: □ | C21: 建築基準法施行令第110条第1号に掲げる基準に適合する構造
B22: □ | C22: その他
B23: □ | C23: 建築基準法第21条又は第27条の規定の適用を受けない
A24: 【7.建築基準法第61条の規定の適用】
B25: □ | C25: 耐火建築物
B26: □ | C26: 延焼防止建築物
B27: □ | C27: 準耐火建築物
B28: □ | C28: 準延焼防止建築物
B29: □ | C29: その他
B30: □ | C30: 建築基準法第61条の規定の適用を受けない
A31: 【8.階数】
A32: 【ｲ.地階を除く階数】
A33: 【ﾛ.地階の階数】
A34: 【ﾊ.昇降機塔等の階の数】
A35: 【ﾆ.地階の倉庫等の階の数】
A36: 【9.高さ】
A37: 【ｲ.最高の高さ】 | K37: m
A38: 【ﾛ.最高の軒の高さ】 | K38: m
A39: 【10.建築設備の種類】
A40: 【11.確認の特例】
A41: 【ｲ. 建築基準法第6条の3第1項ただし書又は法第18条第4項ただし書の規定による審査の特例の適用の有無】
C42: □ | D42: 有 | F42: □ | G42: 無
A43: 【ﾛ.建築基準法第6条の4第1項の規定による確認の特例の適用の有無】 | S43: □ | T43: 有 | V43: □ | W43: 無
A44: 【ﾊ.建築基準法施行令第10条各号に掲げる建築物の区分】
L45: 第 | S45: 号
A46: 【ﾆ.認定型式の認定番号】 | L46: 第 | S46: 号
A47: 【ﾎ.適合する一連の規定の区分】
B48: □ | C48: 建築基準法施行令第136条の2の11第1号イ
B49: □ | C49: 建築基準法施行令第136条の2の11第1号ロ
A50: 【ﾍ.認証型式部材等の認定番号】
A52: 【12.床面積】 | I52: (申請部分 | M52: )(申請以外の部分 | S52: )(合計 | Y52: )
A53: 【ｲ.階別】 | D53: （ | F53: 階) | G53: ( | M53: ㎡)( | S53: ㎡)( | T53: =H53+N53 -> 0 | Y53: ㎡)
D54: （ | F54: 階) | G54: ( | M54: ㎡)( | S54: ㎡)( | T54: =H54+N54 -> 0 | Y54: ㎡)
D55: （ | F55: 階) | G55: ( | M55: ㎡)( | S55: ㎡)( | T55: =H55+N55 -> 0 | Y55: ㎡)
D56: （ | F56: 階) | G56: ( | M56: ㎡)( | S56: ㎡)( | T56: =H56+N56 -> 0 | Y56: ㎡)
D57: （ | F57: 階) | G57: ( | M57: ㎡)( | S57: ㎡)( | T57: =H57+N57 -> 0 | Y57: ㎡)
D58: （ | F58: 階) | G58: ( | M58: ㎡)( | S58: ㎡)( | T58: =H58+N58 -> 0 | Y58: ㎡)
D59: （ | F59: 階) | G59: ( | M59: ㎡)( | S59: ㎡)( | T59: =H59+N59 -> 0 | Y59: ㎡)
D60: （ | F60: 階) | G60: ( | M60: ㎡)( | S60: ㎡)( | T60: =H60+N60 -> 0 | Y60: ㎡)
D61: （ | F61: 階) | G61: ( | M61: ㎡)( | S61: ㎡)( | T61: =H61+N61 -> 0 | Y61: ㎡)
D62: （ | F62: 階) | G62: ( | M62: ㎡)( | S62: ㎡)( | T62: =H62+N62 -> 0 | Y62: ㎡)
D63: （ | F63: 階) | G63: ( | M63: ㎡)( | S63: ㎡)( | T63: =H63+N63 -> 0 | Y63: ㎡)
A64: 【ﾛ.合計】 | G64: ( | H64: =SUM(H53:L63) -> 0 | M64: ㎡)( | N64: =SUM(N53:R63) -> 0 | S64: ㎡)( | T64: =SUM(T53:X63) -> 0 | Y64: ㎡)
A65: 【13.屋根】
A66: 【14.外壁】
A67: 【15.軒裏】
A68: 【16.居室の床の高さ】
A69: 【17.便所の種類】
A70: 【18.その他必要な事項】
A71: 【19.備考】

Sheet 第四面 (9)
N1: （第四面） | P1: ⑨
A2: 建築物別概要
A3: 【1.番号】
A4: 【2.用途】 | D4: (区分 | J4: )
D5: (区分 | J5: )
D6: (区分 | J6: )
D7: (区分 | J7: )
A8: 【3.工事種別】
A9: □ | B9: 新築 | D9: □ | E9: 増築 | G9: □ | H9: 改築 | J9: □ | K9: 移転 | M9: □ | N9: 用途変更 | Q9: □ | R9: 大規模の修繕 | U9: □ | V9: 大規模の模様替
A10: 【4.構造】 | I10: 造 | K10: 一部 | S10: 造
A11: 【5.主要構造部】
B12: □ | C12: 耐火構造
B13: □ | C13: 建築基準法施行令第108条の3第1項第1号ｲ及びﾛに掲げる基準に適合する構造
B14: □ | C14: 準耐火構造
B15: □ | C15: 準耐火構造と同等の準耐火性能を有する構造（ﾛ-1）
B16: □ | C16: 準耐火構造と同等の準耐火性能を有する構造（ﾛ-2）
B17: □ | C17: その他
A18: 【6.建築基準法第21条及び第27条の規定の適用】
B19: □ | C19: 建築基準法施行令第109条の5第1号に掲げる基準に適合する構造
B20: □ | C20: 建築基準法第21条第1項ただし書きに該当する建築物
B21: □ | C21: 建築基準法施行令第110条第1号に掲げる基準に適合する構造
B22: □ | C22: その他
B23: □ | C23: 建築基準法第21条又は第27条の規定の適用を受けない
A24: 【7.建築基準法第61条の規定の適用】
B25: □ | C25: 耐火建築物
B26: □ | C26: 延焼防止建築物
B27: □ | C27: 準耐火建築物
B28: □ | C28: 準延焼防止建築物
B29: □ | C29: その他
B30: □ | C30: 建築基準法第61条の規定の適用を受けない
A31: 【8.階数】
A32: 【ｲ.地階を除く階数】
A33: 【ﾛ.地階の階数】
A34: 【ﾊ.昇降機塔等の階の数】
A35: 【ﾆ.地階の倉庫等の階の数】
A36: 【9.高さ】
A37: 【ｲ.最高の高さ】 | K37: m
A38: 【ﾛ.最高の軒の高さ】 | K38: m
A39: 【10.建築設備の種類】
A40: 【11.確認の特例】
A41: 【ｲ. 建築基準法第6条の3第1項ただし書又は法第18条第4項ただし書の規定による審査の特例の適用の有無】
C42: □ | D42: 有 | F42: □ | G42: 無
A43: 【ﾛ.建築基準法第6条の4第1項の規定による確認の特例の適用の有無】 | S43: □ | T43: 有 | V43: □ | W43: 無
A44: 【ﾊ.建築基準法施行令第10条各号に掲げる建築物の区分】
L45: 第 | S45: 号
A46: 【ﾆ.認定型式の認定番号】 | L46: 第 | S46: 号
A47: 【ﾎ.適合する一連の規定の区分】
B48: □ | C48: 建築基準法施行令第136条の2の11第1号イ
B49: □ | C49: 建築基準法施行令第136条の2の11第1号ロ
A50: 【ﾍ.認証型式部材等の認定番号】
A52: 【12.床面積】 | I52: (申請部分 | M52: )(申請以外の部分 | S52: )(合計 | Y52: )
A53: 【ｲ.階別】 | D53: （ | F53: 階) | G53: ( | M53: ㎡)( | S53: ㎡)( | T53: =H53+N53 -> 0 | Y53: ㎡)
D54: （ | F54: 階) | G54: ( | M54: ㎡)( | S54: ㎡)( | T54: =H54+N54 -> 0 | Y54: ㎡)
D55: （ | F55: 階) | G55: ( | M55: ㎡)( | S55: ㎡)( | T55: =H55+N55 -> 0 | Y55: ㎡)
D56: （ | F56: 階) | G56: ( | M56: ㎡)( | S56: ㎡)( | T56: =H56+N56 -> 0 | Y56: ㎡)
D57: （ | F57: 階) | G57: ( | M57: ㎡)( | S57: ㎡)( | T57: =H57+N57 -> 0 | Y57: ㎡)
D58: （ | F58: 階) | G58: ( | M58: ㎡)( | S58: ㎡)( | T58: =H58+N58 -> 0 | Y58: ㎡)
D59: （ | F59: 階) | G59: ( | M59: ㎡)( | S59: ㎡)( | T59: =H59+N59 -> 0 | Y59: ㎡)
D60: （ | F60: 階) | G60: ( | M60: ㎡)( | S60: ㎡)( | T60: =H60+N60 -> 0 | Y60: ㎡)
D61: （ | F61: 階) | G61: ( | M61: ㎡)( | S61: ㎡)( | T61: =H61+N61 -> 0 | Y61: ㎡)
D62: （ | F62: 階) | G62: ( | M62: ㎡)( | S62: ㎡)( | T62: =H62+N62 -> 0 | Y62: ㎡)
D63: （ | F63: 階) | G63: ( | M63: ㎡)( | S63: ㎡)( | T63: =H63+N63 -> 0 | Y63: ㎡)
A64: 【ﾛ.合計】 | G64: ( | H64: =SUM(H53:L63) -> 0 | M64: ㎡)( | N64: =SUM(N53:R63) -> 0 | S64: ㎡)( | T64: =SUM(T53:X63) -> 0 | Y64: ㎡)
A65: 【13.屋根】
A66: 【14.外壁】
A67: 【15.軒裏】
A68: 【16.居室の床の高さ】
A69: 【17.便所の種類】
A70: 【18.その他必要な事項】
A71: 【19.備考】

Sheet 第四面 (10)
N1: （第四面） | P1: ⑩
A2: 建築物別概要
A3: 【1.番号】
A4: 【2.用途】 | D4: (区分 | J4: )
D5: (区分 | J5: )
D6: (区分 | J6: )
D7: (区分 | J7: )
A8: 【3.工事種別】
A9: □ | B9: 新築 | D9: □ | E9: 増築 | G9: □ | H9: 改築 | J9: □ | K9: 移転 | M9: □ | N9: 用途変更 | Q9: □ | R9: 大規模の修繕 | U9: □ | V9: 大規模の模様替
A10: 【4.構造】 | I10: 造 | K10: 一部 | S10: 造
A11: 【5.主要構造部】
B12: □ | C12: 耐火構造
B13: □ | C13: 建築基準法施行令第108条の3第1項第1号ｲ及びﾛに掲げる基準に適合する構造
B14: □ | C14: 準耐火構造
B15: □ | C15: 準耐火構造と同等の準耐火性能を有する構造（ﾛ-1）
B16: □ | C16: 準耐火構造と同等の準耐火性能を有する構造（ﾛ-2）
B17: □ | C17: その他
A18: 【6.建築基準法第21条及び第27条の規定の適用】
B19: □ | C19: 建築基準法施行令第109条の5第1号に掲げる基準に適合する構造
B20: □ | C20: 建築基準法第21条第1項ただし書きに該当する建築物
B21: □ | C21: 建築基準法施行令第110条第1号に掲げる基準に適合する構造
B22: □ | C22: その他
B23: □ | C23: 建築基準法第21条又は第27条の規定の適用を受けない
A24: 【7.建築基準法第61条の規定の適用】
B25: □ | C25: 耐火建築物
B26: □ | C26: 延焼防止建築物
B27: □ | C27: 準耐火建築物
B28: □ | C28: 準延焼防止建築物
B29: □ | C29: その他
B30: □ | C30: 建築基準法第61条の規定の適用を受けない
A31: 【8.階数】
A32: 【ｲ.地階を除く階数】
A33: 【ﾛ.地階の階数】
A34: 【ﾊ.昇降機塔等の階の数】
A35: 【ﾆ.地階の倉庫等の階の数】
A36: 【9.高さ】
A37: 【ｲ.最高の高さ】 | K37: m
A38: 【ﾛ.最高の軒の高さ】 | K38: m
A39: 【10.建築設備の種類】
A40: 【11.確認の特例】
A41: 【ｲ. 建築基準法第6条の3第1項ただし書又は法第18条第4項ただし書の規定による審査の特例の適用の有無】
C42: □ | D42: 有 | F42: □ | G42: 無
A43: 【ﾛ.建築基準法第6条の4第1項の規定による確認の特例の適用の有無】 | S43: □ | T43: 有 | V43: □ | W43: 無
A44: 【ﾊ.建築基準法施行令第10条各号に掲げる建築物の区分】
L45: 第 | S45: 号
A46: 【ﾆ.認定型式の認定番号】 | L46: 第 | S46: 号
A47: 【ﾎ.適合する一連の規定の区分】
B48: □ | C48: 建築基準法施行令第136条の2の11第1号イ
B49: □ | C49: 建築基準法施行令第136条の2の11第1号ロ
A50: 【ﾍ.認証型式部材等の認定番号】
A52: 【12.床面積】 | I52: (申請部分 | M52: )(申請以外の部分 | S52: )(合計 | Y52: )
A53: 【ｲ.階別】 | D53: （ | F53: 階) | G53: ( | M53: ㎡)( | S53: ㎡)( | T53: =H53+N53 -> 0 | Y53: ㎡)
D54: （ | F54: 階) | G54: ( | M54: ㎡)( | S54: ㎡)( | T54: =H54+N54 -> 0 | Y54: ㎡)
D55: （ | F55: 階) | G55: ( | M55: ㎡)( | S55: ㎡)( | T55: =H55+N55 -> 0 | Y55: ㎡)
D56: （ | F56: 階) | G56: ( | M56: ㎡)( | S56: ㎡)( | T56: =H56+N56 -> 0 | Y56: ㎡)
D57: （ | F57: 階) | G57: ( | M57: ㎡)( | S57: ㎡)( | T57: =H57+N57 -> 0 | Y57: ㎡)
D58: （ | F58: 階) | G58: ( | M58: ㎡)( | S58: ㎡)( | T58: =H58+N58 -> 0 | Y58: ㎡)
D59: （ | F59: 階) | G59: ( | M59: ㎡)( | S59: ㎡)( | T59: =H59+N59 -> 0 | Y59: ㎡)
D60: （ | F60: 階) | G60: ( | M60: ㎡)( | S60: ㎡)( | T60: =H60+N60 -> 0 | Y60: ㎡)
D61: （ | F61: 階) | G61: ( | M61: ㎡)( | S61: ㎡)( | T61: =H61+N61 -> 0 | Y61: ㎡)
D62: （ | F62: 階) | G62: ( | M62: ㎡)( | S62: ㎡)( | T62: =H62+N62 -> 0 | Y62: ㎡)
D63: （ | F63: 階) | G63: ( | M63: ㎡)( | S63: ㎡)( | T63: =H63+N63 -> 0 | Y63: ㎡)
A64: 【ﾛ.合計】 | G64: ( | H64: =SUM(H53:L63) -> 0 | M64: ㎡)( | N64: =SUM(N53:R63) -> 0 | S64: ㎡)( | T64: =SUM(T53:X63) -> 0 | Y64: ㎡)
A65: 【13.屋根】
A66: 【14.外壁】
A67: 【15.軒裏】
A68: 【16.居室の床の高さ】
A69: 【17.便所の種類】
A70: 【18.その他必要な事項】
A71: 【19.備考】

Sheet 第四面 (11)
N1: （第四面） | P1: ⑪
A2: 建築物別概要
A3: 【1.番号】
A4: 【2.用途】 | D4: (区分 | J4: )
D5: (区分 | J5: )
D6: (区分 | J6: )
D7: (区分 | J7: )
A8: 【3.工事種別】
A9: □ | B9: 新築 | D9: □ | E9: 増築 | G9: □ | H9: 改築 | J9: □ | K9: 移転 | M9: □ | N9: 用途変更 | Q9: □ | R9: 大規模の修繕 | U9: □ | V9: 大規模の模様替
A10: 【4.構造】 | I10: 造 | K10: 一部 | S10: 造
A11: 【5.主要構造部】
B12: □ | C12: 耐火構造
B13: □ | C13: 建築基準法施行令第108条の3第1項第1号ｲ及びﾛに掲げる基準に適合する構造
B14: □ | C14: 準耐火構造
B15: □ | C15: 準耐火構造と同等の準耐火性能を有する構造（ﾛ-1）
B16: □ | C16: 準耐火構造と同等の準耐火性能を有する構造（ﾛ-2）
B17: □ | C17: その他
A18: 【6.建築基準法第21条及び第27条の規定の適用】
B19: □ | C19: 建築基準法施行令第109条の5第1号に掲げる基準に適合する構造
B20: □ | C20: 建築基準法第21条第1項ただし書きに該当する建築物
B21: □ | C21: 建築基準法施行令第110条第1号に掲げる基準に適合する構造
B22: □ | C22: その他
B23: □ | C23: 建築基準法第21条又は第27条の規定の適用を受けない
A24: 【7.建築基準法第61条の規定の適用】
B25: □ | C25: 耐火建築物
B26: □ | C26: 延焼防止建築物
B27: □ | C27: 準耐火建築物
B28: □ | C28: 準延焼防止建築物
B29: □ | C29: その他
B30: □ | C30: 建築基準法第61条の規定の適用を受けない
A31: 【8.階数】
A32: 【ｲ.地階を除く階数】
A33: 【ﾛ.地階の階数】
A34: 【ﾊ.昇降機塔等の階の数】
A35: 【ﾆ.地階の倉庫等の階の数】
A36: 【9.高さ】
A37: 【ｲ.最高の高さ】 | K37: m
A38: 【ﾛ.最高の軒の高さ】 | K38: m
A39: 【10.建築設備の種類】
A40: 【11.確認の特例】
A41: 【ｲ. 建築基準法第6条の3第1項ただし書又は法第18条第4項ただし書の規定による審査の特例の適用の有無】
C42: □ | D42: 有 | F42: □ | G42: 無
A43: 【ﾛ.建築基準法第6条の4第1項の規定による確認の特例の適用の有無】 | S43: □ | T43: 有 | V43: □ | W43: 無
A44: 【ﾊ.建築基準法施行令第10条各号に掲げる建築物の区分】
L45: 第 | S45: 号
A46: 【ﾆ.認定型式の認定番号】 | L46: 第 | S46: 号
A47: 【ﾎ.適合する一連の規定の区分】
B48: □ | C48: 建築基準法施行令第136条の2の11第1号イ
B49: □ | C49: 建築基準法施行令第136条の2の11第1号ロ
A50: 【ﾍ.認証型式部材等の認定番号】
A52: 【12.床面積】 | I52: (申請部分 | M52: )(申請以外の部分 | S52: )(合計 | Y52: )
A53: 【ｲ.階別】 | D53: （ | F53: 階) | G53: ( | M53: ㎡)( | S53: ㎡)( | T53: =H53+N53 -> 0 | Y53: ㎡)
D54: （ | F54: 階) | G54: ( | M54: ㎡)( | S54: ㎡)( | T54: =H54+N54 -> 0 | Y54: ㎡)
D55: （ | F55: 階) | G55: ( | M55: ㎡)( | S55: ㎡)( | T55: =H55+N55 -> 0 | Y55: ㎡)
D56: （ | F56: 階) | G56: ( | M56: ㎡)( | S56: ㎡)( | T56: =H56+N56 -> 0 | Y56: ㎡)
D57: （ | F57: 階) | G57: ( | M57: ㎡)( | S57: ㎡)( | T57: =H57+N57 -> 0 | Y57: ㎡)
D58: （ | F58: 階) | G58: ( | M58: ㎡)( | S58: ㎡)( | T58: =H58+N58 -> 0 | Y58: ㎡)
D59: （ | F59: 階) | G59: ( | M59: ㎡)( | S59: ㎡)( | T59: =H59+N59 -> 0 | Y59: ㎡)
D60: （ | F60: 階) | G60: ( | M60: ㎡)( | S60: ㎡)( | T60: =H60+N60 -> 0 | Y60: ㎡)
D61: （ | F61: 階) | G61: ( | M61: ㎡)( | S61: ㎡)( | T61: =H61+N61 -> 0 | Y61: ㎡)
D62: （ | F62: 階) | G62: ( | M62: ㎡)( | S62: ㎡)( | T62: =H62+N62 -> 0 | Y62: ㎡)
D63: （ | F63: 階) | G63: ( | M63: ㎡)( | S63: ㎡)( | T63: =H63+N63 -> 0 | Y63: ㎡)
A64: 【ﾛ.合計】 | G64: ( | H64: =SUM(H53:L63) -> 0 | M64: ㎡)( | N64: =SUM(N53:R63) -> 0 | S64: ㎡)( | T64: =SUM(T53:X63) -> 0 | Y64: ㎡)
A65: 【13.屋根】
A66: 【14.外壁】
A67: 【15.軒裏】
A68: 【16.居室の床の高さ】
A69: 【17.便所の種類】
A70: 【18.その他必要な事項】
A71: 【19.備考】

Sheet 第四面 (12)
N1: （第四面） | P1: ⑫
A2: 建築物別概要
A3: 【1.番号】
A4: 【2.用途】 | D4: (区分 | J4: )
D5: (区分 | J5: )
D6: (区分 | J6: )
D7: (区分 | J7: )
A8: 【3.工事種別】
A9: □ | B9: 新築 | D9: □ | E9: 増築 | G9: □ | H9: 改築 | J9: □ | K9: 移転 | M9: □ | N9: 用途変更 | Q9: □ | R9: 大規模の修繕 | U9: □ | V9: 大規模の模様替
A10: 【4.構造】 | I10: 造 | K10: 一部 | S10: 造
A11: 【5.主要構造部】
B12: □ | C12: 耐火構造
B13: □ | C13: 建築基準法施行令第108条の3第1項第1号ｲ及びﾛに掲げる基準に適合する構造
B14: □ | C14: 準耐火構造
B15: □ | C15: 準耐火構造と同等の準耐火性能を有する構造（ﾛ-1）
B16: □ | C16: 準耐火構造と同等の準耐火性能を有する構造（ﾛ-2）
B17: □ | C17: その他
A18: 【6.建築基準法第21条及び第27条の規定の適用】
B19: □ | C19: 建築基準法施行令第109条の5第1号に掲げる基準に適合する構造
B20: □ | C20: 建築基準法第21条第1項ただし書きに該当する建築物
B21: □ | C21: 建築基準法施行令第110条第1号に掲げる基準に適合する構造
B22: □ | C22: その他
B23: □ | C23: 建築基準法第21条又は第27条の規定の適用を受けない
A24: 【7.建築基準法第61条の規定の適用】
B25: □ | C25: 耐火建築物
B26: □ | C26: 延焼防止建築物
B27: □ | C27: 準耐火建築物
B28: □ | C28: 準延焼防止建築物
B29: □ | C29: その他
B30: □ | C30: 建築基準法第61条の規定の適用を受けない
A31: 【8.階数】
A32: 【ｲ.地階を除く階数】
A33: 【ﾛ.地階の階数】
A34: 【ﾊ.昇降機塔等の階の数】
A35: 【ﾆ.地階の倉庫等の階の数】
A36: 【9.高さ】
A37: 【ｲ.最高の高さ】 | K37: m
A38: 【ﾛ.最高の軒の高さ】 | K38: m
A39: 【10.建築設備の種類】
A40: 【11.確認の特例】
A41: 【ｲ. 建築基準法第6条の3第1項ただし書又は法第18条第4項ただし書の規定による審査の特例の適用の有無】
C42: □ | D42: 有 | F42: □ | G42: 無
A43: 【ﾛ.建築基準法第6条の4第1項の規定による確認の特例の適用の有無】 | S43: □ | T43: 有 | V43: □ | W43: 無
A44: 【ﾊ.建築基準法施行令第10条各号に掲げる建築物の区分】
L45: 第 | S45: 号
A46: 【ﾆ.認定型式の認定番号】 | L46: 第 | S46: 号
A47: 【ﾎ.適合する一連の規定の区分】
B48: □ | C48: 建築基準法施行令第136条の2の11第1号イ
B49: □ | C49: 建築基準法施行令第136条の2の11第1号ロ
A50: 【ﾍ.認証型式部材等の認定番号】
A52: 【12.床面積】 | I52: (申請部分 | M52: )(申請以外の部分 | S52: )(合計 | Y52: )
A53: 【ｲ.階別】 | D53: （ | F53: 階) | G53: ( | M53: ㎡)( | S53: ㎡)( | T53: =H53+N53 -> 0 | Y53: ㎡)
D54: （ | F54: 階) | G54: ( | M54: ㎡)( | S54: ㎡)( | T54: =H54+N54 -> 0 | Y54: ㎡)
D55: （ | F55: 階) | G55: ( | M55: ㎡)( | S55: ㎡)( | T55: =H55+N55 -> 0 | Y55: ㎡)
D56: （ | F56: 階) | G56: ( | M56: ㎡)( | S56: ㎡)( | T56: =H56+N56 -> 0 | Y56: ㎡)
D57: （ | F57: 階) | G57: ( | M57: ㎡)( | S57: ㎡)( | T57: =H57+N57 -> 0 | Y57: ㎡)
D58: （ | F58: 階) | G58: ( | M58: ㎡)( | S58: ㎡)( | T58: =H58+N58 -> 0 | Y58: ㎡)
D59: （ | F59: 階) | G59: ( | M59: ㎡)( | S59: ㎡)( | T59: =H59+N59 -> 0 | Y59: ㎡)
D60: （ | F60: 階) | G60: ( | M60: ㎡)( | S60: ㎡)( | T60: =H60+N60 -> 0 | Y60: ㎡)
D61: （ | F61: 階) | G61: ( | M61: ㎡)( | S61: ㎡)( | T61: =H61+N61 -> 0 | Y61: ㎡)
D62: （ | F62: 階) | G62: ( | M62: ㎡)( | S62: ㎡)( | T62: =H62+N62 -> 0 | Y62: ㎡)
D63: （ | F63: 階) | G63: ( | M63: ㎡)( | S63: ㎡)( | T63: =H63+N63 -> 0 | Y63: ㎡)
A64: 【ﾛ.合計】 | G64: ( | H64: =SUM(H53:L63) -> 0 | M64: ㎡)( | N64: =SUM(N53:R63) -> 0 | S64: ㎡)( | T64: =SUM(T53:X63) -> 0 | Y64: ㎡)
A65: 【13.屋根】
A66: 【14.外壁】
A67: 【15.軒裏】
A68: 【16.居室の床の高さ】
A69: 【17.便所の種類】
A70: 【18.その他必要な事項】
A71: 【19.備考】

Sheet 第四面 (13)
N1: （第四面） | P1: ⑬
A2: 建築物別概要
A3: 【1.番号】
A4: 【2.用途】 | D4: (区分 | J4: )
D5: (区分 | J5: )
D6: (区分 | J6: )
D7: (区分 | J7: )
A8: 【3.工事種別】
A9: □ | B9: 新築 | D9: □ | E9: 増築 | G9: □ | H9: 改築 | J9: □ | K9: 移転 | M9: □ | N9: 用途変更 | Q9: □ | R9: 大規模の修繕 | U9: □ | V9: 大規模の模様替
A10: 【4.構造】 | I10: 造 | K10: 一部 | S10: 造
A11: 【5.主要構造部】
B12: □ | C12: 耐火構造
B13: □ | C13: 建築基準法施行令第108条の3第1項第1号ｲ及びﾛに掲げる基準に適合する構造
B14: □ | C14: 準耐火構造
B15: □ | C15: 準耐火構造と同等の準耐火性能を有する構造（ﾛ-1）
B16: □ | C16: 準耐火構造と同等の準耐火性能を有する構造（ﾛ-2）
B17: □ | C17: その他
A18: 【6.建築基準法第21条及び第27条の規定の適用】
B19: □ | C19: 建築基準法施行令第109条の5第1号に掲げる基準に適合する構造
B20: □ | C20: 建築基準法第21条第1項ただし書きに該当する建築物
B21: □ | C21: 建築基準法施行令第110条第1号に掲げる基準に適合する構造
B22: □ | C22: その他
B23: □ | C23: 建築基準法第21条又は第27条の規定の適用を受けない
A24: 【7.建築基準法第61条の規定の適用】
B25: □ | C25: 耐火建築物
B26: □ | C26: 延焼防止建築物
B27: □ | C27: 準耐火建築物
B28: □ | C28: 準延焼防止建築物
B29: □ | C29: その他
B30: □ | C30: 建築基準法第61条の規定の適用を受けない
A31: 【8.階数】
A32: 【ｲ.地階を除く階数】
A33: 【ﾛ.地階の階数】
A34: 【ﾊ.昇降機塔等の階の数】
A35: 【ﾆ.地階の倉庫等の階の数】
A36: 【9.高さ】
A37: 【ｲ.最高の高さ】 | K37: m
A38: 【ﾛ.最高の軒の高さ】 | K38: m
A39: 【10.建築設備の種類】
A40: 【11.確認の特例】
A41: 【ｲ. 建築基準法第6条の3第1項ただし書又は法第18条第4項ただし書の規定による審査の特例の適用の有無】
C42: □ | D42: 有 | F42: □ | G42: 無
A43: 【ﾛ.建築基準法第6条の4第1項の規定による確認の特例の適用の有無】 | S43: □ | T43: 有 | V43: □ | W43: 無
A44: 【ﾊ.建築基準法施行令第10条各号に掲げる建築物の区分】
L45: 第 | S45: 号
A46: 【ﾆ.認定型式の認定番号】 | L46: 第 | S46: 号
A47: 【ﾎ.適合する一連の規定の区分】
B48: □ | C48: 建築基準法施行令第136条の2の11第1号イ
B49: □ | C49: 建築基準法施行令第136条の2の11第1号ロ
A50: 【ﾍ.認証型式部材等の認定番号】
A52: 【12.床面積】 | I52: (申請部分 | M52: )(申請以外の部分 | S52: )(合計 | Y52: )
A53: 【ｲ.階別】 | D53: （ | F53: 階) | G53: ( | M53: ㎡)( | S53: ㎡)( | T53: =H53+N53 -> 0 | Y53: ㎡)
D54: （ | F54: 階) | G54: ( | M54: ㎡)( | S54: ㎡)( | T54: =H54+N54 -> 0 | Y54: ㎡)
D55: （ | F55: 階) | G55: ( | M55: ㎡)( | S55: ㎡)( | T55: =H55+N55 -> 0 | Y55: ㎡)
D56: （ | F56: 階) | G56: ( | M56: ㎡)( | S56: ㎡)( | T56: =H56+N56 -> 0 | Y56: ㎡)
D57: （ | F57: 階) | G57: ( | M57: ㎡)( | S57: ㎡)( | T57: =H57+N57 -> 0 | Y57: ㎡)
D58: （ | F58: 階) | G58: ( | M58: ㎡)( | S58: ㎡)( | T58: =H58+N58 -> 0 | Y58: ㎡)
D59: （ | F59: 階) | G59: ( | M59: ㎡)( | S59: ㎡)( | T59: =H59+N59 -> 0 | Y59: ㎡)
D60: （ | F60: 階) | G60: ( | M60: ㎡)( | S60: ㎡)( | T60: =H60+N60 -> 0 | Y60: ㎡)
D61: （ | F61: 階) | G61: ( | M61: ㎡)( | S61: ㎡)( | T61: =H61+N61 -> 0 | Y61: ㎡)
D62: （ | F62: 階) | G62: ( | M62: ㎡)( | S62: ㎡)( | T62: =H62+N62 -> 0 | Y62: ㎡)
D63: （ | F63: 階) | G63: ( | M63: ㎡)( | S63: ㎡)( | T63: =H63+N63 -> 0 | Y63: ㎡)
A64: 【ﾛ.合計】 | G64: ( | H64: =SUM(H53:L63) -> 0 | M64: ㎡)( | N64: =SUM(N53:R63) -> 0 | S64: ㎡)( | T64: =SUM(T53:X63) -> 0 | Y64: ㎡)
A65: 【13.屋根】
A66: 【14.外壁】
A67: 【15.軒裏】
A68: 【16.居室の床の高さ】
A69: 【17.便所の種類】
A70: 【18.その他必要な事項】
A71: 【19.備考】

Sheet 第四面 (14)
N1: （第四面） | P1: ⑭
A2: 建築物別概要
A3: 【1.番号】
A4: 【2.用途】 | D4: (区分 | J4: )
D5: (区分 | J5: )
D6: (区分 | J6: )
D7: (区分 | J7: )
A8: 【3.工事種別】
A9: □ | B9: 新築 | D9: □ | E9: 増築 | G9: □ | H9: 改築 | J9: □ | K9: 移転 | M9: □ | N9: 用途変更 | Q9: □ | R9: 大規模の修繕 | U9: □ | V9: 大規模の模様替
A10: 【4.構造】 | I10: 造 | K10: 一部 | S10: 造
A11: 【5.主要構造部】
B12: □ | C12: 耐火構造
B13: □ | C13: 建築基準法施行令第108条の3第1項第1号ｲ及びﾛに掲げる基準に適合する構造
B14: □ | C14: 準耐火構造
B15: □ | C15: 準耐火構造と同等の準耐火性能を有する構造（ﾛ-1）
B16: □ | C16: 準耐火構造と同等の準耐火性能を有する構造（ﾛ-2）
B17: □ | C17: その他
A18: 【6.建築基準法第21条及び第27条の規定の適用】
B19: □ | C19: 建築基準法施行令第109条の5第1号に掲げる基準に適合する構造
B20: □ | C20: 建築基準法第21条第1項ただし書きに該当する建築物
B21: □ | C21: 建築基準法施行令第110条第1号に掲げる基準に適合する構造
B22: □ | C22: その他
B23: □ | C23: 建築基準法第21条又は第27条の規定の適用を受けない
A24: 【7.建築基準法第61条の規定の適用】
B25: □ | C25: 耐火建築物
B26: □ | C26: 延焼防止建築物
B27: □ | C27: 準耐火建築物
B28: □ | C28: 準延焼防止建築物
B29: □ | C29: その他
B30: □ | C30: 建築基準法第61条の規定の適用を受けない
A31: 【8.階数】
A32: 【ｲ.地階を除く階数】
A33: 【ﾛ.地階の階数】
A34: 【ﾊ.昇降機塔等の階の数】
A35: 【ﾆ.地階の倉庫等の階の数】
A36: 【9.高さ】
A37: 【ｲ.最高の高さ】 | K37: m
A38: 【ﾛ.最高の軒の高さ】 | K38: m
A39: 【10.建築設備の種類】
A40: 【11.確認の特例】
A41: 【ｲ. 建築基準法第6条の3第1項ただし書又は法第18条第4項ただし書の規定による審査の特例の適用の有無】
C42: □ | D42: 有 | F42: □ | G42: 無
A43: 【ﾛ.建築基準法第6条の4第1項の規定による確認の特例の適用の有無】 | S43: □ | T43: 有 | V43: □ | W43: 無
A44: 【ﾊ.建築基準法施行令第10条各号に掲げる建築物の区分】
L45: 第 | S45: 号
A46: 【ﾆ.認定型式の認定番号】 | L46: 第 | S46: 号
A47: 【ﾎ.適合する一連の規定の区分】
B48: □ | C48: 建築基準法施行令第136条の2の11第1号イ
B49: □ | C49: 建築基準法施行令第136条の2の11第1号ロ
A50: 【ﾍ.認証型式部材等の認定番号】
A52: 【12.床面積】 | I52: (申請部分 | M52: )(申請以外の部分 | S52: )(合計 | Y52: )
A53: 【ｲ.階別】 | D53: （ | F53: 階) | G53: ( | M53: ㎡)( | S53: ㎡)( | T53: =H53+N53 -> 0 | Y53: ㎡)
D54: （ | F54: 階) | G54: ( | M54: ㎡)( | S54: ㎡)( | T54: =H54+N54 -> 0 | Y54: ㎡)
D55: （ | F55: 階) | G55: ( | M55: ㎡)( | S55: ㎡)( | T55: =H55+N55 -> 0 | Y55: ㎡)
D56: （ | F56: 階) | G56: ( | M56: ㎡)( | S56: ㎡)( | T56: =H56+N56 -> 0 | Y56: ㎡)
D57: （ | F57: 階) | G57: ( | M57: ㎡)( | S57: ㎡)( | T57: =H57+N57 -> 0 | Y57: ㎡)
D58: （ | F58: 階) | G58: ( | M58: ㎡)( | S58: ㎡)( | T58: =H58+N58 -> 0 | Y58: ㎡)
D59: （ | F59: 階) | G59: ( | M59: ㎡)( | S59: ㎡)( | T59: =H59+N59 -> 0 | Y59: ㎡)
D60: （ | F60: 階) | G60: ( | M60: ㎡)( | S60: ㎡)( | T60: =H60+N60 -> 0 | Y60: ㎡)
D61: （ | F61: 階) | G61: ( | M61: ㎡)( | S61: ㎡)( | T61: =H61+N61 -> 0 | Y61: ㎡)
D62: （ | F62: 階) | G62: ( | M62: ㎡)( | S62: ㎡)( | T62: =H62+N62 -> 0 | Y62: ㎡)
D63: （ | F63: 階) | G63: ( | M63: ㎡)( | S63: ㎡)( | T63: =H63+N63 -> 0 | Y63: ㎡)
A64: 【ﾛ.合計】 | G64: ( | H64: =SUM(H53:L63) -> 0 | M64: ㎡)( | N64: =SUM(N53:R63) -> 0 | S64: ㎡)( | T64: =SUM(T53:X63) -> 0 | Y64: ㎡)
A65: 【13.屋根】
A66: 【14.外壁】
A67: 【15.軒裏】
A68: 【16.居室の床の高さ】
A69: 【17.便所の種類】
A70: 【18.その他必要な事項】
A71: 【19.備考】

Sheet 第四面 (15)
N1: （第四面） | P1: ⑮
A2: 建築物別概要
A3: 【1.番号】
A4: 【2.用途】 | D4: (区分 | J4: )
D5: (区分 | J5: )
D6: (区分 | J6: )
D7: (区分 | J7: )
