Workbook

Sheet 転送用シート
AQ1: hensho_2_001 | AR1: hensho_2_002 | AS1: hensho_2_003 | AT1: hensho_2_004 | AU1: hensho_2_005 | AV1: hensho_2_006 | AW1: hensho_2_007 | AX1: hensho_2_008 | AY1: hensho_2_009 | AZ1: hensho_2_010 | BA1: hensho_2_011 | BB1: hensho_2_012 | BC1: hensho_2_013 | BD1: hensho_2_014 | BE1: hensho_2_015 | BF1: hensho_2_016 | BG1: hensho_2_017 | BH1: hensho_2_018 | BI1: hensho_2_019 | BJ1: hensho_2_020 | BK1: hensho_2_021 | BL1: hensho_2_022 | BM1: hensho_2_023 | BN1: hensho_2_024 | BO1: hensho_2_025 | BP1: hensho_2_026 | BQ1: hensho_2_027 | BR1: hensho_2_028 | BS1: hensho_2_029 | BT1: hensho_2_030 | BU1: hensho_2_031 | BV1: hensho_2_032 | BW1: hensho_2_033 | BX1: hensho_2_034 | BY1: hensho_2_035 | BZ1: hensho_2_036 | CA1: hensho_2_037 | CB1: hensho_2_038 | CC1: hensho_2_039 | CD1: hensho_2_040 | CE1: hensho_2_041 | CF1: hensho_2_042 | CG1: hensho_2_043 | CH1: hensho_2_044 | CI1: hensho_2_045 | CJ1: hensho_2_046 | CK1: hensho_2_047 | CL1: hensho_2_048 | CM1: hensho_2_049 | CN1: hensho_2_050 | CO1: hensho_2_051 | CP1: hensho_2_052 | CQ1: hensho_2_053 | CR1: hensho_2_054 | CS1: hensho_2_055 | CT1: hensho_2_056 | CU1: hensho_2_057 | CV1: hensho_2_058 | CW1: hensho_2_059 | CX1: hensho_2_060 | CY1: hensho_2_061 | CZ1: hensho_2_062 | DA1: hensho_2_063 | DB1: hensho_2_064 | DC1: hensho_2_065 | DD1: hensho_2_066
B2: 手続種別 | C2: 手続主体 | D2: 区分 | E2: 申請内容 | F2: 申請対象 | G2: 手数料支払方法 | H2: データ登録会社名 | I2: 手続き担当者 | J2: 連絡先電話番号 | K2: 連絡先E-Mail | L2: 物件所在地エリア | M2: 物件所在地市町村 | N2: 建築主氏名 | O2: 地名地番 | P2: 主要用途 | Q2: 延べ面積 | R2: 申請先 | S2: 申請方法 | T2: 状態 | U2: 申請ID | V2: データ登録年月日 | W2: 受付番号 | X2: 受理（申請）年月日 | Y2: 処分番号 | Z2: 処分年月日 | AA2: 処分通知 | AB2: 副本返却年月日 | AC2: 報告者 | AD2: 報告番号 | AE2: 審査・検査の結果 | AF2: 確認検査員氏名 | AG2: 確認証等番号 | AH2: 確認証等交付日 | AI2: 構造計算判定結果 | AJ2: 構造計算通知番号 | AK2: 構造計算通知交付日 | AL2: 構造計算通知交付者 | AM2: 検査引受日 | AN2: 特記事項 | AO2: 建築計画概要書第三面ファイル名 | AP2: 紐付け申請の確認済証等の番号（処分番号） | AQ2: 第2面:設置者／イ．氏名のフリガナ | AR2: 第2面:設置者／ロ．氏名 | AS2: 第2面:設置者／ハ．郵便番号 | AT2: 第2面:設置者／ニ．住所 | AU2: 第2面:設置者／ホ．電話番号 | AV2: 第2面:代理者／イ．資格（種別） | AW2: 第2面:代理者／イ．資格（登録先） | AX2: 第2面:代理者／イ．資格（番号） | AY2: 第2面:代理者／ロ．氏名 | AZ2: 第2面:代理者／ハ．建築士事務所名（種別） | BA2: 第2面:代理者／ハ．建築士事務所名（登録） | BB2: 第2面:代理者／ハ．建築士事務所名（番号） | BC2: 第2面:代理者／ハ．建築士事務所名（名称） | BD2: 第2面:代理者／ニ．郵便番号 | BE2: 第2面:代理者／ホ．所在地 | BF2: 第2面:代理者／ヘ．電話番号 | BG2: 第2面:設計者（代表となる設計者）／イ．資格（種別） | BH2: 第2面:設計者（代表となる設計者）／イ．資格（登録先） | BI2: 第2面:設計者（代表となる設計者）／イ．資格（番号） | BJ2: 第2面:設計者（代表となる設計者）／ロ．氏名 | BK2: 第2面:設計者（代表となる設計者）／ハ．建築士事務所名（種別） | BL2: 第2面:設計者（代表となる設計者）／ハ．建築士事務所名（登録） | BM2: 第2面:設計者（代表となる設計者）／ハ．建築士事務所名（番号） | BN2: 第2面:設計者（代表となる設計者）／ハ．建築士事務所名（名称） | BO2: 第2面:設計者（代表となる設計者）／ニ．郵便番号 | BP2: 第2面:設計者（代表となる設計者）／ホ．所在地 | BQ2: 第2面:設計者（代表となる設計者）／ヘ．電話番号 | BR2: 第2面:設計者（代表となる設計者）／ト．作成した設計図書 | BS2: 第2面:その他の設計者／イ．資格（種別） | BT2: 第2面:その他の設計者／イ．資格（登録先） | BU2: 第2面:その他の設計者／イ．資格（番号） | BV2: 第2面:その他の設計者／ロ．氏名 | BW2: 第2面:その他の設計者／ハ．建築士事務所名（種別） | BX2: 第2面:その他の設計者／ハ．建築士事務所名（登録） | BY2: 第2面:その他の設計者／ハ．建築士事務所名（番号） | BZ2: 第2面:その他の設計者／ハ．建築士事務所名（名称） | CA2: 第2面:その他の設計者／ニ．郵便番号 | CB2: 第2面:その他の設計者／ホ．所在地 | CC2: 第2面:その他の設計者／ヘ．電話番号 | CD2: 第2面:その他の設計者／ト．作成した設計図書 | CE2: 第2面:工事施工者／イ．氏名 | CF2: 第2面:工事施工者／ロ．営業所名（登録） | CG2: 第2面:工事施工者／ロ．営業所名（番号） | CH2: 第2面:工事施工者／ロ．営業所名（名称） | CI2: 第2面:工事施工者／ハ．郵便番号 | CJ2: 第2面:工事施工者／ニ．所在地 | CK2: 第2面:工事施工者／ホ．電話番号 | CL2: 第2面:設置する建築物又は工作物／イ．所在地 | CM2: 第2面:設置する建築物又は工作物／ロ．名称のフリガナ | CN2: 第2面:設置する建築物又は工作物／ハ．名称 | CO2: 第2面:設置する建築物又は工作物／ニ．用途 | CP2: 第2面:昇降機の概要／イ．種別 | CQ2: 第2面:昇降機の概要／ロ．用途 | CR2: 第2面:昇降機の概要／ハ．積載荷重 | CS2: 第2面:昇降機の概要／ニ．最大定員 | CT2: 第2面:昇降機の概要／ホ．定格速度 | CU2: 第2面:昇降機の概要／ヘ．その他必要な事項 | CV2: 第2面:工事着手予定年月日／ | CW2: 第2面:工事完了予定年月日／ | CX2: 第2面:特定工程工事終了予定年月日／回数 | CY2: 第2面:特定工程工事終了予定年月日／年月日 | CZ2: 第2面:特定工程工事終了予定年月日／特定工程（内容） | DA2: 第2面:特定工程工事終了予定年月日／回数 | DB2: 第2面:特定工程工事終了予定年月日／年月日 | DC2: 第2面:特定工程工事終了予定年月日／特定工程（内容） | DD2: 第2面:備考／
A3: v1 | AQ3: =第二面!G4&"" -> 2_1 | AR3: =第二面!G5&"" -> 2_2 | AS3: =第二面!G6&"" -> 2_3 | AT3: =第二面!G7&"" -> 2_4 | AU3: =第二面!G8&"" -> 2_5 | AV3: =第二面!E10&"" -> 2_6 | AW3: =第二面!M10&"" -> 2_7 | AX3: =第二面!T10&"" -> 2_8 | AY3: =第二面!E11&"" -> 2_9 | AZ3: =第二面!H12&"" -> 2_10 | BA3: =第二面!N12&"" -> 2_11 | BB3: =第二面!U12&"" -> 2_12 | BC3: =第二面!E13&"" -> 2_13 | BD3: =第二面!F14&"" -> 2_14 | BE3: =第二面!F15&"" -> 2_15 | BF3: =第二面!F17&"" -> 2_16 | BG3: =第二面!E20&"" -> 2_17 | BH3: =第二面!M20&"" -> 2_18 | BI3: =第二面!T20&"" -> 2_19 | BJ3: =第二面!E21&"" -> 2_20 | BK3: =第二面!H22&"" -> 2_21 | BL3: =第二面!N22&"" -> 2_22 | BM3: =第二面!U22&"" -> 2_23 | BN3: =第二面!E23&"" -> 2_24 | BO3: =第二面!F24&"" -> 2_25 | BP3: =第二面!F25&"" -> 2_26 | BQ3: =第二面!F27&"" -> 2_27 | BR3: =第二面!J28&"" -> 2_28 | BS3: =第二面!E30&"" -> 2_29 | BT3: =第二面!M30&"" -> 2_30 | BU3: =第二面!T30&"" -> 2_31 | BV3: =第二面!E31&"" -> 2_32 | BW3: =第二面!H32&"" -> 2_33 | BX3: =第二面!N32&"" -> 2_34 | BY3: =第二面!U32&"" -> 2_35 | BZ3: =第二面!E33&"" -> 2_36 | CA3: =第二面!F34&"" -> 2_37 | CB3: =第二面!F35&"" -> 2_38 | CC3: =第二面!F37&"" -> 2_39 | CD3: =第二面!J38&"" -> 2_40 | CE3: =第二面!E61&"" -> 2_65 | CF3: =第二面!I62&"" -> 2_66 | CG3: =第二面!P62&"" -> 2_67 | CH3: =第二面!E63&"" -> 2_68 | CI3: =第二面!F64&"" -> 2_69 | CJ3: =第二面!F65&"" -> 2_70 | CK3: =第二面!F67&"" -> 2_71 | CL3: =第二面!F71&"" -> 2_72 | CM3: =第二面!G73&"" -> 2_73 | CN3: =第二面!G74&"" -> 2_74 | CO3: =第二面!G75&"" -> 2_75 | CP3: =第二面!H79&"" -> 2_76 | CQ3: =第二面!H80&"" -> 2_77 | CR3: =第二面!I81&"" -> 2_78 | CS3: =第二面!I82&"" -> 2_79 | CT3: =第二面!I83&"" -> 2_80 | CU3: =第二面!H84&"" -> 2_81 | CV3: =IF(ISERROR(CV4),"",CV4) -> 45385 | CW3: =IF(ISERROR(CW4),"",CW4) -> 45386 | CX3: =第二面!C94&"" -> 82 | CY3: =IF(ISERROR(CY4),"",CY4) -> 45387 | CZ3: =第二面!O94&"" -> 2_83 | DA3: =第二面!C95&"" -> 84 | DB3: =IF(ISERROR(DB4),"",DB4) -> 45388 | DC3: =第二面!O95&"" -> 2_85 | DD3: =第二面!B99 -> 2_86
AQ4: ='第二面 (設置者追加)'!G4&"" -> 3_1 | AR4: ='第二面 (設置者追加)'!G5&"" -> 3_2 | AS4: ='第二面 (設置者追加)'!G6&"" -> 3_3 | AT4: ='第二面 (設置者追加)'!G7&"" -> 3_4 | AU4: ='第二面 (設置者追加)'!G8&"" -> 3_5 | BS4: =第二面!E40&"" -> 2_41 | BT4: =第二面!M40&"" -> 2_42 | BU4: =第二面!T40&"" -> 2_43 | BV4: =第二面!E41&"" -> 2_44 | BW4: =第二面!H42&"" -> 2_45 | BX4: =第二面!N42&"" -> 2_46 | BY4: =第二面!U42&"" -> 2_47 | BZ4: =第二面!E43&"" -> 2_48 | CA4: =第二面!F44&"" -> 2_49 | CB4: =第二面!F45&"" -> 2_50 | CC4: =第二面!F47&"" -> 2_51 | CD4: =第二面!J48&"" -> 2_52 | CE4: ='第二面 (工事施工者追加)'!E4&"" -> 5_1 | CF4: ='第二面 (工事施工者追加)'!I5&"" -> 5_2 | CG4: ='第二面 (工事施工者追加)'!P5&"" -> 5_3 | CH4: ='第二面 (工事施工者追加)'!E6&"" -> 5_4 | CI4: ='第二面 (工事施工者追加)'!F7&"" -> 5_5 | CJ4: ='第二面 (工事施工者追加)'!F8&"" -> 5_6 | CK4: ='第二面 (工事施工者追加)'!F10&"" -> 5_7 | CP4: ='第二面 (昇降機の概要追加)'!H4&"" -> 6_1 | CQ4: ='第二面 (昇降機の概要追加)'!H5&"" -> 6_2 | CR4: ='第二面 (昇降機の概要追加)'!I6&"" -> 6_3 | CS4: ='第二面 (昇降機の概要追加)'!I7&"" -> 6_4 | CT4: ='第二面 (昇降機の概要追加)'!I8&"" -> 6_5 | CU4: ='第二面 (昇降機の概要追加)'!H9&"" -> 6_6 | CV4: =DATE(第二面!H87,第二面!M87,第二面!P87) -> 45385 | CW4: =DATE(第二面!H90,第二面!M90,第二面!P90) -> 45386 | CY4: =DATE(第二面!F94,第二面!J94,第二面!L94) -> 45387 | DB4: =DATE(第二面!F95,第二面!J95,第二面!L95) -> 45388
AQ5: ='第二面 (設置者追加)'!G10&"" -> 3_6 | AR5: ='第二面 (設置者追加)'!G11&"" -> 3_7 | AS5: ='第二面 (設置者追加)'!G12&"" -> 3_8 | AT5: ='第二面 (設置者追加)'!G13&"" -> 3_9 | AU5: ='第二面 (設置者追加)'!G14&"" -> 3_10 | BS5: =第二面!E50&"" -> 2_53 | BT5: =第二面!M50&"" -> 2_54 | BU5: =第二面!T50&"" -> 2_55 | BV5: =第二面!E51&"" -> 2_56 | BW5: =第二面!H52&"" -> 2_57 | BX5: =第二面!N52&"" -> 2_58 | BY5: =第二面!U52&"" -> 2_59 | BZ5: =第二面!E53&"" -> 2_60 | CA5: =第二面!F54&"" -> 2_61 | CB5: =第二面!F55&"" -> 2_62 | CC5: =第二面!F57&"" -> 2_63 | CD5: =第二面!J58&"" -> 2_64 | CE5: ='第二面 (工事施工者追加)'!E12&"" -> 5_8 | CF5: ='第二面 (工事施工者追加)'!I13&"" -> 5_9 | CG5: ='第二面 (工事施工者追加)'!P13&"" -> 5_10 | CH5: ='第二面 (工事施工者追加)'!E14&"" -> 5_11 | CI5: ='第二面 (工事施工者追加)'!F15&"" -> 5_12 | CJ5: ='第二面 (工事施工者追加)'!F16&"" -> 5_13 | CK5: ='第二面 (工事施工者追加)'!F18&"" -> 5_14 | CP5: ='第二面 (昇降機の概要追加)'!H12&"" -> 6_7 | CQ5: ='第二面 (昇降機の概要追加)'!H13&"" -> 6_8 | CR5: ='第二面 (昇降機の概要追加)'!I14&"" -> 6_9 | CS5: ='第二面 (昇降機の概要追加)'!I15&"" -> 6_10 | CT5: ='第二面 (昇降機の概要追加)'!I16&"" -> 6_11 | CU5: ='第二面 (昇降機の概要追加)'!H17&"" -> 6_12
AQ6: ='第二面 (設置者追加)'!G16&"" -> 3_11 | AR6: ='第二面 (設置者追加)'!G17&"" -> 3_12 | AS6: ='第二面 (設置者追加)'!G18&"" -> 3_13 | AT6: ='第二面 (設置者追加)'!G19&"" -> 3_14 | AU6: ='第二面 (設置者追加)'!G20&"" -> 3_15 | BS6: ='第二面 (その他設計者追加)'!E5&"" -> 4_1 | BT6: ='第二面 (その他設計者追加)'!M5&"" -> 4_2 | BU6: ='第二面 (その他設計者追加)'!T5&"" -> 4_3 | BV6: ='第二面 (その他設計者追加)'!E6&"" -> 4_4 | BW6: ='第二面 (その他設計者追加)'!H7&"" -> 4_5 | BX6: ='第二面 (その他設計者追加)'!N7&"" -> 4_6 | BY6: ='第二面 (その他設計者追加)'!U7&"" -> 4_7 | BZ6: ='第二面 (その他設計者追加)'!E8&"" -> 4_8 | CA6: ='第二面 (その他設計者追加)'!F9&"" -> 4_9 | CB6: ='第二面 (その他設計者追加)'!F10&"" -> 4_10 | CC6: ='第二面 (その他設計者追加)'!F12&"" -> 4_11 | CD6: ='第二面 (その他設計者追加)'!J13&"" -> 4_12 | CE6: ='第二面 (工事施工者追加)'!E20&"" -> 5_15 | CF6: ='第二面 (工事施工者追加)'!I21&"" -> 5_16 | CG6: ='第二面 (工事施工者追加)'!P21&"" -> 5_17 | CH6: ='第二面 (工事施工者追加)'!E22&"" -> 5_18 | CI6: ='第二面 (工事施工者追加)'!F23&"" -> 5_19 | CJ6: ='第二面 (工事施工者追加)'!F24&"" -> 5_20 | CK6: ='第二面 (工事施工者追加)'!F26&"" -> 5_21 | CP6: ='第二面 (昇降機の概要追加)'!H20&"" -> 6_13 | CQ6: ='第二面 (昇降機の概要追加)'!H21&"" -> 6_14 | CR6: ='第二面 (昇降機の概要追加)'!I22&"" -> 6_15 | CS6: ='第二面 (昇降機の概要追加)'!I23&"" -> 6_16 | CT6: ='第二面 (昇降機の概要追加)'!I24&"" -> 6_17 | CU6: ='第二面 (昇降機の概要追加)'!H25&"" -> 6_18
AQ7: ='第二面 (設置者追加)'!G22&"" -> 3_16 | AR7: ='第二面 (設置者追加)'!G23&"" -> 3_17 | AS7: ='第二面 (設置者追加)'!G24&"" -> 3_18 | AT7: ='第二面 (設置者追加)'!G25&"" -> 3_19 | AU7: ='第二面 (設置者追加)'!G26&"" -> 3_20 | BS7: ='第二面 (その他設計者追加)'!E15&"" -> 4_13 | BT7: ='第二面 (その他設計者追加)'!M15&"" -> 4_14 | BU7: ='第二面 (その他設計者追加)'!T15&"" -> 4_15 | BV7: ='第二面 (その他設計者追加)'!E16&"" -> 4_16 | BW7: ='第二面 (その他設計者追加)'!H17&"" -> 4_17 | BX7: ='第二面 (その他設計者追加)'!N17&"" -> 4_18 | BY7: ='第二面 (その他設計者追加)'!U17&"" -> 4_19 | BZ7: ='第二面 (その他設計者追加)'!E18&"" -> 4_20 | CA7: ='第二面 (その他設計者追加)'!F19&"" -> 4_21 | CB7: ='第二面 (その他設計者追加)'!F20&"" -> 4_22 | CC7: ='第二面 (その他設計者追加)'!F22&"" -> 4_23 | CD7: ='第二面 (その他設計者追加)'!J23&"" -> 4_24 | CE7: ='第二面 (工事施工者追加)'!E28&"" -> 5_22 | CF7: ='第二面 (工事施工者追加)'!I29&"" -> 5_23 | CG7: ='第二面 (工事施工者追加)'!P29&"" -> 5_24 | CH7: ='第二面 (工事施工者追加)'!E30&"" -> 5_25 | CI7: ='第二面 (工事施工者追加)'!F31&"" -> 5_26 | CJ7: ='第二面 (工事施工者追加)'!F32&"" -> 5_27 | CK7: ='第二面 (工事施工者追加)'!F34&"" -> 5_28 | CP7: ='第二面 (昇降機の概要追加)'!H28&"" -> 6_19 | CQ7: ='第二面 (昇降機の概要追加)'!H29&"" -> 6_20 | CR7: ='第二面 (昇降機の概要追加)'!I30&"" -> 6_21 | CS7: ='第二面 (昇降機の概要追加)'!I31&"" -> 6_22 | CT7: ='第二面 (昇降機の概要追加)'!I32&"" -> 6_23 | CU7: ='第二面 (昇降機の概要追加)'!H33&"" -> 6_24
AQ8: ='第二面 (設置者追加)'!G28&"" -> 3_21 | AR8: ='第二面 (設置者追加)'!G29&"" -> 3_22 | AS8: ='第二面 (設置者追加)'!G30&"" -> 3_23 | AT8: ='第二面 (設置者追加)'!G31&"" -> 3_24 | AU8: ='第二面 (設置者追加)'!G32&"" -> 3_25 | BS8: ='第二面 (その他設計者追加)'!E25&"" -> 4_25 | BT8: ='第二面 (その他設計者追加)'!M25&"" -> 4_26 | BU8: ='第二面 (その他設計者追加)'!T25&"" -> 4_27 | BV8: ='第二面 (その他設計者追加)'!E26&"" -> 4_28 | BW8: ='第二面 (その他設計者追加)'!H27&"" -> 4_29 | BX8: ='第二面 (その他設計者追加)'!N27&"" -> 4_30 | BY8: ='第二面 (その他設計者追加)'!U27&"" -> 4_31 | BZ8: ='第二面 (その他設計者追加)'!E28&"" -> 4_32 | CA8: ='第二面 (その他設計者追加)'!F29&"" -> 4_33 | CB8: ='第二面 (その他設計者追加)'!F30&"" -> 4_34 | CC8: ='第二面 (その他設計者追加)'!F32&"" -> 4_35 | CD8: ='第二面 (その他設計者追加)'!J33&"" -> 4_36 | CE8: ='第二面 (工事施工者追加)'!E36&"" -> 5_29 | CF8: ='第二面 (工事施工者追加)'!I37&"" -> 5_30 | CG8: ='第二面 (工事施工者追加)'!P37&"" -> 5_31 | CH8: ='第二面 (工事施工者追加)'!E38&"" -> 5_32 | CI8: ='第二面 (工事施工者追加)'!F39&"" -> 5_33 | CJ8: ='第二面 (工事施工者追加)'!F40&"" -> 5_34 | CK8: ='第二面 (工事施工者追加)'!F42&"" -> 5_35 | CP8: ='第二面 (昇降機の概要追加)'!H36&"" -> 6_25 | CQ8: ='第二面 (昇降機の概要追加)'!H37&"" -> 6_26 | CR8: ='第二面 (昇降機の概要追加)'!I38&"" -> 6_27 | CS8: ='第二面 (昇降機の概要追加)'!I39&"" -> 6_28 | CT8: ='第二面 (昇降機の概要追加)'!I40&"" -> 6_29 | CU8: ='第二面 (昇降機の概要追加)'!H41&"" -> 6_30
AQ9: ='第二面 (設置者追加)'!G34&"" -> 3_26 | AR9: ='第二面 (設置者追加)'!G35&"" -> 3_27 | AS9: ='第二面 (設置者追加)'!G36&"" -> 3_28 | AT9: ='第二面 (設置者追加)'!G37&"" -> 3_29 | AU9: ='第二面 (設置者追加)'!G38&"" -> 3_30 | BS9: ='第二面 (その他設計者追加)'!E35&"" -> 4_37 | BT9: ='第二面 (その他設計者追加)'!M35&"" -> 4_38 | BU9: ='第二面 (その他設計者追加)'!T35&"" -> 4_39 | BV9: ='第二面 (その他設計者追加)'!E36&"" -> 4_40 | BW9: ='第二面 (その他設計者追加)'!H37&"" -> 4_41 | BX9: ='第二面 (その他設計者追加)'!N37&"" -> 4_42 | BY9: ='第二面 (その他設計者追加)'!U37&"" -> 4_43 | BZ9: ='第二面 (その他設計者追加)'!E38&"" -> 4_44 | CA9: ='第二面 (その他設計者追加)'!F39&"" -> 4_45 | CB9: ='第二面 (その他設計者追加)'!F40&"" -> 4_46 | CC9: ='第二面 (その他設計者追加)'!F42&"" -> 4_47 | CD9: ='第二面 (その他設計者追加)'!J43&"" -> 4_48 | CE9: ='第二面 (工事施工者追加)'!E44&"" -> 5_36 | CF9: ='第二面 (工事施工者追加)'!I45&"" -> 5_37 | CG9: ='第二面 (工事施工者追加)'!P45&"" -> 5_38 | CH9: ='第二面 (工事施工者追加)'!E46&"" -> 5_39 | CI9: ='第二面 (工事施工者追加)'!F47&"" -> 5_40 | CJ9: ='第二面 (工事施工者追加)'!F48&"" -> 5_41 | CK9: ='第二面 (工事施工者追加)'!F50&"" -> 5_42 | CP9: ='第二面 (昇降機の概要追加)'!H44&"" -> 6_31 | CQ9: ='第二面 (昇降機の概要追加)'!H45&"" -> 6_32 | CR9: ='第二面 (昇降機の概要追加)'!I46&"" -> 6_33 | CS9: ='第二面 (昇降機の概要追加)'!I47&"" -> 6_34 | CT9: ='第二面 (昇降機の概要追加)'!I48&"" -> 6_35 | CU9: ='第二面 (昇降機の概要追加)'!H49&"" -> 6_36
AQ10: ='第二面 (設置者追加)'!G40&"" -> 3_31 | AR10: ='第二面 (設置者追加)'!G41&"" -> 3_32 | AS10: ='第二面 (設置者追加)'!G42&"" -> 3_33 | AT10: ='第二面 (設置者追加)'!G43&"" -> 3_34 | AU10: ='第二面 (設置者追加)'!G44&"" -> 3_35 | BS10: ='第二面 (その他設計者追加)'!E45&"" -> 4_49 | BT10: ='第二面 (その他設計者追加)'!M45&"" -> 4_50 | BU10: ='第二面 (その他設計者追加)'!T45&"" -> 4_51 | BV10: ='第二面 (その他設計者追加)'!E46&"" -> 4_52 | BW10: ='第二面 (その他設計者追加)'!H47&"" -> 4_53 | BX10: ='第二面 (その他設計者追加)'!N47&"" -> 4_54 | BY10: ='第二面 (その他設計者追加)'!U47&"" -> 4_55 | BZ10: ='第二面 (その他設計者追加)'!E48&"" -> 4_56 | CA10: ='第二面 (その他設計者追加)'!F49&"" -> 4_57 | CB10: ='第二面 (その他設計者追加)'!F50&"" -> 4_58 | CC10: ='第二面 (その他設計者追加)'!F52&"" -> 4_59 | CD10: ='第二面 (その他設計者追加)'!J53&"" -> 4_60 | CE10: ='第二面 (工事施工者追加)'!E52&"" -> 5_43 | CF10: ='第二面 (工事施工者追加)'!I53&"" -> 5_44 | CG10: ='第二面 (工事施工者追加)'!P53&"" -> 5_45 | CH10: ='第二面 (工事施工者追加)'!E54&"" -> 5_46 | CI10: ='第二面 (工事施工者追加)'!F55&"" -> 5_47 | CJ10: ='第二面 (工事施工者追加)'!F56&"" -> 5_48 | CK10: ='第二面 (工事施工者追加)'!F58&"" -> 5_49 | CP10: ='第二面 (昇降機の概要追加)'!H52&"" -> 6_37 | CQ10: ='第二面 (昇降機の概要追加)'!H53&"" -> 6_38 | CR10: ='第二面 (昇降機の概要追加)'!I54&"" -> 6_39 | CS10: ='第二面 (昇降機の概要追加)'!I55&"" -> 6_40 | CT10: ='第二面 (昇降機の概要追加)'!I56&"" -> 6_41 | CU10: ='第二面 (昇降機の概要追加)'!H57&"" -> 6_42
AQ11: ='第二面 (設置者追加)'!G46&"" -> 3_36 | AR11: ='第二面 (設置者追加)'!G47&"" -> 3_37 | AS11: ='第二面 (設置者追加)'!G48&"" -> 3_38 | AT11: ='第二面 (設置者追加)'!G49&"" -> 3_39 | AU11: ='第二面 (設置者追加)'!G50&"" -> 3_40 | BS11: ='第二面 (その他設計者追加)'!E60&"" -> 4_61 | BT11: ='第二面 (その他設計者追加)'!M60&"" -> 4_62 | BU11: ='第二面 (その他設計者追加)'!T60&"" -> 4_63 | BV11: ='第二面 (その他設計者追加)'!E61&"" -> 4_64 | BW11: ='第二面 (その他設計者追加)'!H62&"" -> 4_65 | BX11: ='第二面 (その他設計者追加)'!N62&"" -> 4_66 | BY11: ='第二面 (その他設計者追加)'!U62&"" -> 4_67 | BZ11: ='第二面 (その他設計者追加)'!E63&"" -> 4_68 | CA11: ='第二面 (その他設計者追加)'!F64&"" -> 4_69 | CB11: ='第二面 (その他設計者追加)'!F65&"" -> 4_70 | CC11: ='第二面 (その他設計者追加)'!F67&"" -> 4_71 | CD11: ='第二面 (その他設計者追加)'!J68&"" -> 4_72 | CE11: ='第二面 (工事施工者追加)'!E60&"" -> 5_50 | CF11: ='第二面 (工事施工者追加)'!I61&"" -> 5_51 | CG11: ='第二面 (工事施工者追加)'!P61&"" -> 5_52 | CH11: ='第二面 (工事施工者追加)'!E62&"" -> 5_53 | CI11: ='第二面 (工事施工者追加)'!F63&"" -> 5_54 | CJ11: ='第二面 (工事施工者追加)'!F64&"" -> 5_55 | CK11: ='第二面 (工事施工者追加)'!F66&"" -> 5_56 | CP11: ='第二面 (昇降機の概要追加)'!H61&"" -> 6_43 | CQ11: ='第二面 (昇降機の概要追加)'!H62&"" -> 6_44 | CR11: ='第二面 (昇降機の概要追加)'!I63&"" -> 6_45 | CS11: ='第二面 (昇降機の概要追加)'!I64&"" -> 6_46 | CT11: ='第二面 (昇降機の概要追加)'!I65&"" -> 6_47 | CU11: ='第二面 (昇降機の概要追加)'!H66&"" -> 6_48
AQ12: ='第二面 (設置者追加)'!G52&"" -> 3_41 | AR12: ='第二面 (設置者追加)'!G53&"" -> 3_42 | AS12: ='第二面 (設置者追加)'!G54&"" -> 3_43 | AT12: ='第二面 (設置者追加)'!G55&"" -> 3_44 | AU12: ='第二面 (設置者追加)'!G56&"" -> 3_45 | BS12: ='第二面 (その他設計者追加)'!E70&"" -> 4_73 | BT12: ='第二面 (その他設計者追加)'!M70&"" -> 4_74 | BU12: ='第二面 (その他設計者追加)'!T70&"" -> 4_75 | BV12: ='第二面 (その他設計者追加)'!E71&"" -> 4_76 | BW12: ='第二面 (その他設計者追加)'!H72&"" -> 4_77 | BX12: ='第二面 (その他設計者追加)'!N72&"" -> 4_78 | BY12: ='第二面 (その他設計者追加)'!U72&"" -> 4_79 | BZ12: ='第二面 (その他設計者追加)'!E73&"" -> 4_80 | CA12: ='第二面 (その他設計者追加)'!F74&"" -> 4_81 | CB12: ='第二面 (その他設計者追加)'!F75&"" -> 4_82 | CC12: ='第二面 (その他設計者追加)'!F77&"" -> 4_83 | CD12: ='第二面 (その他設計者追加)'!J78&"" -> 4_84 | CE12: ='第二面 (工事施工者追加)'!E68&"" -> 5_57 | CF12: ='第二面 (工事施工者追加)'!I69&"" -> 5_58 | CG12: ='第二面 (工事施工者追加)'!P69&"" -> 5_59 | CH12: ='第二面 (工事施工者追加)'!E70&"" -> 5_60 | CI12: ='第二面 (工事施工者追加)'!F71&"" -> 5_61 | CJ12: ='第二面 (工事施工者追加)'!F72&"" -> 5_62 | CK12: ='第二面 (工事施工者追加)'!F74&"" -> 5_63 | CP12: ='第二面 (昇降機の概要追加)'!H69&"" -> 6_49 | CQ12: ='第二面 (昇降機の概要追加)'!H70&"" -> 6_50 | CR12: ='第二面 (昇降機の概要追加)'!I71&"" -> 6_51 | CS12: ='第二面 (昇降機の概要追加)'!I72&"" -> 6_52 | CT12: ='第二面 (昇降機の概要追加)'!I73&"" -> 6_53 | CU12: ='第二面 (昇降機の概要追加)'!H74&"" -> 6_54

Sheet 第一面
A1: 第九号様式（第二条の二、第三条の三関係）（昇降機用）（Ａ４）
I4: 計画変更確認申請書（昇降機）
I5: （第一面）
A9: 建築基準法第87条の4において準用する同法第６条第１項又は第６条の２第１項の規定による計画の変更の確認を申請します。この申請書及び添付図書に記載の事項は、事実に相違ありません。
A13: 1_1 | H13: 様
K16: 令和 | L16: 6 | M16: 年 | N16: 4 | O16: 月 | P16: 1 | Q16: 日
I18: 申請者氏名 | J18: 1_2
A21: 【計画を変更する昇降機の直前の確認】
A22: 【確認済証番号】 | F22: 1_3 | K22: 第 | L22: 1_4 | P22: 号
A23: 【確認済証交付年月日】 | G23: 令和 | H23: 6 | I23: 年 | J23: 4 | K23: 月 | L23: 2 | M23: 日
A24: 【確認済証交付者】 | F24: 1_5
A25: 【計画変更の概要】 | F25: 1_6
A29: ※手数料
A32: ※受付欄 | F32: ※決裁欄 | M32: ※確認番号欄
C34: 年 | D34: 月 | E34: 日 | O34: 年 | P34: 月 | Q34: 日
A36: 第 | E36: 号 | M36: 第 | Q36: 号
A38: 係員氏名 | M38: 係員氏名

Sheet 第二面
N1: （第二面）
A3: 【1.設置者】
A4: 【ｲ.氏名のﾌﾘｶﾞﾅ】 | G4: 2_1
A5: 【ﾛ.氏名】 | G5: 2_2
A6: 【ﾊ.郵便番号】 | F6: 〒 | G6: 2_3
A7: 【ﾆ.住所】 | G7: 2_4
A8: 【ﾎ.電話番号】 | G8: 2_5
A9: 【2.代理者】
A10: 【ｲ.資格】（ | E10: 2_6 | J10: ）建築士（ | M10: 2_7 | Q10: ）登録第 | T10: 2_8 | Y10: 号
A11: 【ﾛ.氏名】 | E11: 2_9
A12: 【ﾊ.建築士事務所名】（ | H12: 2_10 | J12: )建築士事務所( | N12: 2_11 | Q12: ）知事登録第 | U12: 2_12 | Y12: 号
E13: 2_13
A14: 【ﾆ.郵便番号】 | E14: 〒 | F14: 2_14
A15: 【ﾎ.所在地】 | F15: 2_15
A17: 【ﾍ.電話番号】 | F17: 2_16
A18: 【3.設計者】
A19: （代表となる設計者）
A20: 【ｲ.資格】（ | E20: 2_17 | J20: ）建築士（ | M20: 2_18 | Q20: ）登録第 | T20: 2_19 | Y20: 号
A21: 【ﾛ.氏名】 | E21: 2_20
A22: 【ﾊ.建築士事務所名】（ | H22: 2_21 | J22: )建築士事務所( | N22: 2_22 | Q22: ）知事登録第 | U22: 2_23 | Y22: 号
E23: 2_24
A24: 【ﾆ.郵便番号】 | E24: 〒 | F24: 2_25
A25: 【ﾎ.所在地】 | F25: 2_26
A27: 【ﾍ.電話番号】 | F27: 2_27
A28: 【ﾄ.作成した設計図書】 | J28: 2_28
A29: （その他の設計者）
A30: 【ｲ.資格】（ | E30: 2_29 | J30: ）建築士（ | M30: 2_30 | Q30: ）登録第 | T30: 2_31 | Y30: 号
A31: 【ﾛ.氏名】 | E31: 2_32
A32: 【ﾊ.建築士事務所名】（ | H32: 2_33 | J32: )建築士事務所( | N32: 2_34 | Q32: ）知事登録第 | U32: 2_35 | Y32: 号
E33: 2_36
A34: 【ﾆ.郵便番号】 | E34: 〒 | F34: 2_37
A35: 【ﾎ.所在地】 | F35: 2_38
A37: 【ﾍ.電話番号】 | F37: 2_39
A38: 【ﾄ.作成した設計図書】 | J38: 2_40
A40: 【ｲ.資格】（ | E40: 2_41 | J40: ）建築士（ | M40: 2_42 | Q40: ）登録第 | T40: 2_43 | Y40: 号
A41: 【ﾛ.氏名】 | E41: 2_44
A42: 【ﾊ.建築士事務所名】（ | H42: 2_45 | J42: )建築士事務所( | N42: 2_46 | Q42: ）知事登録第 | U42: 2_47 | Y42: 号
E43: 2_48
A44: 【ﾆ.郵便番号】 | E44: 〒 | F44: 2_49
A45: 【ﾎ.所在地】 | F45: 2_50
A47: 【ﾍ.電話番号】 | F47: 2_51
A48: 【ﾄ.作成した設計図書】 | J48: 2_52
A50: 【ｲ.資格】（ | E50: 2_53 | J50: ）建築士（ | M50: 2_54 | Q50: ）登録第 | T50: 2_55 | Y50: 号
A51: 【ﾛ.氏名】 | E51: 2_56
A52: 【ﾊ.建築士事務所名】（ | H52: 2_57 | J52: )建築士事務所( | N52: 2_58 | Q52: ）知事登録第 | U52: 2_59 | Y52: 号
E53: 2_60
A54: 【ﾆ.郵便番号】 | E54: 〒 | F54: 2_61
A55: 【ﾎ.所在地】 | F55: 2_62
A57: 【ﾍ.電話番号】 | F57: 2_63
A58: 【ﾄ.作成した設計図書】 | J58: 2_64
A60: 【4.工事施工者】
A61: 【ｲ.氏名】 | E61: 2_65
A62: 【ﾛ.営業所名】 建設業の許可( | I62: 2_66 | O62: )第 | P62: 2_67 | X62: 号
E63: 2_68
A64: 【ﾊ.郵便番号】 | E64: 〒 | F64: 2_69
A65: 【ﾆ.所在地】 | F65: 2_70
A67: 【ﾎ.電話番号】 | F67: 2_71
A70: 【5.設置する建築物又は工作物】
A71: 【ｲ.所在地】 | F71: 2_72
A73: 【ﾛ.名称のフリガナ】 | G73: 2_73
A74: 【ﾊ.名称】 | G74: 2_74
A75: 【ﾆ.用途】 | G75: 2_75
A78: 【6.昇降機の概要】 （番号 ）
A79: 【ｲ.種別】 | H79: 2_76
A80: 【ﾛ.用途】 | H80: 2_77
A81: 【ﾊ.積載荷重】 | I81: 2_78 | P81: N
A82: 【ﾆ.最大定員】 | I82: 2_79 | P82: 人
A83: 【ﾎ.定格速度】 | I83: 2_80 | P83: ｍ／分
A84: 【ﾍ.その他必要な事項】 | H84: 2_81
A87: 【7.工事着手予定年月日】 | H87: 2024 | L87: 年 | M87: 4 | O87: 月 | P87: 3 | R87: 日
A90: 【8.工事完了予定年月日】 | H90: 2024 | L90: 年 | M90: 4 | O90: 月 | P90: 4 | R90: 日
A93: 【9.特定工程工事終了予定年月日】 | S93: （特定工程）
B94: （第 | C94: 82 | D94: 回） | F94: 2024 | I94: 年 | J94: 4 | K94: 月 | L94: 5 | M94: 日 | N94: （ | O94: 2_83 | Y94: ）
B95: （第 | C95: 84 | D95: 回） | F95: 2024 | I95: 年 | J95: 4 | K95: 月 | L95: 6 | M95: 日 | N95: （ | O95: 2_85 | Y95: ）
A97: 【10.備考】
B99: 2_86

Sheet 第二面 (設置者追加)
N1: （第二面） | P1: 建築主等追加
A2: 建築主、設置者又は設置者等の概要
A3: 【1.設置者】
A4: 【ｲ.氏名のﾌﾘｶﾞﾅ】 | G4: 3_1
A5: 【ﾛ.氏名】 | G5: 3_2
A6: 【ﾊ.郵便番号】 | F6: 〒 | G6: 3_3
A7: 【ﾆ.住所】 | G7: 3_4
A8: 【ﾎ.電話番号】 | G8: 3_5
A10: 【ｲ.氏名のﾌﾘｶﾞﾅ】 | G10: 3_6
A11: 【ﾛ.氏名】 | G11: 3_7
A12: 【ﾊ.郵便番号】 | F12: 〒 | G12: 3_8
A13: 【ﾆ.住所】 | G13: 3_9
A14: 【ﾎ.電話番号】 | G14: 3_10
A16: 【ｲ.氏名のﾌﾘｶﾞﾅ】 | G16: 3_11
A17: 【ﾛ.氏名】 | G17: 3_12
A18: 【ﾊ.郵便番号】 | F18: 〒 | G18: 3_13
A19: 【ﾆ.住所】 | G19: 3_14
A20: 【ﾎ.電話番号】 | G20: 3_15
A22: 【ｲ.氏名のﾌﾘｶﾞﾅ】 | G22: 3_16
A23: 【ﾛ.氏名】 | G23: 3_17
A24: 【ﾊ.郵便番号】 | F24: 〒 | G24: 3_18
A25: 【ﾆ.住所】 | G25: 3_19
A26: 【ﾎ.電話番号】 | G26: 3_20
A28: 【ｲ.氏名のﾌﾘｶﾞﾅ】 | G28: 3_21
A29: 【ﾛ.氏名】 | G29: 3_22
A30: 【ﾊ.郵便番号】 | F30: 〒 | G30: 3_23
A31: 【ﾆ.住所】 | G31: 3_24
A32: 【ﾎ.電話番号】 | G32: 3_25
A34: 【ｲ.氏名のﾌﾘｶﾞﾅ】 | G34: 3_26
A35: 【ﾛ.氏名】 | G35: 3_27
A36: 【ﾊ.郵便番号】 | F36: 〒 | G36: 3_28
A37: 【ﾆ.住所】 | G37: 3_29
A38: 【ﾎ.電話番号】 | G38: 3_30
A40: 【ｲ.氏名のﾌﾘｶﾞﾅ】 | G40: 3_31
A41: 【ﾛ.氏名】 | G41: 3_32
A42: 【ﾊ.郵便番号】 | F42: 〒 | G42: 3_33
A43: 【ﾆ.住所】 | G43: 3_34
A44: 【ﾎ.電話番号】 | G44: 3_35
A46: 【ｲ.氏名のﾌﾘｶﾞﾅ】 | G46: 3_36
A47: 【ﾛ.氏名】 | G47: 3_37
A48: 【ﾊ.郵便番号】 | F48: 〒 | G48: 3_38
A49: 【ﾆ.住所】 | G49: 3_39
A50: 【ﾎ.電話番号】 | G50: 3_40
A52: 【ｲ.氏名のﾌﾘｶﾞﾅ】 | G52: 3_41
A53: 【ﾛ.氏名】 | G53: 3_42
A54: 【ﾊ.郵便番号】 | F54: 〒 | G54: 3_43
A55: 【ﾆ.住所】 | G55: 3_44
A56: 【ﾎ.電話番号】 | G56: 3_45

Sheet 第二面 (その他設計者追加)
N1: （第二面） | P1: その他設計者追加
A2: 建築主、設置者又は築造主等の概要
A3: 【3.設計者】
A4: （その他の設計者）
A5: 【ｲ.資格】（ | E5: 4_1 | J5: ）建築士（ | M5: 4_2 | Q5: ）登録第 | T5: 4_3 | Y5: 号
A6: 【ﾛ.氏名】 | E6: 4_4
A7: 【ﾊ.建築士事務所名】（ | H7: 4_5 | J7: )建築士事務所( | N7: 4_6 | Q7: ）知事登録第 | U7: 4_7 | Y7: 号
E8: 4_8
A9: 【ﾆ.郵便番号】 | E9: 〒 | F9: 4_9
A10: 【ﾎ.所在地】 | F10: 4_10
A12: 【ﾍ.電話番号】 | F12: 4_11
A13: 【ﾄ.作成した設計図書】 | J13: 4_12
A15: 【ｲ.資格】（ | E15: 4_13 | J15: ）建築士（ | M15: 4_14 | Q15: ）登録第 | T15: 4_15 | Y15: 号
A16: 【ﾛ.氏名】 | E16: 4_16
A17: 【ﾊ.建築士事務所名】（ | H17: 4_17 | J17: )建築士事務所( | N17: 4_18 | Q17: ）知事登録第 | U17: 4_19 | Y17: 号
E18: 4_20
A19: 【ﾆ.郵便番号】 | E19: 〒 | F19: 4_21
A20: 【ﾎ.所在地】 | F20: 4_22
A22: 【ﾍ.電話番号】 | F22: 4_23
A23: 【ﾄ.作成した設計図書】 | J23: 4_24
A25: 【ｲ.資格】（ | E25: 4_25 | J25: ）建築士（ | M25: 4_26 | Q25: ）登録第 | T25: 4_27 | Y25: 号
A26: 【ﾛ.氏名】 | E26: 4_28
A27: 【ﾊ.建築士事務所名】（ | H27: 4_29 | J27: )建築士事務所( | N27: 4_30 | Q27: ）知事登録第 | U27: 4_31 | Y27: 号
E28: 4_32
A29: 【ﾆ.郵便番号】 | E29: 〒 | F29: 4_33
A30: 【ﾎ.所在地】 | F30: 4_34
A32: 【ﾍ.電話番号】 | F32: 4_35
A33: 【ﾄ.作成した設計図書】 | J33: 4_36
A35: 【ｲ.資格】（ | E35: 4_37 | J35: ）建築士（ | M35: 4_38 | Q35: ）登録第 | T35: 4_39 | Y35: 号
A36: 【ﾛ.氏名】 | E36: 4_40
A37: 【ﾊ.建築士事務所名】（ | H37: 4_41 | J37: )建築士事務所( | N37: 4_42 | Q37: ）知事登録第 | U37: 4_43 | Y37: 号
E38: 4_44
A39: 【ﾆ.郵便番号】 | E39: 〒 | F39: 4_45
A40: 【ﾎ.所在地】 | F40: 4_46
A42: 【ﾍ.電話番号】 | F42: 4_47
A43: 【ﾄ.作成した設計図書】 | J43: 4_48
A45: 【ｲ.資格】（ | E45: 4_49 | J45: ）建築士（ | M45: 4_50 | Q45: ）登録第 | T45: 4_51 | Y45: 号
A46: 【ﾛ.氏名】 | E46: 4_52
A47: 【ﾊ.建築士事務所名】（ | H47: 4_53 | J47: )建築士事務所( | N47: 4_54 | Q47: ）知事登録第 | U47: 4_55 | Y47: 号
E48: 4_56
A49: 【ﾆ.郵便番号】 | E49: 〒 | F49: 4_57
A50: 【ﾎ.所在地】 | F50: 4_58
A52: 【ﾍ.電話番号】 | F52: 4_59
A53: 【ﾄ.作成した設計図書】 | J53: 4_60
A60: 【ｲ.資格】（ | E60: 4_61 | J60: ）建築士（ | M60: 4_62 | Q60: ）登録第 | T60: 4_63 | Y60: 号
A61: 【ﾛ.氏名】 | E61: 4_64
A62: 【ﾊ.建築士事務所名】（ | H62: 4_65 | J62: )建築士事務所( | N62: 4_66 | Q62: ）知事登録第 | U62: 4_67 | Y62: 号
E63: 4_68
A64: 【ﾆ.郵便番号】 | E64: 〒 | F64: 4_69
A65: 【ﾎ.所在地】 | F65: 4_70
A67: 【ﾍ.電話番号】 | F67: 4_71
A68: 【ﾄ.作成した設計図書】 | J68: 4_72
A70: 【ｲ.資格】（ | E70: 4_73 | J70: ）建築士（ | M70: 4_74 | Q70: ）登録第 | T70: 4_75 | Y70: 号
A71: 【ﾛ.氏名】 | E71: 4_76
A72: 【ﾊ.建築士事務所名】（ | H72: 4_77 | J72: )建築士事務所( | N72: 4_78 | Q72: ）知事登録第 | U72: 4_79 | Y72: 号
E73: 4_80
A74: 【ﾆ.郵便番号】 | E74: 〒 | F74: 4_81
A75: 【ﾎ.所在地】 | F75: 4_82
A77: 【ﾍ.電話番号】 | F77: 4_83
A78: 【ﾄ.作成した設計図書】 | J78: 4_84

Sheet 第二面 (工事施工者追加)
N1: （第二面）
A2: 建築主、設置者又は築造主等の概要
A3: 【6.工事施工者】
A4: 【ｲ.氏名】 | E4: 5_1
A5: 【ﾛ.営業所名】 建設業の許可( | I5: 5_2 | O5: )第 | P5: 5_3 | X5: 号
E6: 5_4
A7: 【ﾊ.郵便番号】 | E7: 〒 | F7: 5_5
A8: 【ﾆ.所在地】 | F8: 5_6
A10: 【ﾎ.電話番号】 | F10: 5_7
A12: 【ｲ.氏名】 | E12: 5_8
A13: 【ﾛ.営業所名】 建設業の許可( | I13: 5_9 | O13: )第 | P13: 5_10 | X13: 号
E14: 5_11
A15: 【ﾊ.郵便番号】 | E15: 〒 | F15: 5_12
A16: 【ﾆ.所在地】 | F16: 5_13
A18: 【ﾎ.電話番号】 | F18: 5_14
A20: 【ｲ.氏名】 | E20: 5_15
A21: 【ﾛ.営業所名】 建設業の許可( | I21: 5_16 | O21: )第 | P21: 5_17 | X21: 号
E22: 5_18
A23: 【ﾊ.郵便番号】 | E23: 〒 | F23: 5_19
A24: 【ﾆ.所在地】 | F24: 5_20
A26: 【ﾎ.電話番号】 | F26: 5_21
A28: 【ｲ.氏名】 | E28: 5_22
A29: 【ﾛ.営業所名】 建設業の許可( | I29: 5_23 | O29: )第 | P29: 5_24 | X29: 号
E30: 5_25
A31: 【ﾊ.郵便番号】 | E31: 〒 | F31: 5_26
A32: 【ﾆ.所在地】 | F32: 5_27
A34: 【ﾎ.電話番号】 | F34: 5_28
A36: 【ｲ.氏名】 | E36: 5_29
A37: 【ﾛ.営業所名】 建設業の許可( | I37: 5_30 | O37: )第 | P37: 5_31 | X37: 号
E38: 5_32
A39: 【ﾊ.郵便番号】 | E39: 〒 | F39: 5_33
A40: 【ﾆ.所在地】 | F40: 5_34
A42: 【ﾎ.電話番号】 | F42: 5_35
A44: 【ｲ.氏名】 | E44: 5_36
A45: 【ﾛ.営業所名】 建設業の許可( | I45: 5_37 | O45: )第 | P45: 5_38 | X45: 号
E46: 5_39
A47: 【ﾊ.郵便番号】 | E47: 〒 | F47: 5_40
A48: 【ﾆ.所在地】 | F48: 5_41
A50: 【ﾎ.電話番号】 | F50: 5_42
A52: 【ｲ.氏名】 | E52: 5_43
A53: 【ﾛ.営業所名】 建設業の許可( | I53: 5_44 | O53: )第 | P53: 5_45 | X53: 号
E54: 5_46
A55: 【ﾊ.郵便番号】 | E55: 〒 | F55: 5_47
A56: 【ﾆ.所在地】 | F56: 5_48
A58: 【ﾎ.電話番号】 | F58: 5_49
A60: 【ｲ.氏名】 | E60: 5_50
A61: 【ﾛ.営業所名】 建設業の許可( | I61: 5_51 | O61: )第 | P61: 5_52 | X61: 号
E62: 5_53
A63: 【ﾊ.郵便番号】 | E63: 〒 | F63: 5_54
A64: 【ﾆ.所在地】 | F64: 5_55
A66: 【ﾎ.電話番号】 | F66: 5_56
A68: 【ｲ.氏名】 | E68: 5_57
A69: 【ﾛ.営業所名】 建設業の許可( | I69: 5_58 | O69: )第 | P69: 5_59 | X69: 号
E70: 5_60
A71: 【ﾊ.郵便番号】 | E71: 〒 | F71: 5_61
A72: 【ﾆ.所在地】 | F72: 5_62
A74: 【ﾎ.電話番号】 | F74: 5_63

Sheet 第二面 (昇降機の概要追加)
N1: （第二面）
A3: 【6.昇降機の概要】 （番号 ） | H3: 2 | I3: ）
A4: 【ｲ.種別】 | H4: 6_1
A5: 【ﾛ.用途】 | H5: 6_2
A6: 【ﾊ.積載荷重】 | I6: 6_3 | P6: N
A7: 【ﾆ.最大定員】 | I7: 6_4 | P7: 人
A8: 【ﾎ.定格速度】 | I8: 6_5 | P8: ｍ／分
A9: 【ﾍ.その他必要な事項】 | H9: 6_6
A11: （番号 ３ ）
A12: 【ｲ.種別】 | H12: 6_7
A13: 【ﾛ.用途】 | H13: 6_8
A14: 【ﾊ.積載荷重】 | I14: 6_9 | P14: N
A15: 【ﾆ.最大定員】 | I15: 6_10 | P15: 人
A16: 【ﾎ.定格速度】 | I16: 6_11 | P16: ｍ／分
A17: 【ﾍ.その他必要な事項】 | H17: 6_12
A19: （番号 ４ ）
A20: 【ｲ.種別】 | H20: 6_13
A21: 【ﾛ.用途】 | H21: 6_14
A22: 【ﾊ.積載荷重】 | I22: 6_15 | P22: N
A23: 【ﾆ.最大定員】 | I23: 6_16 | P23: 人
A24: 【ﾎ.定格速度】 | I24: 6_17 | P24: ｍ／分
A25: 【ﾍ.その他必要な事項】 | H25: 6_18
A27: （番号 ５ ）
A28: 【ｲ.種別】 | H28: 6_19
A29: 【ﾛ.用途】 | H29: 6_20
A30: 【ﾊ.積載荷重】 | I30: 6_21 | P30: N
A31: 【ﾆ.最大定員】 | I31: 6_22 | P31: 人
A32: 【ﾎ.定格速度】 | I32: 6_23 | P32: ｍ／分
A33: 【ﾍ.その他必要な事項】 | H33: 6_24
A35: （番号 ６ ）
A36: 【ｲ.種別】 | H36: 6_25
A37: 【ﾛ.用途】 | H37: 6_26
A38: 【ﾊ.積載荷重】 | I38: 6_27 | P38: N
A39: 【ﾆ.最大定員】 | I39: 6_28 | P39: 人
A40: 【ﾎ.定格速度】 | I40: 6_29 | P40: ｍ／分
A41: 【ﾍ.その他必要な事項】 | H41: 6_30
A43: （番号 ７ ）
A44: 【ｲ.種別】 | H44: 6_31
A45: 【ﾛ.用途】 | H45: 6_32
A46: 【ﾊ.積載荷重】 | I46: 6_33 | P46: N
A47: 【ﾆ.最大定員】 | I47: 6_34 | P47: 人
A48: 【ﾎ.定格速度】 | I48: 6_35 | P48: ｍ／分
A49: 【ﾍ.その他必要な事項】 | H49: 6_36
A51: （番号 ８ ）
A52: 【ｲ.種別】 | H52: 6_37
A53: 【ﾛ.用途】 | H53: 6_38
A54: 【ﾊ.積載荷重】 | I54: 6_39 | P54: N
A55: 【ﾆ.最大定員】 | I55: 6_40 | P55: 人
A56: 【ﾎ.定格速度】 | I56: 6_41 | P56: ｍ／分
A57: 【ﾍ.その他必要な事項】 | H57: 6_42
A60: （番号 ９ ）
A61: 【ｲ.種別】 | H61: 6_43
A62: 【ﾛ.用途】 | H62: 6_44
A63: 【ﾊ.積載荷重】 | I63: 6_45 | P63: N
A64: 【ﾆ.最大定員】 | I64: 6_46 | P64: 人
A65: 【ﾎ.定格速度】 | I65: 6_47 | P65: ｍ／分
A66: 【ﾍ.その他必要な事項】 | H66: 6_48
A68: （番号 10 ）
A69: 【ｲ.種別】 | H69: 6_49
A70: 【ﾛ.用途】 | H70: 6_50
A71: 【ﾊ.積載荷重】 | I71: 6_51 | P71: N
A72: 【ﾆ.最大定員】 | I72: 6_52 | P72: 人
A73: 【ﾎ.定格速度】 | I73: 6_53 | P73: ｍ／分
A74: 【ﾍ.その他必要な事項】 | H74: 6_54
